BEGIN:VCALENDAR
VERSION:2.0
PRODID:-//USARA - Utah Recovers - ECPv6.15.18//NONSGML v1.0//EN
CALSCALE:GREGORIAN
METHOD:PUBLISH
X-ORIGINAL-URL:https://dev.utahrecovers.org
X-WR-CALDESC:Events for USARA - Utah Recovers
REFRESH-INTERVAL;VALUE=DURATION:PT1H
X-Robots-Tag:noindex
X-PUBLISHED-TTL:PT1H
BEGIN:VTIMEZONE
TZID:America/Denver
BEGIN:DAYLIGHT
TZOFFSETFROM:-0700
TZOFFSETTO:-0600
TZNAME:MDT
DTSTART:20240310T090000
END:DAYLIGHT
BEGIN:STANDARD
TZOFFSETFROM:-0600
TZOFFSETTO:-0700
TZNAME:MST
DTSTART:20241103T080000
END:STANDARD
BEGIN:DAYLIGHT
TZOFFSETFROM:-0700
TZOFFSETTO:-0600
TZNAME:MDT
DTSTART:20250309T090000
END:DAYLIGHT
BEGIN:STANDARD
TZOFFSETFROM:-0600
TZOFFSETTO:-0700
TZNAME:MST
DTSTART:20251102T080000
END:STANDARD
BEGIN:DAYLIGHT
TZOFFSETFROM:-0700
TZOFFSETTO:-0600
TZNAME:MDT
DTSTART:20260308T090000
END:DAYLIGHT
BEGIN:STANDARD
TZOFFSETFROM:-0600
TZOFFSETTO:-0700
TZNAME:MST
DTSTART:20261101T080000
END:STANDARD
END:VTIMEZONE
BEGIN:VEVENT
DTSTART;TZID=America/Denver:20250514T171500
DTEND;TZID=America/Denver:20250514T181500
DTSTAMP:20260423T104028
CREATED:20250414T232050Z
LAST-MODIFIED:20250416T234149Z
UID:10006364-1747242900-1747246500@dev.utahrecovers.org
SUMMARY:Yoga (In person @ Wellness Collective)
DESCRIPTION:
URL:https://dev.utahrecovers.org/meeting/yoga-in-person-wellness-collective-50/
LOCATION:Wellness Collective\, 76 S 100 W\, Moab\, UT\, United States
CATEGORIES:Moab Recovery Community Center
GEO:38.572151;-109.552761
X-APPLE-STRUCTURED-LOCATION;VALUE=URI;X-ADDRESS=Wellness Collective 76 S 100 W Moab UT United States;X-APPLE-RADIUS=500;X-TITLE=76 S 100 W:geo:-109.552761,38.572151
END:VEVENT
BEGIN:VEVENT
DTSTART;TZID=America/Denver:20250507T171500
DTEND;TZID=America/Denver:20250507T181500
DTSTAMP:20260423T104028
CREATED:20250407T232114Z
LAST-MODIFIED:20250416T234136Z
UID:10006261-1746638100-1746641700@dev.utahrecovers.org
SUMMARY:Yoga (In person @ Wellness Collective)
DESCRIPTION:
URL:https://dev.utahrecovers.org/meeting/yoga-in-person-wellness-collective-49/
LOCATION:Wellness Collective\, 76 S 100 W\, Moab\, UT\, United States
CATEGORIES:Moab Recovery Community Center
GEO:38.572151;-109.552761
X-APPLE-STRUCTURED-LOCATION;VALUE=URI;X-ADDRESS=Wellness Collective 76 S 100 W Moab UT United States;X-APPLE-RADIUS=500;X-TITLE=76 S 100 W:geo:-109.552761,38.572151
END:VEVENT
BEGIN:VEVENT
DTSTART;TZID=America/Denver:20250430T171500
DTEND;TZID=America/Denver:20250430T181500
DTSTAMP:20260423T104028
CREATED:20250331T232049Z
LAST-MODIFIED:20250416T234122Z
UID:10006159-1746033300-1746036900@dev.utahrecovers.org
SUMMARY:Yoga (In person @ Wellness Collective)
DESCRIPTION:
URL:https://dev.utahrecovers.org/meeting/yoga-in-person-wellness-collective-48/
LOCATION:Wellness Collective\, 76 S 100 W\, Moab\, UT\, United States
CATEGORIES:Moab Recovery Community Center
GEO:38.572151;-109.552761
X-APPLE-STRUCTURED-LOCATION;VALUE=URI;X-ADDRESS=Wellness Collective 76 S 100 W Moab UT United States;X-APPLE-RADIUS=500;X-TITLE=76 S 100 W:geo:-109.552761,38.572151
END:VEVENT
BEGIN:VEVENT
DTSTART;TZID=America/Denver:20250423T171500
DTEND;TZID=America/Denver:20250423T181500
DTSTAMP:20260423T104028
CREATED:20250324T232051Z
LAST-MODIFIED:20250416T234110Z
UID:10006059-1745428500-1745432100@dev.utahrecovers.org
SUMMARY:Yoga (In person @ Wellness Collective)
DESCRIPTION:
URL:https://dev.utahrecovers.org/meeting/yoga-in-person-wellness-collective-47/
LOCATION:Wellness Collective\, 76 S 100 W\, Moab\, UT\, United States
CATEGORIES:Moab Recovery Community Center
GEO:38.572151;-109.552761
X-APPLE-STRUCTURED-LOCATION;VALUE=URI;X-ADDRESS=Wellness Collective 76 S 100 W Moab UT United States;X-APPLE-RADIUS=500;X-TITLE=76 S 100 W:geo:-109.552761,38.572151
END:VEVENT
BEGIN:VEVENT
DTSTART;TZID=America/Denver:20250416T171500
DTEND;TZID=America/Denver:20250416T181500
DTSTAMP:20260423T104028
CREATED:20250317T224150Z
LAST-MODIFIED:20250416T234109Z
UID:10005952-1744823700-1744827300@dev.utahrecovers.org
SUMMARY:Yoga (In person @ Wellness Collective)
DESCRIPTION:
URL:https://dev.utahrecovers.org/meeting/yoga-in-person-wellness-collective-46/
LOCATION:Wellness Collective\, 76 S 100 W\, Moab\, UT\, United States
CATEGORIES:Moab Recovery Community Center
GEO:38.572151;-109.552761
X-APPLE-STRUCTURED-LOCATION;VALUE=URI;X-ADDRESS=Wellness Collective 76 S 100 W Moab UT United States;X-APPLE-RADIUS=500;X-TITLE=76 S 100 W:geo:-109.552761,38.572151
END:VEVENT
BEGIN:VEVENT
DTSTART;TZID=America/Denver:20250409T171500
DTEND;TZID=America/Denver:20250409T181500
DTSTAMP:20260423T104028
CREATED:20250310T224154Z
LAST-MODIFIED:20250409T232010Z
UID:10005836-1744218900-1744222500@dev.utahrecovers.org
SUMMARY:Yoga (In person @ Wellness Collective)
DESCRIPTION:
URL:https://dev.utahrecovers.org/meeting/yoga-in-person-wellness-collective-45/
LOCATION:Wellness Collective\, 76 S 100 W\, Moab\, UT\, United States
CATEGORIES:Moab Recovery Community Center
GEO:38.572151;-109.552761
X-APPLE-STRUCTURED-LOCATION;VALUE=URI;X-ADDRESS=Wellness Collective 76 S 100 W Moab UT United States;X-APPLE-RADIUS=500;X-TITLE=76 S 100 W:geo:-109.552761,38.572151
END:VEVENT
BEGIN:VEVENT
DTSTART;TZID=America/Denver:20250402T171500
DTEND;TZID=America/Denver:20250402T181500
DTSTAMP:20260423T104028
CREATED:20250303T224151Z
LAST-MODIFIED:20250402T232009Z
UID:10005745-1743614100-1743617700@dev.utahrecovers.org
SUMMARY:Yoga (In person @ Wellness Collective)
DESCRIPTION:
URL:https://dev.utahrecovers.org/meeting/yoga-in-person-wellness-collective-44/
LOCATION:Wellness Collective\, 76 S 100 W\, Moab\, UT\, United States
CATEGORIES:Moab Recovery Community Center
GEO:38.572151;-109.552761
X-APPLE-STRUCTURED-LOCATION;VALUE=URI;X-ADDRESS=Wellness Collective 76 S 100 W Moab UT United States;X-APPLE-RADIUS=500;X-TITLE=76 S 100 W:geo:-109.552761,38.572151
END:VEVENT
END:VCALENDAR