BEGIN:VCALENDAR
VERSION:2.0
PRODID:-//USARA - Utah Recovers - ECPv6.15.18//NONSGML v1.0//EN
CALSCALE:GREGORIAN
METHOD:PUBLISH
X-WR-CALNAME:USARA - Utah Recovers
X-ORIGINAL-URL:https://dev.utahrecovers.org
X-WR-CALDESC:Events for USARA - Utah Recovers
REFRESH-INTERVAL;VALUE=DURATION:PT1H
X-Robots-Tag:noindex
X-PUBLISHED-TTL:PT1H
BEGIN:VTIMEZONE
TZID:America/Denver
BEGIN:DAYLIGHT
TZOFFSETFROM:-0700
TZOFFSETTO:-0600
TZNAME:MDT
DTSTART:20240310T090000
END:DAYLIGHT
BEGIN:STANDARD
TZOFFSETFROM:-0600
TZOFFSETTO:-0700
TZNAME:MST
DTSTART:20241103T080000
END:STANDARD
BEGIN:DAYLIGHT
TZOFFSETFROM:-0700
TZOFFSETTO:-0600
TZNAME:MDT
DTSTART:20250309T090000
END:DAYLIGHT
BEGIN:STANDARD
TZOFFSETFROM:-0600
TZOFFSETTO:-0700
TZNAME:MST
DTSTART:20251102T080000
END:STANDARD
BEGIN:DAYLIGHT
TZOFFSETFROM:-0700
TZOFFSETTO:-0600
TZNAME:MDT
DTSTART:20260308T090000
END:DAYLIGHT
BEGIN:STANDARD
TZOFFSETFROM:-0600
TZOFFSETTO:-0700
TZNAME:MST
DTSTART:20261101T080000
END:STANDARD
BEGIN:DAYLIGHT
TZOFFSETFROM:-0700
TZOFFSETTO:-0600
TZNAME:MDT
DTSTART:20270314T090000
END:DAYLIGHT
BEGIN:STANDARD
TZOFFSETFROM:-0600
TZOFFSETTO:-0700
TZNAME:MST
DTSTART:20271107T080000
END:STANDARD
END:VTIMEZONE
BEGIN:VEVENT
DTSTART;TZID=America/Denver:20260206T200000
DTEND;TZID=America/Denver:20260206T210000
DTSTAMP:20260423T123150
CREATED:20260119T185334Z
LAST-MODIFIED:20260119T185334Z
UID:10006996-1770408000-1770411600@dev.utahrecovers.org
SUMMARY:Leather\, Fetish\, and Kink in Recovery CMA (In person)
DESCRIPTION:Contacts \n\nJames Jordan Greenwell\n\ncell: (435) 901-7678\nemail: greenwelljordan@gmail.com
URL:https://dev.utahrecovers.org/meeting/leather-fetish-and-kink-in-recovery-cma-in-person-57/
LOCATION:Utah Support Advocates for Recovery Awareness – USARA\, 180 E 2100 S #100\, Salt Lake City\, UT 84115\, USA\, SLC RCC-2-Suite 203-Suite 203 Group Room (40)
CATEGORIES:Salt Lake Recovery Community Center
END:VEVENT
BEGIN:VEVENT
DTSTART;TZID=America/Denver:20260205T190000
DTEND;TZID=America/Denver:20260205T200000
DTSTAMP:20260423T123150
CREATED:20260119T185333Z
LAST-MODIFIED:20260119T185333Z
UID:10006993-1770318000-1770321600@dev.utahrecovers.org
SUMMARY:Sexaholics Anonymous (In person)
DESCRIPTION:Contacts \n\nJerred\n\njerredburton@gmail.com
URL:https://dev.utahrecovers.org/meeting/sexaholics-anonymous-in-person-58/
LOCATION:Utah Support Advocates for Recovery Awareness – USARA\, 180 E 2100 S #100\, Salt Lake City\, UT 84115\, USA\, SLC RCC-2-Suite 203-Suite 203 Group Room (40)
CATEGORIES:Salt Lake Recovery Community Center
END:VEVENT
BEGIN:VEVENT
DTSTART;TZID=America/Denver:20260205T170000
DTEND;TZID=America/Denver:20260205T183000
DTSTAMP:20260423T123150
CREATED:20260119T185333Z
LAST-MODIFIED:20260119T185333Z
UID:10006992-1770310800-1770316200@dev.utahrecovers.org
SUMMARY:Clean Slate Utah & SJ Quinney College of Law Expungement Clinic (In person)
DESCRIPTION:
URL:https://dev.utahrecovers.org/meeting/clean-slate-utah-sj-quinney-college-of-law-expungement-clinic-in-person/
LOCATION:Utah Support Advocates for Recovery Awareness – USARA\, 180 E 2100 S #100\, Salt Lake City\, UT 84115\, USA\, SLC RCC-2-Suite 203-Suite 203 Group Room (40)
CATEGORIES:Salt Lake Recovery Community Center
END:VEVENT
BEGIN:VEVENT
DTSTART;TZID=America/Denver:20260204T180000
DTEND;TZID=America/Denver:20260204T193000
DTSTAMP:20260423T123150
CREATED:20260119T185320Z
LAST-MODIFIED:20260119T185320Z
UID:10006988-1770228000-1770233400@dev.utahrecovers.org
SUMMARY:SMART Recovery (Hybrid - join virtually or in person!)
DESCRIPTION:https://meet.google.com/eqj-itap-ibd \nContacts \n\nDeano\n\ncell: (801) 648-5442
URL:https://dev.utahrecovers.org/meeting/smart-recovery-hybrid-join-virtually-or-in-person-217/
LOCATION:Utah Support Advocates for Recovery Awareness – USARA\, 180 E 2100 S #100\, Salt Lake City\, UT 84115\, USA\, SLC RCC-2-Suite 203-Suite 203 Group Room (40)
CATEGORIES:Salt Lake Recovery Community Center
END:VEVENT
BEGIN:VEVENT
DTSTART;TZID=America/Denver:20260202T190000
DTEND;TZID=America/Denver:20260202T200000
DTSTAMP:20260423T123150
CREATED:20260119T185308Z
LAST-MODIFIED:20260119T185308Z
UID:10006978-1770058800-1770062400@dev.utahrecovers.org
SUMMARY:SLAA Keys to the Kingdom (Hybrid - join virtually or in person!)
DESCRIPTION:https://us06web.zoom.us/j/85794034807?pwd=URUt6a4WAEshIr7IKpYagkFvD9Aj6b.1
URL:https://dev.utahrecovers.org/meeting/slaa-keys-to-the-kingdom-hybrid-join-virtually-or-in-person-111/
LOCATION:Utah Support Advocates for Recovery Awareness – USARA\, 180 E 2100 S #100\, Salt Lake City\, UT 84115\, USA\, SLC RCC-2-Suite 203-Suite 203 Group Room (40)
CATEGORIES:Salt Lake Recovery Community Center
END:VEVENT
BEGIN:VEVENT
DTSTART;TZID=America/Denver:20260201T180000
DTEND;TZID=America/Denver:20260201T190000
DTSTAMP:20260423T123150
CREATED:20260119T185308Z
LAST-MODIFIED:20260119T185308Z
UID:10006976-1769968800-1769972400@dev.utahrecovers.org
SUMMARY:Sexaholics Anonymous (Hybrid - join virtually or in person!)
DESCRIPTION:https://zoom.us/j/608422086?pwd=Y1VmV2xsSWc4QVpaR3FHZDNOZnJsZz09
URL:https://dev.utahrecovers.org/meeting/sexaholics-anonymous-hybrid-join-virtually-or-in-person-74/
LOCATION:Utah Support Advocates for Recovery Awareness – USARA\, 180 E 2100 S #100\, Salt Lake City\, UT 84115\, USA\, SLC RCC-2-Suite 203-Suite 203 Group Room (40)
CATEGORIES:Salt Lake Recovery Community Center
END:VEVENT
BEGIN:VEVENT
DTSTART;TZID=America/Denver:20260201T133000
DTEND;TZID=America/Denver:20260201T143000
DTSTAMP:20260423T123150
CREATED:20260119T185308Z
LAST-MODIFIED:20260119T185308Z
UID:10006974-1769952600-1769956200@dev.utahrecovers.org
SUMMARY:Clean\, Sober\, and Proud CMA - LGBTQ+ Focus (In person)
DESCRIPTION:Contacts \n\nBuzz T\n\ncell: (801) 664-5225\nemail: actalbotslc@gmail.com
URL:https://dev.utahrecovers.org/meeting/clean-sober-and-proud-cma-lgbtq-focus-in-person-56/
LOCATION:Utah Support Advocates for Recovery Awareness – USARA\, 180 E 2100 S #100\, Salt Lake City\, UT 84115\, USA\, SLC RCC-2-Suite 203-Suite 203 Group Room (40)
CATEGORIES:Salt Lake Recovery Community Center
END:VEVENT
BEGIN:VEVENT
DTSTART;TZID=America/Denver:20260131T083000
DTEND;TZID=America/Denver:20260131T093000
DTSTAMP:20260423T123150
CREATED:20260119T185256Z
LAST-MODIFIED:20260119T185256Z
UID:10006969-1769848200-1769851800@dev.utahrecovers.org
SUMMARY:Sexaholics Anonymous (Hybrid - join online or in person!)
DESCRIPTION:https://us02web.zoom.us/j/86238197798?pwd=OTA2ZmY5YUVzcURMRllId3JyRVliZz09
URL:https://dev.utahrecovers.org/meeting/sexaholics-anonymous-hybrid-join-online-or-in-person-108/
LOCATION:Utah Support Advocates for Recovery Awareness – USARA\, 180 E 2100 S #100\, Salt Lake City\, UT 84115\, USA\, SLC RCC-2-Suite 203-Suite 203 Group Room (40)
CATEGORIES:Salt Lake Recovery Community Center
END:VEVENT
BEGIN:VEVENT
DTSTART;TZID=America/Denver:20260130T200000
DTEND;TZID=America/Denver:20260130T210000
DTSTAMP:20260423T123150
CREATED:20260119T185256Z
LAST-MODIFIED:20260119T185256Z
UID:10006968-1769803200-1769806800@dev.utahrecovers.org
SUMMARY:Leather\, Fetish\, and Kink in Recovery CMA (In person)
DESCRIPTION:Contacts \n\nJames Jordan Greenwell\n\ncell: (435) 901-7678\nemail: greenwelljordan@gmail.com
URL:https://dev.utahrecovers.org/meeting/leather-fetish-and-kink-in-recovery-cma-in-person-56/
LOCATION:Utah Support Advocates for Recovery Awareness – USARA\, 180 E 2100 S #100\, Salt Lake City\, UT 84115\, USA\, SLC RCC-2-Suite 203-Suite 203 Group Room (40)
CATEGORIES:Salt Lake Recovery Community Center
END:VEVENT
BEGIN:VEVENT
DTSTART;TZID=America/Denver:20260129T190000
DTEND;TZID=America/Denver:20260129T200000
DTSTAMP:20260423T123150
CREATED:20260119T185255Z
LAST-MODIFIED:20260119T185255Z
UID:10006963-1769713200-1769716800@dev.utahrecovers.org
SUMMARY:Sexaholics Anonymous (In person)
DESCRIPTION:Contacts \n\nJerred\n\njerredburton@gmail.com
URL:https://dev.utahrecovers.org/meeting/sexaholics-anonymous-in-person-57/
LOCATION:Utah Support Advocates for Recovery Awareness – USARA\, 180 E 2100 S #100\, Salt Lake City\, UT 84115\, USA\, SLC RCC-2-Suite 203-Suite 203 Group Room (40)
CATEGORIES:Salt Lake Recovery Community Center
END:VEVENT
BEGIN:VEVENT
DTSTART;TZID=America/Denver:20260128T180000
DTEND;TZID=America/Denver:20260128T193000
DTSTAMP:20260423T123150
CREATED:20260119T185244Z
LAST-MODIFIED:20260119T185244Z
UID:10006960-1769623200-1769628600@dev.utahrecovers.org
SUMMARY:SMART Recovery (Hybrid - join virtually or in person!)
DESCRIPTION:https://meet.google.com/eqj-itap-ibd \nContacts \n\nDeano\n\ncell: (801) 648-5442
URL:https://dev.utahrecovers.org/meeting/smart-recovery-hybrid-join-virtually-or-in-person-215/
LOCATION:Utah Support Advocates for Recovery Awareness – USARA\, 180 E 2100 S #100\, Salt Lake City\, UT 84115\, USA\, SLC RCC-2-Suite 203-Suite 203 Group Room (40)
CATEGORIES:Salt Lake Recovery Community Center
END:VEVENT
BEGIN:VEVENT
DTSTART;TZID=America/Denver:20260126T190000
DTEND;TZID=America/Denver:20260126T200000
DTSTAMP:20260423T123150
CREATED:20260119T185243Z
LAST-MODIFIED:20260119T185243Z
UID:10006952-1769454000-1769457600@dev.utahrecovers.org
SUMMARY:SLAA Keys to the Kingdom (Hybrid - join virtually or in person!)
DESCRIPTION:https://us06web.zoom.us/j/85794034807?pwd=URUt6a4WAEshIr7IKpYagkFvD9Aj6b.1
URL:https://dev.utahrecovers.org/meeting/slaa-keys-to-the-kingdom-hybrid-join-virtually-or-in-person-110/
LOCATION:Utah Support Advocates for Recovery Awareness – USARA\, 180 E 2100 S #100\, Salt Lake City\, UT 84115\, USA\, SLC RCC-2-Suite 203-Suite 203 Group Room (40)
CATEGORIES:Salt Lake Recovery Community Center
END:VEVENT
BEGIN:VEVENT
DTSTART;TZID=America/Denver:20260125T180000
DTEND;TZID=America/Denver:20260125T190000
DTSTAMP:20260423T123150
CREATED:20260119T185231Z
LAST-MODIFIED:20260119T185231Z
UID:10006948-1769364000-1769367600@dev.utahrecovers.org
SUMMARY:Sexaholics Anonymous (Hybrid - join virtually or in person!)
DESCRIPTION:https://zoom.us/j/608422086?pwd=Y1VmV2xsSWc4QVpaR3FHZDNOZnJsZz09
URL:https://dev.utahrecovers.org/meeting/sexaholics-anonymous-hybrid-join-virtually-or-in-person-73/
LOCATION:Utah Support Advocates for Recovery Awareness – USARA\, 180 E 2100 S #100\, Salt Lake City\, UT 84115\, USA\, SLC RCC-2-Suite 203-Suite 203 Group Room (40)
CATEGORIES:Salt Lake Recovery Community Center
END:VEVENT
BEGIN:VEVENT
DTSTART;TZID=America/Denver:20260125T133000
DTEND;TZID=America/Denver:20260125T143000
DTSTAMP:20260423T123150
CREATED:20260119T185231Z
LAST-MODIFIED:20260119T185231Z
UID:10006946-1769347800-1769351400@dev.utahrecovers.org
SUMMARY:Clean\, Sober\, and Proud CMA - LGBTQ+ Focus (In person)
DESCRIPTION:Contacts \n\nBuzz T\n\ncell: (801) 664-5225\nemail: actalbotslc@gmail.com
URL:https://dev.utahrecovers.org/meeting/clean-sober-and-proud-cma-lgbtq-focus-in-person-55/
LOCATION:Utah Support Advocates for Recovery Awareness – USARA\, 180 E 2100 S #100\, Salt Lake City\, UT 84115\, USA\, SLC RCC-2-Suite 203-Suite 203 Group Room (40)
CATEGORIES:Salt Lake Recovery Community Center
END:VEVENT
BEGIN:VEVENT
DTSTART;TZID=America/Denver:20260124T083000
DTEND;TZID=America/Denver:20260124T093000
DTSTAMP:20260423T123150
CREATED:20260119T185230Z
LAST-MODIFIED:20260119T185230Z
UID:10006942-1769243400-1769247000@dev.utahrecovers.org
SUMMARY:Sexaholics Anonymous (Hybrid - join online or in person!)
DESCRIPTION:https://us02web.zoom.us/j/86238197798?pwd=OTA2ZmY5YUVzcURMRllId3JyRVliZz09
URL:https://dev.utahrecovers.org/meeting/sexaholics-anonymous-hybrid-join-online-or-in-person-107/
LOCATION:Utah Support Advocates for Recovery Awareness – USARA\, 180 E 2100 S #100\, Salt Lake City\, UT 84115\, USA\, SLC RCC-2-Suite 203-Suite 203 Group Room (40)
CATEGORIES:Salt Lake Recovery Community Center
END:VEVENT
BEGIN:VEVENT
DTSTART;TZID=America/Denver:20260123T200000
DTEND;TZID=America/Denver:20260123T210000
DTSTAMP:20260423T123150
CREATED:20260119T185218Z
LAST-MODIFIED:20260119T185218Z
UID:10006940-1769198400-1769202000@dev.utahrecovers.org
SUMMARY:Leather\, Fetish\, and Kink in Recovery CMA (In person)
DESCRIPTION:Contacts \n\nJames Jordan Greenwell\n\ncell: (435) 901-7678\nemail: greenwelljordan@gmail.com
URL:https://dev.utahrecovers.org/meeting/leather-fetish-and-kink-in-recovery-cma-in-person-55/
LOCATION:Utah Support Advocates for Recovery Awareness – USARA\, 180 E 2100 S #100\, Salt Lake City\, UT 84115\, USA\, SLC RCC-2-Suite 203-Suite 203 Group Room (40)
CATEGORIES:Salt Lake Recovery Community Center
END:VEVENT
BEGIN:VEVENT
DTSTART;TZID=America/Denver:20260122T190000
DTEND;TZID=America/Denver:20260122T200000
DTSTAMP:20260423T123150
CREATED:20260119T185218Z
LAST-MODIFIED:20260119T185218Z
UID:10006936-1769108400-1769112000@dev.utahrecovers.org
SUMMARY:Sexaholics Anonymous (In person)
DESCRIPTION:Contacts \n\nJerred\n\njerredburton@gmail.com
URL:https://dev.utahrecovers.org/meeting/sexaholics-anonymous-in-person-56/
LOCATION:Utah Support Advocates for Recovery Awareness – USARA\, 180 E 2100 S #100\, Salt Lake City\, UT 84115\, USA\, SLC RCC-2-Suite 203-Suite 203 Group Room (40)
CATEGORIES:Salt Lake Recovery Community Center
END:VEVENT
BEGIN:VEVENT
DTSTART;TZID=America/Denver:20260122T180000
DTEND;TZID=America/Denver:20260122T190000
DTSTAMP:20260423T123150
CREATED:20260119T185218Z
LAST-MODIFIED:20260119T185218Z
UID:10006937-1769104800-1769108400@dev.utahrecovers.org
SUMMARY:Treatment Court Alumni Group (In person)
DESCRIPTION:
URL:https://dev.utahrecovers.org/meeting/treatment-court-alumni-group-in-person-23/
LOCATION:Utah Support Advocates for Recovery Awareness – USARA\, 180 E 2100 S #100\, Salt Lake City\, UT 84115\, USA\, SLC RCC-2-Suite 203-Suite 203 Group Room (40)
CATEGORIES:Salt Lake Recovery Community Center
END:VEVENT
BEGIN:VEVENT
DTSTART;TZID=America/Denver:20260122T180000
DTEND;TZID=America/Denver:20260122T190000
DTSTAMP:20260423T123150
CREATED:20260119T185217Z
LAST-MODIFIED:20260119T185217Z
UID:10006935-1769104800-1769108400@dev.utahrecovers.org
SUMMARY:Treatment Court Alumni Group (In person)
DESCRIPTION:
URL:https://dev.utahrecovers.org/meeting/treatment-court-alumni-group-in-person-22/
LOCATION:Utah Support Advocates for Recovery Awareness – USARA\, 180 E 2100 S #100\, Salt Lake City\, UT 84115\, USA\, SLC RCC-2-Suite 203-Suite 203 Group Room (40)
CATEGORIES:Salt Lake Recovery Community Center
END:VEVENT
BEGIN:VEVENT
DTSTART;TZID=America/Denver:20260121T180000
DTEND;TZID=America/Denver:20260121T193000
DTSTAMP:20260423T123150
CREATED:20260119T185206Z
LAST-MODIFIED:20260119T185206Z
UID:10006930-1769018400-1769023800@dev.utahrecovers.org
SUMMARY:SMART Recovery (Hybrid - join virtually or in person!)
DESCRIPTION:https://meet.google.com/eqj-itap-ibd \nContacts \n\nDeano\n\ncell: (801) 648-5442
URL:https://dev.utahrecovers.org/meeting/smart-recovery-hybrid-join-virtually-or-in-person-213/
LOCATION:Utah Support Advocates for Recovery Awareness – USARA\, 180 E 2100 S #100\, Salt Lake City\, UT 84115\, USA\, SLC RCC-2-Suite 203-Suite 203 Group Room (40)
CATEGORIES:Salt Lake Recovery Community Center
END:VEVENT
BEGIN:VEVENT
DTSTART;TZID=America/Denver:20260119T190000
DTEND;TZID=America/Denver:20260119T200000
DTSTAMP:20260423T123150
CREATED:20260119T185205Z
LAST-MODIFIED:20260119T185205Z
UID:10006924-1768849200-1768852800@dev.utahrecovers.org
SUMMARY:SLAA Keys to the Kingdom (Hybrid - join virtually or in person!)
DESCRIPTION:https://us06web.zoom.us/j/85794034807?pwd=URUt6a4WAEshIr7IKpYagkFvD9Aj6b.1
URL:https://dev.utahrecovers.org/meeting/slaa-keys-to-the-kingdom-hybrid-join-virtually-or-in-person-109/
LOCATION:Utah Support Advocates for Recovery Awareness – USARA\, 180 E 2100 S #100\, Salt Lake City\, UT 84115\, USA\, SLC RCC-2-Suite 203-Suite 203 Group Room (40)
CATEGORIES:Salt Lake Recovery Community Center
END:VEVENT
BEGIN:VEVENT
DTSTART;TZID=America/Denver:20250816T083000
DTEND;TZID=America/Denver:20250816T093000
DTSTAMP:20260423T123150
CREATED:20250717T162331Z
LAST-MODIFIED:20250717T162331Z
UID:10006871-1755333000-1755336600@dev.utahrecovers.org
SUMMARY:Sexaholics Anonymous (Hybrid - join online or in person!)
DESCRIPTION:https://us02web.zoom.us/j/86238197798?pwd=OTA2ZmY5YUVzcURMRllId3JyRVliZz09
URL:https://dev.utahrecovers.org/meeting/sexaholics-anonymous-hybrid-join-online-or-in-person-106/
LOCATION:Utah Support Advocates for Recovery Awareness – USARA\, 180 E 2100 S #100\, Salt Lake City\, UT 84115\, USA\, SLC RCC-2-Suite 203-Suite 203 Group Room (40)
CATEGORIES:Salt Lake Recovery Community Center
END:VEVENT
BEGIN:VEVENT
DTSTART;TZID=America/Denver:20250815T200000
DTEND;TZID=America/Denver:20250815T210000
DTSTAMP:20260423T123150
CREATED:20250717T162331Z
LAST-MODIFIED:20250717T162331Z
UID:10006870-1755288000-1755291600@dev.utahrecovers.org
SUMMARY:Leather\, Fetish\, and Kink in Recovery CMA (In person)
DESCRIPTION:Contacts \n\nJames Jordan Greenwell\n\ncell: (435) 901-7678\nemail: greenwelljordan@gmail.com
URL:https://dev.utahrecovers.org/meeting/leather-fetish-and-kink-in-recovery-cma-in-person-54/
LOCATION:Utah Support Advocates for Recovery Awareness – USARA\, 180 E 2100 S #100\, Salt Lake City\, UT 84115\, USA\, SLC RCC-2-Suite 203-Suite 203 Group Room (40)
CATEGORIES:Salt Lake Recovery Community Center
END:VEVENT
BEGIN:VEVENT
DTSTART;TZID=America/Denver:20250814T190000
DTEND;TZID=America/Denver:20250814T200000
DTSTAMP:20260423T123150
CREATED:20250717T162331Z
LAST-MODIFIED:20250717T162331Z
UID:10006866-1755198000-1755201600@dev.utahrecovers.org
SUMMARY:Sexaholics Anonymous (In person)
DESCRIPTION:Contacts \n\nJerred\n\njerredburton@gmail.com
URL:https://dev.utahrecovers.org/meeting/sexaholics-anonymous-in-person-55/
LOCATION:Utah Support Advocates for Recovery Awareness – USARA\, 180 E 2100 S #100\, Salt Lake City\, UT 84115\, USA\, SLC RCC-2-Suite 203-Suite 203 Group Room (40)
CATEGORIES:Salt Lake Recovery Community Center
END:VEVENT
BEGIN:VEVENT
DTSTART;TZID=America/Denver:20250814T180000
DTEND;TZID=America/Denver:20250814T190000
DTSTAMP:20260423T123150
CREATED:20250717T162331Z
LAST-MODIFIED:20250717T162331Z
UID:10006867-1755194400-1755198000@dev.utahrecovers.org
SUMMARY:Treatment Court Alumni Group (In person)
DESCRIPTION:
URL:https://dev.utahrecovers.org/meeting/treatment-court-alumni-group-in-person-21/
LOCATION:Utah Support Advocates for Recovery Awareness – USARA\, 180 E 2100 S #100\, Salt Lake City\, UT 84115\, USA\, SLC RCC-2-Suite 203-Suite 203 Group Room (40)
CATEGORIES:Salt Lake Recovery Community Center
END:VEVENT
BEGIN:VEVENT
DTSTART;TZID=America/Denver:20250813T180000
DTEND;TZID=America/Denver:20250813T193000
DTSTAMP:20260423T123150
CREATED:20250717T162318Z
LAST-MODIFIED:20250717T162318Z
UID:10006861-1755108000-1755113400@dev.utahrecovers.org
SUMMARY:SMART Recovery (Hybrid - join virtually or in person!)
DESCRIPTION:https://meet.google.com/eqj-itap-ibd \nContacts \n\nDeano\n\ncell: (801) 648-5442
URL:https://dev.utahrecovers.org/meeting/smart-recovery-hybrid-join-virtually-or-in-person-211/
LOCATION:Utah Support Advocates for Recovery Awareness – USARA\, 180 E 2100 S #100\, Salt Lake City\, UT 84115\, USA\, SLC RCC-2-Suite 203-Suite 203 Group Room (40)
CATEGORIES:Salt Lake Recovery Community Center
END:VEVENT
BEGIN:VEVENT
DTSTART;TZID=America/Denver:20250812T183000
DTEND;TZID=America/Denver:20250812T193000
DTSTAMP:20260423T123150
CREATED:20250717T162318Z
LAST-MODIFIED:20250717T162318Z
UID:10006855-1755023400-1755027000@dev.utahrecovers.org
SUMMARY:27 Links Re-Entry Men’s Support Group (In person)
DESCRIPTION:
URL:https://dev.utahrecovers.org/meeting/27-links-re-entry-mens-support-group-in-person-10/
LOCATION:Utah Support Advocates for Recovery Awareness – USARA\, 180 E 2100 S #100\, Salt Lake City\, UT 84115\, USA\, SLC RCC-2-Suite 203-Suite 203 Group Room (40)
CATEGORIES:Salt Lake Recovery Community Center
END:VEVENT
BEGIN:VEVENT
DTSTART;TZID=America/Denver:20250811T190000
DTEND;TZID=America/Denver:20250811T200000
DTSTAMP:20260423T123150
CREATED:20250717T162305Z
LAST-MODIFIED:20250717T162305Z
UID:10006850-1754938800-1754942400@dev.utahrecovers.org
SUMMARY:SLAA Keys to the Kingdom (Hybrid - join virtually or in person!)
DESCRIPTION:https://us06web.zoom.us/j/85794034807?pwd=URUt6a4WAEshIr7IKpYagkFvD9Aj6b.1 \nContacts \n\nRick\n\nemail: faklass@gmail.com
URL:https://dev.utahrecovers.org/meeting/slaa-keys-to-the-kingdom-hybrid-join-virtually-or-in-person-108/
LOCATION:Utah Support Advocates for Recovery Awareness – USARA\, 180 E 2100 S #100\, Salt Lake City\, UT 84115\, USA\, SLC RCC-2-Suite 203-Suite 203 Group Room (40)
CATEGORIES:Salt Lake Recovery Community Center
END:VEVENT
BEGIN:VEVENT
DTSTART;TZID=America/Denver:20250810T180000
DTEND;TZID=America/Denver:20250810T190000
DTSTAMP:20260423T123150
CREATED:20250717T162305Z
LAST-MODIFIED:20250717T162305Z
UID:10006848-1754848800-1754852400@dev.utahrecovers.org
SUMMARY:Sexaholics Anonymous (Hybrid - join virtually or in person!)
DESCRIPTION:https://zoom.us/j/608422086?pwd=Y1VmV2xsSWc4QVpaR3FHZDNOZnJsZz09
URL:https://dev.utahrecovers.org/meeting/sexaholics-anonymous-hybrid-join-virtually-or-in-person-72/
LOCATION:Utah Support Advocates for Recovery Awareness – USARA\, 180 E 2100 S #100\, Salt Lake City\, UT 84115\, USA\, SLC RCC-2-Suite 203-Suite 203 Group Room (40)
CATEGORIES:Salt Lake Recovery Community Center
END:VEVENT
BEGIN:VEVENT
DTSTART;TZID=America/Denver:20250810T133000
DTEND;TZID=America/Denver:20250810T143000
DTSTAMP:20260423T123150
CREATED:20250717T162305Z
LAST-MODIFIED:20250717T162305Z
UID:10006846-1754832600-1754836200@dev.utahrecovers.org
SUMMARY:Clean\, Sober\, and Proud CMA - LGBTQ+ Focus (In person)
DESCRIPTION:Contacts \n\nBuzz T\n\ncell: (801) 664-5225\nemail: actalbotslc@gmail.com
URL:https://dev.utahrecovers.org/meeting/clean-sober-and-proud-cma-lgbtq-focus-in-person-54/
LOCATION:Utah Support Advocates for Recovery Awareness – USARA\, 180 E 2100 S #100\, Salt Lake City\, UT 84115\, USA\, SLC RCC-2-Suite 203-Suite 203 Group Room (40)
CATEGORIES:Salt Lake Recovery Community Center
END:VEVENT
END:VCALENDAR