BEGIN:VCALENDAR
VERSION:2.0
PRODID:-//USARA - Utah Recovers - ECPv6.15.18//NONSGML v1.0//EN
CALSCALE:GREGORIAN
METHOD:PUBLISH
X-ORIGINAL-URL:https://dev.utahrecovers.org
X-WR-CALDESC:Events for USARA - Utah Recovers
REFRESH-INTERVAL;VALUE=DURATION:PT1H
X-Robots-Tag:noindex
X-PUBLISHED-TTL:PT1H
BEGIN:VTIMEZONE
TZID:America/Denver
BEGIN:DAYLIGHT
TZOFFSETFROM:-0700
TZOFFSETTO:-0600
TZNAME:MDT
DTSTART:20250309T090000
END:DAYLIGHT
BEGIN:STANDARD
TZOFFSETFROM:-0600
TZOFFSETTO:-0700
TZNAME:MST
DTSTART:20251102T080000
END:STANDARD
BEGIN:DAYLIGHT
TZOFFSETFROM:-0700
TZOFFSETTO:-0600
TZNAME:MDT
DTSTART:20260308T090000
END:DAYLIGHT
BEGIN:STANDARD
TZOFFSETFROM:-0600
TZOFFSETTO:-0700
TZNAME:MST
DTSTART:20261101T080000
END:STANDARD
BEGIN:DAYLIGHT
TZOFFSETFROM:-0700
TZOFFSETTO:-0600
TZNAME:MDT
DTSTART:20270314T090000
END:DAYLIGHT
BEGIN:STANDARD
TZOFFSETFROM:-0600
TZOFFSETTO:-0700
TZNAME:MST
DTSTART:20271107T080000
END:STANDARD
END:VTIMEZONE
BEGIN:VEVENT
DTSTART;TZID=America/Denver:20260201T160000
DTEND;TZID=America/Denver:20260201T170000
DTSTAMP:20260423T135556
CREATED:20260119T185308Z
LAST-MODIFIED:20260119T185308Z
UID:10006975-1769961600-1769965200@dev.utahrecovers.org
SUMMARY:CoDa for Addicts & Alcoholics (In person)
DESCRIPTION:
URL:https://dev.utahrecovers.org/meeting/coda-for-addicts-alcoholics-in-person-5/
LOCATION:Utah Support Advocates for Recovery Awareness – USARA\, 180 E 2100 S #100\, Salt Lake City\, UT 84115\, USA\, SLC RCC-1-Suite 100-Suite 100 Group Room (50)
CATEGORIES:Salt Lake Recovery Community Center
END:VEVENT
BEGIN:VEVENT
DTSTART;TZID=America/Denver:20260201T120000
DTEND;TZID=America/Denver:20260201T130000
DTSTAMP:20260423T135556
CREATED:20260119T185307Z
LAST-MODIFIED:20260119T185307Z
UID:10006973-1769947200-1769950800@dev.utahrecovers.org
SUMMARY:Recovery Dharma (Hybrid - join virtually or in person!)
DESCRIPTION:https://us02web.zoom.us/j/2361179850?pwd=NXhUUDNsUUpWYTNxdkhIOUcwNEhSUT09 \nContacts \n\nSteve Slater\n\nemail: slater.stevej@gmail.com
URL:https://dev.utahrecovers.org/meeting/recovery-dharma-hybrid-join-virtually-or-in-person-398/
LOCATION:Utah Support Advocates for Recovery Awareness – USARA\, 180 E 2100 S #100\, Salt Lake City\, UT 84115\, USA\, SLC RCC-1-Suite 100-Suite 100 Group Room (50)
CATEGORIES:Salt Lake Recovery Community Center
END:VEVENT
BEGIN:VEVENT
DTSTART;TZID=America/Denver:20260201T100000
DTEND;TZID=America/Denver:20260201T110000
DTSTAMP:20260423T135556
CREATED:20260119T185307Z
LAST-MODIFIED:20260119T185307Z
UID:10006972-1769940000-1769943600@dev.utahrecovers.org
SUMMARY:Sunday Morning Big Book Study (Hybrid - join virtually or in person!)
DESCRIPTION:https://us02web.zoom.us/j/89418418350?pwd=Rm9PSExNU3BEbURuZ09EaUpvcUZtdz09
URL:https://dev.utahrecovers.org/meeting/sunday-morning-big-book-study-hybrid-join-virtually-or-in-person-110/
LOCATION:Utah Support Advocates for Recovery Awareness – USARA\, 180 E 2100 S #100\, Salt Lake City\, UT 84115\, USA\, SLC RCC-1-Suite 100-Suite 100 Group Room (50)
CATEGORIES:Salt Lake Recovery Community Center
END:VEVENT
BEGIN:VEVENT
DTSTART;TZID=America/Denver:20260131T170000
DTEND;TZID=America/Denver:20260131T180000
DTSTAMP:20260423T135556
CREATED:20260119T185307Z
LAST-MODIFIED:20260119T185307Z
UID:10006971-1769878800-1769882400@dev.utahrecovers.org
SUMMARY:Recovery Dharma (Hybrid - join virtually or in person!)
DESCRIPTION:https://us02web.zoom.us/j/2361179850?pwd=NXhUUDNsUUpWYTNxdkhIOUcwNEhSUT09
URL:https://dev.utahrecovers.org/meeting/recovery-dharma-hybrid-join-virtually-or-in-person-397/
LOCATION:Utah Support Advocates for Recovery Awareness – USARA\, 180 E 2100 S #100\, Salt Lake City\, UT 84115\, USA\, SLC RCC-1-Suite 100-Suite 100 Group Room (50)
CATEGORIES:Salt Lake Recovery Community Center
END:VEVENT
BEGIN:VEVENT
DTSTART;TZID=America/Denver:20260131T093000
DTEND;TZID=America/Denver:20260131T110000
DTSTAMP:20260423T135556
CREATED:20260119T185256Z
LAST-MODIFIED:20260119T185256Z
UID:10006970-1769851800-1769857200@dev.utahrecovers.org
SUMMARY:SMART Recovery (Hybrid - join virtually or in person)
DESCRIPTION:https://smartrecovery.zoom.us/j/932119283 \nContacts \n\nJamiel\n\nemail: jamielk101@gmail.com
URL:https://dev.utahrecovers.org/meeting/smart-recovery-hybrid-join-virtually-or-in-person-216/
LOCATION:Utah Support Advocates for Recovery Awareness – USARA\, 180 E 2100 S #100\, Salt Lake City\, UT 84115\, USA\, SLC RCC-1-Suite 100-Suite 100 Group Room (50)
CATEGORIES:Salt Lake Recovery Community Center
END:VEVENT
BEGIN:VEVENT
DTSTART;TZID=America/Denver:20260130T190000
DTEND;TZID=America/Denver:20260130T210000
DTSTAMP:20260423T135556
CREATED:20260119T185256Z
LAST-MODIFIED:20260119T185256Z
UID:10006967-1769799600-1769806800@dev.utahrecovers.org
SUMMARY:YPR Bingo Night (In person)
DESCRIPTION:
URL:https://dev.utahrecovers.org/meeting/ypr-bingo-night-in-person-3/
LOCATION:Utah Support Advocates for Recovery Awareness – USARA\, 180 E 2100 S #100\, Salt Lake City\, UT 84115\, USA\, SLC RCC-1-Suite 100-Suite 100 Group Room (50)
CATEGORIES:Salt Lake Recovery Community Center
END:VEVENT
BEGIN:VEVENT
DTSTART;TZID=America/Denver:20260130T120000
DTEND;TZID=America/Denver:20260130T130000
DTSTAMP:20260423T135556
CREATED:20260119T185256Z
LAST-MODIFIED:20260119T185256Z
UID:10006965-1769774400-1769778000@dev.utahrecovers.org
SUMMARY:Recovery Dharma (Hybrid - join virtually or in person!)
DESCRIPTION:https://us02web.zoom.us/j/2361179850?pwd=NXhUUDNsUUpWYTNxdkhIOUcwNEhSUT09 \nContacts \n\nSteve Slater\n\nemail: slater.stevej@gmail.com
URL:https://dev.utahrecovers.org/meeting/recovery-dharma-hybrid-join-virtually-or-in-person-396/
LOCATION:Utah Support Advocates for Recovery Awareness – USARA\, 180 E 2100 S #100\, Salt Lake City\, UT 84115\, USA\, SLC RCC-1-Suite 100-Suite 100 Group Room (50)
CATEGORIES:Salt Lake Recovery Community Center
END:VEVENT
BEGIN:VEVENT
DTSTART;TZID=America/Denver:20260129T183000
DTEND;TZID=America/Denver:20260129T193000
DTSTAMP:20260423T135556
CREATED:20260119T185256Z
LAST-MODIFIED:20260119T185256Z
UID:10006964-1769711400-1769715000@dev.utahrecovers.org
SUMMARY:AA Solution Group (In person)
DESCRIPTION:Contacts \n\nAbbey P\n\ncell: (435) 659-0826\nemail: abbeyroadnelson@gmail.com\n\n\nJason\n\nemail: pritchardjasonr@gmail.com
URL:https://dev.utahrecovers.org/meeting/aa-solution-group-in-person-57/
LOCATION:Utah Support Advocates for Recovery Awareness – USARA\, 180 E 2100 S #100\, Salt Lake City\, UT 84115\, USA\, SLC RCC-1-Suite 100-Suite 100 Group Room (50)
CATEGORIES:Salt Lake Recovery Community Center
END:VEVENT
BEGIN:VEVENT
DTSTART;TZID=America/Denver:20260128T200000
DTEND;TZID=America/Denver:20260128T210000
DTSTAMP:20260423T135556
CREATED:20260119T185255Z
LAST-MODIFIED:20260119T185255Z
UID:10006961-1769630400-1769634000@dev.utahrecovers.org
SUMMARY:Addicts Fighting Back (In person)
DESCRIPTION:Contacts
URL:https://dev.utahrecovers.org/meeting/addicts-fighting-back-in-person-56/
LOCATION:Utah Support Advocates for Recovery Awareness – USARA\, 180 E 2100 S #100\, Salt Lake City\, UT 84115\, USA\, SLC RCC-1-Suite 100-Suite 100 Group Room (50)
CATEGORIES:Salt Lake Recovery Community Center
END:VEVENT
BEGIN:VEVENT
DTSTART;TZID=America/Denver:20260128T180000
DTEND;TZID=America/Denver:20260128T193000
DTSTAMP:20260423T135556
CREATED:20260119T185244Z
LAST-MODIFIED:20260119T185244Z
UID:10006959-1769623200-1769628600@dev.utahrecovers.org
SUMMARY:CRAFT Family Support (In person)
DESCRIPTION:
URL:https://dev.utahrecovers.org/meeting/craft-family-support-in-person-114/
LOCATION:Utah Support Advocates for Recovery Awareness – USARA\, 180 E 2100 S #100\, Salt Lake City\, UT 84115\, USA\, SLC RCC-1-Suite 100-Suite 100 Group Room (50)
CATEGORIES:Salt Lake Recovery Community Center
END:VEVENT
BEGIN:VEVENT
DTSTART;TZID=America/Denver:20260128T120000
DTEND;TZID=America/Denver:20260128T130000
DTSTAMP:20260423T135556
CREATED:20260119T185243Z
LAST-MODIFIED:20260119T185243Z
UID:10006958-1769601600-1769605200@dev.utahrecovers.org
SUMMARY:Recovery Dharma (Hybrid - join virtually or in person!)
DESCRIPTION:https://us02web.zoom.us/j/2361179850?pwd=NXhUUDNsUUpWYTNxdkhIOUcwNEhSUT09 \nContacts \n\nSteve Slater\n\nemail: slater.stevej@gmail.com
URL:https://dev.utahrecovers.org/meeting/recovery-dharma-hybrid-join-virtually-or-in-person-395/
LOCATION:Utah Support Advocates for Recovery Awareness – USARA\, 180 E 2100 S #100\, Salt Lake City\, UT 84115\, USA\, SLC RCC-1-Suite 100-Suite 100 Group Room (50)
CATEGORIES:Salt Lake Recovery Community Center
END:VEVENT
BEGIN:VEVENT
DTSTART;TZID=America/Denver:20260127T193000
DTEND;TZID=America/Denver:20260127T203000
DTSTAMP:20260423T135556
CREATED:20260119T185243Z
LAST-MODIFIED:20260119T185243Z
UID:10006956-1769542200-1769545800@dev.utahrecovers.org
SUMMARY:CaliSober Recovery Meeting (In person)
DESCRIPTION:
URL:https://dev.utahrecovers.org/meeting/calisober-recovery-meeting-in-person-6/
LOCATION:Utah Support Advocates for Recovery Awareness – USARA\, 180 E 2100 S #100\, Salt Lake City\, UT 84115\, USA\, SLC RCC-1-Suite 100-Suite 100 Group Room (50)
CATEGORIES:Salt Lake Recovery Community Center
END:VEVENT
BEGIN:VEVENT
DTSTART;TZID=America/Denver:20260127T180000
DTEND;TZID=America/Denver:20260127T193000
DTSTAMP:20260423T135556
CREATED:20260119T185243Z
LAST-MODIFIED:20260119T185243Z
UID:10006957-1769536800-1769542200@dev.utahrecovers.org
SUMMARY:Hopeful Changes Women's Group (In person)
DESCRIPTION:Contacts \n\nMeg Kisselburg\n\ncell: (801) 652-4840\nemail: megk19@gmail.com
URL:https://dev.utahrecovers.org/meeting/hopeful-changes-womens-group-in-person-54/
LOCATION:Utah Support Advocates for Recovery Awareness – USARA\, 180 E 2100 S #100\, Salt Lake City\, UT 84115\, USA\, SLC RCC-1-Suite 100-Suite 100 Group Room (50)
CATEGORIES:Salt Lake Recovery Community Center
END:VEVENT
BEGIN:VEVENT
DTSTART;TZID=America/Denver:20260127T170000
DTEND;TZID=America/Denver:20260127T180000
DTSTAMP:20260423T135556
CREATED:20260119T185243Z
LAST-MODIFIED:20260119T185243Z
UID:10006955-1769533200-1769536800@dev.utahrecovers.org
SUMMARY:Veterans Support Group (In person)
DESCRIPTION:
URL:https://dev.utahrecovers.org/meeting/veterans-support-group-in-person-53/
LOCATION:Utah Support Advocates for Recovery Awareness – USARA\, 180 E 2100 S #100\, Salt Lake City\, UT 84115\, USA\, SLC RCC-1-Suite 100-Suite 100 Group Room (50)
CATEGORIES:Salt Lake Recovery Community Center
END:VEVENT
BEGIN:VEVENT
DTSTART;TZID=America/Denver:20260126T180000
DTEND;TZID=America/Denver:20260126T190000
DTSTAMP:20260423T135556
CREATED:20260119T185243Z
LAST-MODIFIED:20260119T185243Z
UID:10006953-1769450400-1769454000@dev.utahrecovers.org
SUMMARY:Recovery Dharma (In person)
DESCRIPTION:
URL:https://dev.utahrecovers.org/meeting/recovery-dharma-in-person-155/
LOCATION:Utah Support Advocates for Recovery Awareness – USARA\, 180 E 2100 S #100\, Salt Lake City\, UT 84115\, USA\, SLC RCC-1-Suite 100-Suite 100 Group Room (50)
CATEGORIES:Salt Lake Recovery Community Center
END:VEVENT
BEGIN:VEVENT
DTSTART;TZID=America/Denver:20260126T170000
DTEND;TZID=America/Denver:20260126T180000
DTSTAMP:20260423T135556
CREATED:20260119T185231Z
LAST-MODIFIED:20260119T185231Z
UID:10006949-1769446800-1769450400@dev.utahrecovers.org
SUMMARY:Hopeful Changes Women's Book Study (In person)
DESCRIPTION:Currently reading: A Woman’s Way Through the Twelve Steps by Stephanie S Covington
URL:https://dev.utahrecovers.org/meeting/hopeful-changes-womens-book-study-in-person-14/
LOCATION:Utah Support Advocates for Recovery Awareness – USARA\, 180 E 2100 S #100\, Salt Lake City\, UT 84115\, USA\, SLC RCC-1-Suite 100-Suite 100 Group Room (50)
CATEGORIES:Salt Lake Recovery Community Center
END:VEVENT
BEGIN:VEVENT
DTSTART;TZID=America/Denver:20260125T160000
DTEND;TZID=America/Denver:20260125T170000
DTSTAMP:20260423T135556
CREATED:20260119T185231Z
LAST-MODIFIED:20260119T185231Z
UID:10006947-1769356800-1769360400@dev.utahrecovers.org
SUMMARY:CoDa for Addicts & Alcoholics (In person)
DESCRIPTION:
URL:https://dev.utahrecovers.org/meeting/coda-for-addicts-alcoholics-in-person-4/
LOCATION:Utah Support Advocates for Recovery Awareness – USARA\, 180 E 2100 S #100\, Salt Lake City\, UT 84115\, USA\, SLC RCC-1-Suite 100-Suite 100 Group Room (50)
CATEGORIES:Salt Lake Recovery Community Center
END:VEVENT
BEGIN:VEVENT
DTSTART;TZID=America/Denver:20260125T120000
DTEND;TZID=America/Denver:20260125T130000
DTSTAMP:20260423T135556
CREATED:20260119T185230Z
LAST-MODIFIED:20260127T170013Z
UID:10006945-1769342400-1769346000@dev.utahrecovers.org
SUMMARY:Recovery Dharma (Hybrid - join virtually or in person!)
DESCRIPTION:https://us02web.zoom.us/j/2361179850?pwd=NXhUUDNsUUpWYTNxdkhIOUcwNEhSUT09 \nContacts \n\nSteve Slater\n\nemail: slater.stevej@gmail.com
URL:https://dev.utahrecovers.org/meeting/recovery-dharma-hybrid-join-virtually-or-in-person-394/
LOCATION:Utah Support Advocates for Recovery Awareness – USARA\, 180 E 2100 S #100\, Salt Lake City\, UT 84115\, USA\, SLC RCC-1-Suite 100-Suite 100 Group Room (50)
CATEGORIES:Salt Lake Recovery Community Center
END:VEVENT
BEGIN:VEVENT
DTSTART;TZID=America/Denver:20260125T100000
DTEND;TZID=America/Denver:20260125T110000
DTSTAMP:20260423T135556
CREATED:20260119T185230Z
LAST-MODIFIED:20260119T185230Z
UID:10006944-1769335200-1769338800@dev.utahrecovers.org
SUMMARY:Sunday Morning Big Book Study (Hybrid - join virtually or in person!)
DESCRIPTION:https://us02web.zoom.us/j/89418418350?pwd=Rm9PSExNU3BEbURuZ09EaUpvcUZtdz09
URL:https://dev.utahrecovers.org/meeting/sunday-morning-big-book-study-hybrid-join-virtually-or-in-person-109/
LOCATION:Utah Support Advocates for Recovery Awareness – USARA\, 180 E 2100 S #100\, Salt Lake City\, UT 84115\, USA\, SLC RCC-1-Suite 100-Suite 100 Group Room (50)
CATEGORIES:Salt Lake Recovery Community Center
END:VEVENT
BEGIN:VEVENT
DTSTART;TZID=America/Denver:20260124T170000
DTEND;TZID=America/Denver:20260124T180000
DTSTAMP:20260423T135556
CREATED:20260119T185230Z
LAST-MODIFIED:20260119T185230Z
UID:10006943-1769274000-1769277600@dev.utahrecovers.org
SUMMARY:Recovery Dharma (Hybrid - join virtually or in person!)
DESCRIPTION:https://us02web.zoom.us/j/2361179850?pwd=NXhUUDNsUUpWYTNxdkhIOUcwNEhSUT09
URL:https://dev.utahrecovers.org/meeting/recovery-dharma-hybrid-join-virtually-or-in-person-393/
LOCATION:Utah Support Advocates for Recovery Awareness – USARA\, 180 E 2100 S #100\, Salt Lake City\, UT 84115\, USA\, SLC RCC-1-Suite 100-Suite 100 Group Room (50)
CATEGORIES:Salt Lake Recovery Community Center
END:VEVENT
BEGIN:VEVENT
DTSTART;TZID=America/Denver:20260124T093000
DTEND;TZID=America/Denver:20260124T110000
DTSTAMP:20260423T135556
CREATED:20260119T185230Z
LAST-MODIFIED:20260119T185230Z
UID:10006941-1769247000-1769252400@dev.utahrecovers.org
SUMMARY:SMART Recovery (Hybrid - join virtually or in person)
DESCRIPTION:https://smartrecovery.zoom.us/j/932119283 \nContacts \n\nJamiel\n\nemail: jamielk101@gmail.com
URL:https://dev.utahrecovers.org/meeting/smart-recovery-hybrid-join-virtually-or-in-person-214/
LOCATION:Utah Support Advocates for Recovery Awareness – USARA\, 180 E 2100 S #100\, Salt Lake City\, UT 84115\, USA\, SLC RCC-1-Suite 100-Suite 100 Group Room (50)
CATEGORIES:Salt Lake Recovery Community Center
END:VEVENT
BEGIN:VEVENT
DTSTART;TZID=America/Denver:20260123T120000
DTEND;TZID=America/Denver:20260123T130000
DTSTAMP:20260423T135556
CREATED:20260119T185218Z
LAST-MODIFIED:20260119T185218Z
UID:10006938-1769169600-1769173200@dev.utahrecovers.org
SUMMARY:Recovery Dharma (Hybrid - join virtually or in person!)
DESCRIPTION:https://us02web.zoom.us/j/2361179850?pwd=NXhUUDNsUUpWYTNxdkhIOUcwNEhSUT09 \nContacts \n\nSteve Slater\n\nemail: slater.stevej@gmail.com
URL:https://dev.utahrecovers.org/meeting/recovery-dharma-hybrid-join-virtually-or-in-person-392/
LOCATION:Utah Support Advocates for Recovery Awareness – USARA\, 180 E 2100 S #100\, Salt Lake City\, UT 84115\, USA\, SLC RCC-1-Suite 100-Suite 100 Group Room (50)
CATEGORIES:Salt Lake Recovery Community Center
END:VEVENT
BEGIN:VEVENT
DTSTART;TZID=America/Denver:20260122T183000
DTEND;TZID=America/Denver:20260122T193000
DTSTAMP:20260423T135556
CREATED:20260119T185217Z
LAST-MODIFIED:20260119T185217Z
UID:10006934-1769106600-1769110200@dev.utahrecovers.org
SUMMARY:AA Solution Group (In person)
DESCRIPTION:Contacts \n\nAbbey P\n\ncell: (435) 659-0826\nemail: abbeyroadnelson@gmail.com\n\n\nJason\n\nemail: pritchardjasonr@gmail.com
URL:https://dev.utahrecovers.org/meeting/aa-solution-group-in-person-56/
LOCATION:Utah Support Advocates for Recovery Awareness – USARA\, 180 E 2100 S #100\, Salt Lake City\, UT 84115\, USA\, SLC RCC-1-Suite 100-Suite 100 Group Room (50)
CATEGORIES:Salt Lake Recovery Community Center
END:VEVENT
BEGIN:VEVENT
DTSTART;TZID=America/Denver:20260121T200000
DTEND;TZID=America/Denver:20260121T210000
DTSTAMP:20260423T135556
CREATED:20260119T185217Z
LAST-MODIFIED:20260119T185217Z
UID:10006932-1769025600-1769029200@dev.utahrecovers.org
SUMMARY:Addicts Fighting Back (In person)
DESCRIPTION:Contacts
URL:https://dev.utahrecovers.org/meeting/addicts-fighting-back-in-person-55/
LOCATION:Utah Support Advocates for Recovery Awareness – USARA\, 180 E 2100 S #100\, Salt Lake City\, UT 84115\, USA\, SLC RCC-1-Suite 100-Suite 100 Group Room (50)
CATEGORIES:Salt Lake Recovery Community Center
END:VEVENT
BEGIN:VEVENT
DTSTART;TZID=America/Denver:20260121T180000
DTEND;TZID=America/Denver:20260121T193000
DTSTAMP:20260423T135556
CREATED:20260119T185217Z
LAST-MODIFIED:20260119T185217Z
UID:10006931-1769018400-1769023800@dev.utahrecovers.org
SUMMARY:CRAFT Family Support (In person)
DESCRIPTION:
URL:https://dev.utahrecovers.org/meeting/craft-family-support-in-person-113/
LOCATION:Utah Support Advocates for Recovery Awareness – USARA\, 180 E 2100 S #100\, Salt Lake City\, UT 84115\, USA\, SLC RCC-1-Suite 100-Suite 100 Group Room (50)
CATEGORIES:Salt Lake Recovery Community Center
END:VEVENT
BEGIN:VEVENT
DTSTART;TZID=America/Denver:20260121T120000
DTEND;TZID=America/Denver:20260121T130000
DTSTAMP:20260423T135556
CREATED:20260119T185206Z
LAST-MODIFIED:20260119T185206Z
UID:10006929-1768996800-1769000400@dev.utahrecovers.org
SUMMARY:Recovery Dharma (Hybrid - join virtually or in person!)
DESCRIPTION:https://us02web.zoom.us/j/2361179850?pwd=NXhUUDNsUUpWYTNxdkhIOUcwNEhSUT09 \nContacts \n\nSteve Slater\n\nemail: slater.stevej@gmail.com
URL:https://dev.utahrecovers.org/meeting/recovery-dharma-hybrid-join-virtually-or-in-person-391/
LOCATION:Utah Support Advocates for Recovery Awareness – USARA\, 180 E 2100 S #100\, Salt Lake City\, UT 84115\, USA\, SLC RCC-1-Suite 100-Suite 100 Group Room (50)
CATEGORIES:Salt Lake Recovery Community Center
END:VEVENT
BEGIN:VEVENT
DTSTART;TZID=America/Denver:20260120T193000
DTEND;TZID=America/Denver:20260120T203000
DTSTAMP:20260423T135556
CREATED:20260119T185206Z
LAST-MODIFIED:20260119T185206Z
UID:10006928-1768937400-1768941000@dev.utahrecovers.org
SUMMARY:CaliSober Recovery Meeting (In person)
DESCRIPTION:
URL:https://dev.utahrecovers.org/meeting/calisober-recovery-meeting-in-person-5/
LOCATION:Utah Support Advocates for Recovery Awareness – USARA\, 180 E 2100 S #100\, Salt Lake City\, UT 84115\, USA\, SLC RCC-1-Suite 100-Suite 100 Group Room (50)
CATEGORIES:Salt Lake Recovery Community Center
END:VEVENT
BEGIN:VEVENT
DTSTART;TZID=America/Denver:20260120T180000
DTEND;TZID=America/Denver:20260120T193000
DTSTAMP:20260423T135556
CREATED:20260119T185206Z
LAST-MODIFIED:20260119T185206Z
UID:10006926-1768932000-1768937400@dev.utahrecovers.org
SUMMARY:Hopeful Changes Women's Group (In person)
DESCRIPTION:Contacts \n\nMeg Kisselburg\n\ncell: (801) 652-4840\nemail: megk19@gmail.com
URL:https://dev.utahrecovers.org/meeting/hopeful-changes-womens-group-in-person-53/
LOCATION:Utah Support Advocates for Recovery Awareness – USARA\, 180 E 2100 S #100\, Salt Lake City\, UT 84115\, USA\, SLC RCC-1-Suite 100-Suite 100 Group Room (50)
CATEGORIES:Salt Lake Recovery Community Center
END:VEVENT
BEGIN:VEVENT
DTSTART;TZID=America/Denver:20260120T170000
DTEND;TZID=America/Denver:20260120T180000
DTSTAMP:20260423T135556
CREATED:20260119T185206Z
LAST-MODIFIED:20260119T185206Z
UID:10006927-1768928400-1768932000@dev.utahrecovers.org
SUMMARY:Veterans Support Group (In person)
DESCRIPTION:
URL:https://dev.utahrecovers.org/meeting/veterans-support-group-in-person-52/
LOCATION:Utah Support Advocates for Recovery Awareness – USARA\, 180 E 2100 S #100\, Salt Lake City\, UT 84115\, USA\, SLC RCC-1-Suite 100-Suite 100 Group Room (50)
CATEGORIES:Salt Lake Recovery Community Center
END:VEVENT
BEGIN:VEVENT
DTSTART;TZID=America/Denver:20260119T180000
DTEND;TZID=America/Denver:20260119T190000
DTSTAMP:20260423T135556
CREATED:20260119T185205Z
LAST-MODIFIED:20260119T185205Z
UID:10006922-1768845600-1768849200@dev.utahrecovers.org
SUMMARY:Recovery Dharma (In person)
DESCRIPTION:
URL:https://dev.utahrecovers.org/meeting/recovery-dharma-in-person-154/
LOCATION:Utah Support Advocates for Recovery Awareness – USARA\, 180 E 2100 S #100\, Salt Lake City\, UT 84115\, USA\, SLC RCC-1-Suite 100-Suite 100 Group Room (50)
CATEGORIES:Salt Lake Recovery Community Center
END:VEVENT
END:VCALENDAR