BEGIN:VCALENDAR
VERSION:2.0
PRODID:-//USARA - Utah Recovers - ECPv6.15.18//NONSGML v1.0//EN
CALSCALE:GREGORIAN
METHOD:PUBLISH
X-WR-CALNAME:USARA - Utah Recovers
X-ORIGINAL-URL:https://dev.utahrecovers.org
X-WR-CALDESC:Events for USARA - Utah Recovers
REFRESH-INTERVAL;VALUE=DURATION:PT1H
X-Robots-Tag:noindex
X-PUBLISHED-TTL:PT1H
BEGIN:VTIMEZONE
TZID:America/Denver
BEGIN:DAYLIGHT
TZOFFSETFROM:-0700
TZOFFSETTO:-0600
TZNAME:MDT
DTSTART:20240310T090000
END:DAYLIGHT
BEGIN:STANDARD
TZOFFSETFROM:-0600
TZOFFSETTO:-0700
TZNAME:MST
DTSTART:20241103T080000
END:STANDARD
BEGIN:DAYLIGHT
TZOFFSETFROM:-0700
TZOFFSETTO:-0600
TZNAME:MDT
DTSTART:20250309T090000
END:DAYLIGHT
BEGIN:STANDARD
TZOFFSETFROM:-0600
TZOFFSETTO:-0700
TZNAME:MST
DTSTART:20251102T080000
END:STANDARD
BEGIN:DAYLIGHT
TZOFFSETFROM:-0700
TZOFFSETTO:-0600
TZNAME:MDT
DTSTART:20260308T090000
END:DAYLIGHT
BEGIN:STANDARD
TZOFFSETFROM:-0600
TZOFFSETTO:-0700
TZNAME:MST
DTSTART:20261101T080000
END:STANDARD
END:VTIMEZONE
BEGIN:VEVENT
DTSTART;TZID=America/Denver:20250729T180000
DTEND;TZID=America/Denver:20250729T193000
DTSTAMP:20260423T220202
CREATED:20250717T162200Z
LAST-MODIFIED:20250717T162200Z
UID:10006796-1753812000-1753817400@dev.utahrecovers.org
SUMMARY:Hopeful Changes Women's Group (In person)
DESCRIPTION:Contacts \n\nMeg Kisselburg\n\ncell: (801) 652-4840\nemail: megk19@gmail.com
URL:https://dev.utahrecovers.org/meeting/hopeful-changes-womens-group-in-person-50/
LOCATION:Utah Support Advocates for Recovery Awareness – USARA\, 180 E 2100 S #100\, Salt Lake City\, UT 84115\, USA\, SLC RCC-1-Suite 100-Suite 100 Group Room (50)
CATEGORIES:Salt Lake Recovery Community Center
END:VEVENT
BEGIN:VEVENT
DTSTART;TZID=America/Denver:20250729T170000
DTEND;TZID=America/Denver:20250729T180000
DTSTAMP:20260423T220202
CREATED:20250717T162159Z
LAST-MODIFIED:20250717T162159Z
UID:10006794-1753808400-1753812000@dev.utahrecovers.org
SUMMARY:Veterans Support Group (In person)
DESCRIPTION:
URL:https://dev.utahrecovers.org/meeting/veterans-support-group-in-person-49/
LOCATION:Utah Support Advocates for Recovery Awareness – USARA\, 180 E 2100 S #100\, Salt Lake City\, UT 84115\, USA\, SLC RCC-1-Suite 100-Suite 100 Group Room (50)
CATEGORIES:Salt Lake Recovery Community Center
END:VEVENT
BEGIN:VEVENT
DTSTART;TZID=America/Denver:20250729T100000
DTEND;TZID=America/Denver:20250729T160000
DTSTAMP:20260423T220202
CREATED:20250717T162159Z
LAST-MODIFIED:20250717T162159Z
UID:10006793-1753783200-1753804800@dev.utahrecovers.org
SUMMARY:Mental Health America of Utah (In person)
DESCRIPTION:
URL:https://dev.utahrecovers.org/meeting/mental-health-america-of-utah-in-person-2/
LOCATION:Utah Support Advocates for Recovery Awareness – USARA\, 180 E 2100 S #100\, Salt Lake City\, UT 84115\, USA\, SLC RCC-1-Suite 100-Suite 100 Group Room (50)
CATEGORIES:Salt Lake Recovery Community Center
END:VEVENT
BEGIN:VEVENT
DTSTART;TZID=America/Denver:20250728T180000
DTEND;TZID=America/Denver:20250728T190000
DTSTAMP:20260423T220202
CREATED:20250717T162159Z
LAST-MODIFIED:20250717T162159Z
UID:10006792-1753725600-1753729200@dev.utahrecovers.org
SUMMARY:Recovery Dharma (In person)
DESCRIPTION:
URL:https://dev.utahrecovers.org/meeting/recovery-dharma-in-person-151/
LOCATION:Utah Support Advocates for Recovery Awareness – USARA\, 180 E 2100 S #100\, Salt Lake City\, UT 84115\, USA\, SLC RCC-1-Suite 100-Suite 100 Group Room (50)
CATEGORIES:Salt Lake Recovery Community Center
END:VEVENT
BEGIN:VEVENT
DTSTART;TZID=America/Denver:20250728T170000
DTEND;TZID=America/Denver:20250728T180000
DTSTAMP:20260423T220202
CREATED:20250717T162147Z
LAST-MODIFIED:20250717T162147Z
UID:10006789-1753722000-1753725600@dev.utahrecovers.org
SUMMARY:Hopeful Changes Women's Book Study (In person)
DESCRIPTION:Currently reading: A Woman’s Way Through the Twelve Steps by Stephanie S Covington
URL:https://dev.utahrecovers.org/meeting/hopeful-changes-womens-book-study-in-person-10/
LOCATION:Utah Support Advocates for Recovery Awareness – USARA\, 180 E 2100 S #100\, Salt Lake City\, UT 84115\, USA\, SLC RCC-1-Suite 100-Suite 100 Group Room (50)
CATEGORIES:Salt Lake Recovery Community Center
END:VEVENT
BEGIN:VEVENT
DTSTART;TZID=America/Denver:20250727T160000
DTEND;TZID=America/Denver:20250727T170000
DTSTAMP:20260423T220202
CREATED:20250717T162147Z
LAST-MODIFIED:20250717T162147Z
UID:10006787-1753632000-1753635600@dev.utahrecovers.org
SUMMARY:CoDa for Addicts & Alcoholics (In person)
DESCRIPTION:
URL:https://dev.utahrecovers.org/meeting/coda-for-addicts-alcoholics-in-person/
LOCATION:Utah Support Advocates for Recovery Awareness – USARA\, 180 E 2100 S #100\, Salt Lake City\, UT 84115\, USA\, SLC RCC-1-Suite 100-Suite 100 Group Room (50)
CATEGORIES:Salt Lake Recovery Community Center
END:VEVENT
BEGIN:VEVENT
DTSTART;TZID=America/Denver:20250727T120000
DTEND;TZID=America/Denver:20250727T130000
DTSTAMP:20260423T220202
CREATED:20250717T162146Z
LAST-MODIFIED:20250717T162146Z
UID:10006785-1753617600-1753621200@dev.utahrecovers.org
SUMMARY:Recovery Dharma (Hybrid - join virtually or in person!)
DESCRIPTION:https://us02web.zoom.us/j/2361179850?pwd=NXhUUDNsUUpWYTNxdkhIOUcwNEhSUT09 \nContacts \n\nSteve Slater\n\nemail: slater.stevej@gmail.com
URL:https://dev.utahrecovers.org/meeting/recovery-dharma-hybrid-join-virtually-or-in-person-379/
LOCATION:Utah Support Advocates for Recovery Awareness – USARA\, 180 E 2100 S #100\, Salt Lake City\, UT 84115\, USA\, SLC RCC-1-Suite 100-Suite 100 Group Room (50)
CATEGORIES:Salt Lake Recovery Community Center
END:VEVENT
BEGIN:VEVENT
DTSTART;TZID=America/Denver:20250727T100000
DTEND;TZID=America/Denver:20250727T110000
DTSTAMP:20260423T220202
CREATED:20250717T162146Z
LAST-MODIFIED:20250717T162146Z
UID:10006784-1753610400-1753614000@dev.utahrecovers.org
SUMMARY:Sunday Morning Big Book Study (Hybrid - join virtually or in person!)
DESCRIPTION:https://us02web.zoom.us/j/89418418350?pwd=Rm9PSExNU3BEbURuZ09EaUpvcUZtdz09
URL:https://dev.utahrecovers.org/meeting/sunday-morning-big-book-study-hybrid-join-virtually-or-in-person-105/
LOCATION:Utah Support Advocates for Recovery Awareness – USARA\, 180 E 2100 S #100\, Salt Lake City\, UT 84115\, USA\, SLC RCC-1-Suite 100-Suite 100 Group Room (50)
CATEGORIES:Salt Lake Recovery Community Center
END:VEVENT
BEGIN:VEVENT
DTSTART;TZID=America/Denver:20250726T170000
DTEND;TZID=America/Denver:20250726T180000
DTSTAMP:20260423T220202
CREATED:20250717T162146Z
LAST-MODIFIED:20250717T162146Z
UID:10006783-1753549200-1753552800@dev.utahrecovers.org
SUMMARY:Recovery Dharma (Hybrid - join virtually or in person!)
DESCRIPTION:https://us02web.zoom.us/j/2361179850?pwd=NXhUUDNsUUpWYTNxdkhIOUcwNEhSUT09
URL:https://dev.utahrecovers.org/meeting/recovery-dharma-hybrid-join-virtually-or-in-person-378/
LOCATION:Utah Support Advocates for Recovery Awareness – USARA\, 180 E 2100 S #100\, Salt Lake City\, UT 84115\, USA\, SLC RCC-1-Suite 100-Suite 100 Group Room (50)
CATEGORIES:Salt Lake Recovery Community Center
END:VEVENT
BEGIN:VEVENT
DTSTART;TZID=America/Denver:20250726T093000
DTEND;TZID=America/Denver:20250726T110000
DTSTAMP:20260423T220202
CREATED:20250717T162146Z
LAST-MODIFIED:20250717T162146Z
UID:10006782-1753522200-1753527600@dev.utahrecovers.org
SUMMARY:SMART Recovery (Hybrid - join virtually or in person)
DESCRIPTION:https://smartrecovery.zoom.us/j/932119283 \nContacts \n\nJamiel\n\nemail: jamielk101@gmail.com
URL:https://dev.utahrecovers.org/meeting/smart-recovery-hybrid-join-virtually-or-in-person-206/
LOCATION:Utah Support Advocates for Recovery Awareness – USARA\, 180 E 2100 S #100\, Salt Lake City\, UT 84115\, USA\, SLC RCC-1-Suite 100-Suite 100 Group Room (50)
CATEGORIES:Salt Lake Recovery Community Center
END:VEVENT
BEGIN:VEVENT
DTSTART;TZID=America/Denver:20250725T190000
DTEND;TZID=America/Denver:20250725T210000
DTSTAMP:20260423T220202
CREATED:20250717T162134Z
LAST-MODIFIED:20250717T162134Z
UID:10006780-1753470000-1753477200@dev.utahrecovers.org
SUMMARY:YPR Bingo Night (In person)
DESCRIPTION:
URL:https://dev.utahrecovers.org/meeting/ypr-bingo-night-in-person-2/
LOCATION:Utah Support Advocates for Recovery Awareness – USARA\, 180 E 2100 S #100\, Salt Lake City\, UT 84115\, USA\, SLC RCC-1-Suite 100-Suite 100 Group Room (50)
CATEGORIES:Salt Lake Recovery Community Center
END:VEVENT
BEGIN:VEVENT
DTSTART;TZID=America/Denver:20250725T120000
DTEND;TZID=America/Denver:20250725T130000
DTSTAMP:20260423T220202
CREATED:20250717T162134Z
LAST-MODIFIED:20250717T162134Z
UID:10006778-1753444800-1753448400@dev.utahrecovers.org
SUMMARY:Recovery Dharma (Hybrid - join virtually or in person!)
DESCRIPTION:https://us02web.zoom.us/j/2361179850?pwd=NXhUUDNsUUpWYTNxdkhIOUcwNEhSUT09 \nContacts \n\nSteve Slater\n\nemail: slater.stevej@gmail.com
URL:https://dev.utahrecovers.org/meeting/recovery-dharma-hybrid-join-virtually-or-in-person-377/
LOCATION:Utah Support Advocates for Recovery Awareness – USARA\, 180 E 2100 S #100\, Salt Lake City\, UT 84115\, USA\, SLC RCC-1-Suite 100-Suite 100 Group Room (50)
CATEGORIES:Salt Lake Recovery Community Center
END:VEVENT
BEGIN:VEVENT
DTSTART;TZID=America/Denver:20250724T183000
DTEND;TZID=America/Denver:20250724T193000
DTSTAMP:20260423T220202
CREATED:20250717T162134Z
LAST-MODIFIED:20250717T162134Z
UID:10006774-1753381800-1753385400@dev.utahrecovers.org
SUMMARY:AA Solution Group (In person)
DESCRIPTION:Contacts \n\nAbbey P\n\ncell: (435) 659-0826\nemail: abbeyroadnelson@gmail.com\n\n\nJason\n\nemail: pritchardjasonr@gmail.com
URL:https://dev.utahrecovers.org/meeting/aa-solution-group-in-person-52/
LOCATION:Utah Support Advocates for Recovery Awareness – USARA\, 180 E 2100 S #100\, Salt Lake City\, UT 84115\, USA\, SLC RCC-1-Suite 100-Suite 100 Group Room (50)
CATEGORIES:Salt Lake Recovery Community Center
END:VEVENT
BEGIN:VEVENT
DTSTART;TZID=America/Denver:20250723T200000
DTEND;TZID=America/Denver:20250723T210000
DTSTAMP:20260423T220202
CREATED:20250717T162133Z
LAST-MODIFIED:20250717T162133Z
UID:10006772-1753300800-1753304400@dev.utahrecovers.org
SUMMARY:Addicts Fighting Back (In person)
DESCRIPTION:Contacts
URL:https://dev.utahrecovers.org/meeting/addicts-fighting-back-in-person-51/
LOCATION:Utah Support Advocates for Recovery Awareness – USARA\, 180 E 2100 S #100\, Salt Lake City\, UT 84115\, USA\, SLC RCC-1-Suite 100-Suite 100 Group Room (50)
CATEGORIES:Salt Lake Recovery Community Center
END:VEVENT
BEGIN:VEVENT
DTSTART;TZID=America/Denver:20250723T180000
DTEND;TZID=America/Denver:20250723T193000
DTSTAMP:20260423T220202
CREATED:20250717T162122Z
LAST-MODIFIED:20250717T162122Z
UID:10006771-1753293600-1753299000@dev.utahrecovers.org
SUMMARY:CRAFT Family Support (In person)
DESCRIPTION:
URL:https://dev.utahrecovers.org/meeting/craft-family-support-in-person-109/
LOCATION:Utah Support Advocates for Recovery Awareness – USARA\, 180 E 2100 S #100\, Salt Lake City\, UT 84115\, USA\, SLC RCC-1-Suite 100-Suite 100 Group Room (50)
CATEGORIES:Salt Lake Recovery Community Center
END:VEVENT
BEGIN:VEVENT
DTSTART;TZID=America/Denver:20250723T120000
DTEND;TZID=America/Denver:20250723T130000
DTSTAMP:20260423T220202
CREATED:20250717T162121Z
LAST-MODIFIED:20250717T162121Z
UID:10006769-1753272000-1753275600@dev.utahrecovers.org
SUMMARY:Recovery Dharma (Hybrid - join virtually or in person!)
DESCRIPTION:https://us02web.zoom.us/j/2361179850?pwd=NXhUUDNsUUpWYTNxdkhIOUcwNEhSUT09 \nContacts \n\nSteve Slater\n\nemail: slater.stevej@gmail.com
URL:https://dev.utahrecovers.org/meeting/recovery-dharma-hybrid-join-virtually-or-in-person-376/
LOCATION:Utah Support Advocates for Recovery Awareness – USARA\, 180 E 2100 S #100\, Salt Lake City\, UT 84115\, USA\, SLC RCC-1-Suite 100-Suite 100 Group Room (50)
CATEGORIES:Salt Lake Recovery Community Center
END:VEVENT
BEGIN:VEVENT
DTSTART;TZID=America/Denver:20250722T193000
DTEND;TZID=America/Denver:20250722T203000
DTSTAMP:20260423T220202
CREATED:20250717T162121Z
LAST-MODIFIED:20250717T162121Z
UID:10006768-1753212600-1753216200@dev.utahrecovers.org
SUMMARY:CaliSober Recovery Meeting (In person)
DESCRIPTION:
URL:https://dev.utahrecovers.org/meeting/calisober-recovery-meeting-in-person/
LOCATION:Utah Support Advocates for Recovery Awareness – USARA\, 180 E 2100 S #100\, Salt Lake City\, UT 84115\, USA\, SLC RCC-1-Suite 100-Suite 100 Group Room (50)
CATEGORIES:Salt Lake Recovery Community Center
END:VEVENT
BEGIN:VEVENT
DTSTART;TZID=America/Denver:20250722T180000
DTEND;TZID=America/Denver:20250722T193000
DTSTAMP:20260423T220202
CREATED:20250717T162121Z
LAST-MODIFIED:20250717T162121Z
UID:10006764-1753207200-1753212600@dev.utahrecovers.org
SUMMARY:Hopeful Changes Women's Group (In person)
DESCRIPTION:Contacts \n\nMeg Kisselburg\n\ncell: (801) 652-4840\nemail: megk19@gmail.com
URL:https://dev.utahrecovers.org/meeting/hopeful-changes-womens-group-in-person-49/
LOCATION:Utah Support Advocates for Recovery Awareness – USARA\, 180 E 2100 S #100\, Salt Lake City\, UT 84115\, USA\, SLC RCC-1-Suite 100-Suite 100 Group Room (50)
CATEGORIES:Salt Lake Recovery Community Center
END:VEVENT
BEGIN:VEVENT
DTSTART;TZID=America/Denver:20250722T170000
DTEND;TZID=America/Denver:20250722T180000
DTSTAMP:20260423T220202
CREATED:20250717T162121Z
LAST-MODIFIED:20250717T162121Z
UID:10006766-1753203600-1753207200@dev.utahrecovers.org
SUMMARY:Veterans Support Group (In person)
DESCRIPTION:
URL:https://dev.utahrecovers.org/meeting/veterans-support-group-in-person-48/
LOCATION:Utah Support Advocates for Recovery Awareness – USARA\, 180 E 2100 S #100\, Salt Lake City\, UT 84115\, USA\, SLC RCC-1-Suite 100-Suite 100 Group Room (50)
CATEGORIES:Salt Lake Recovery Community Center
END:VEVENT
BEGIN:VEVENT
DTSTART;TZID=America/Denver:20250722T100000
DTEND;TZID=America/Denver:20250722T160000
DTSTAMP:20260423T220202
CREATED:20250717T162121Z
LAST-MODIFIED:20250717T162121Z
UID:10006763-1753178400-1753200000@dev.utahrecovers.org
SUMMARY:Mental Health America of Utah (In person)
DESCRIPTION:
URL:https://dev.utahrecovers.org/meeting/mental-health-america-of-utah-in-person/
LOCATION:Utah Support Advocates for Recovery Awareness – USARA\, 180 E 2100 S #100\, Salt Lake City\, UT 84115\, USA\, SLC RCC-1-Suite 100-Suite 100 Group Room (50)
CATEGORIES:Salt Lake Recovery Community Center
END:VEVENT
BEGIN:VEVENT
DTSTART;TZID=America/Denver:20250721T180000
DTEND;TZID=America/Denver:20250721T190000
DTSTAMP:20260423T220202
CREATED:20250717T162120Z
LAST-MODIFIED:20250717T162120Z
UID:10006762-1753120800-1753124400@dev.utahrecovers.org
SUMMARY:Recovery Dharma (In person)
DESCRIPTION:
URL:https://dev.utahrecovers.org/meeting/recovery-dharma-in-person-150/
LOCATION:Utah Support Advocates for Recovery Awareness – USARA\, 180 E 2100 S #100\, Salt Lake City\, UT 84115\, USA\, SLC RCC-1-Suite 100-Suite 100 Group Room (50)
CATEGORIES:Salt Lake Recovery Community Center
END:VEVENT
BEGIN:VEVENT
DTSTART;TZID=America/Denver:20250721T170000
DTEND;TZID=America/Denver:20250721T180000
DTSTAMP:20260423T220202
CREATED:20250717T162109Z
LAST-MODIFIED:20250717T162109Z
UID:10006760-1753117200-1753120800@dev.utahrecovers.org
SUMMARY:Hopeful Changes Women's Book Study (In person)
DESCRIPTION:Currently reading: A Woman’s Way Through the Twelve Steps by Stephanie S Covington
URL:https://dev.utahrecovers.org/meeting/hopeful-changes-womens-book-study-in-person-9/
LOCATION:Utah Support Advocates for Recovery Awareness – USARA\, 180 E 2100 S #100\, Salt Lake City\, UT 84115\, USA\, SLC RCC-1-Suite 100-Suite 100 Group Room (50)
CATEGORIES:Salt Lake Recovery Community Center
END:VEVENT
BEGIN:VEVENT
DTSTART;TZID=America/Denver:20250720T120000
DTEND;TZID=America/Denver:20250720T130000
DTSTAMP:20260423T220202
CREATED:20250717T162108Z
LAST-MODIFIED:20250717T162108Z
UID:10006756-1753012800-1753016400@dev.utahrecovers.org
SUMMARY:Recovery Dharma (Hybrid - join virtually or in person!)
DESCRIPTION:https://us02web.zoom.us/j/2361179850?pwd=NXhUUDNsUUpWYTNxdkhIOUcwNEhSUT09 \nContacts \n\nSteve Slater\n\nemail: slater.stevej@gmail.com
URL:https://dev.utahrecovers.org/meeting/recovery-dharma-hybrid-join-virtually-or-in-person-375/
LOCATION:Utah Support Advocates for Recovery Awareness – USARA\, 180 E 2100 S #100\, Salt Lake City\, UT 84115\, USA\, SLC RCC-1-Suite 100-Suite 100 Group Room (50)
CATEGORIES:Salt Lake Recovery Community Center
END:VEVENT
BEGIN:VEVENT
DTSTART;TZID=America/Denver:20250720T100000
DTEND;TZID=America/Denver:20250720T110000
DTSTAMP:20260423T220202
CREATED:20250717T162108Z
LAST-MODIFIED:20250717T162108Z
UID:10006755-1753005600-1753009200@dev.utahrecovers.org
SUMMARY:Sunday Morning Big Book Study (Hybrid - join virtually or in person!)
DESCRIPTION:https://us02web.zoom.us/j/89418418350?pwd=Rm9PSExNU3BEbURuZ09EaUpvcUZtdz09
URL:https://dev.utahrecovers.org/meeting/sunday-morning-big-book-study-hybrid-join-virtually-or-in-person-104/
LOCATION:Utah Support Advocates for Recovery Awareness – USARA\, 180 E 2100 S #100\, Salt Lake City\, UT 84115\, USA\, SLC RCC-1-Suite 100-Suite 100 Group Room (50)
CATEGORIES:Salt Lake Recovery Community Center
END:VEVENT
BEGIN:VEVENT
DTSTART;TZID=America/Denver:20250719T170000
DTEND;TZID=America/Denver:20250719T180000
DTSTAMP:20260423T220202
CREATED:20250717T162108Z
LAST-MODIFIED:20250717T162108Z
UID:10006754-1752944400-1752948000@dev.utahrecovers.org
SUMMARY:Recovery Dharma (Hybrid - join virtually or in person!)
DESCRIPTION:https://us02web.zoom.us/j/2361179850?pwd=NXhUUDNsUUpWYTNxdkhIOUcwNEhSUT09
URL:https://dev.utahrecovers.org/meeting/recovery-dharma-hybrid-join-virtually-or-in-person-374/
LOCATION:Utah Support Advocates for Recovery Awareness – USARA\, 180 E 2100 S #100\, Salt Lake City\, UT 84115\, USA\, SLC RCC-1-Suite 100-Suite 100 Group Room (50)
CATEGORIES:Salt Lake Recovery Community Center
END:VEVENT
BEGIN:VEVENT
DTSTART;TZID=America/Denver:20250719T110000
DTEND;TZID=America/Denver:20250719T160000
DTSTAMP:20260423T220202
CREATED:20250717T162108Z
LAST-MODIFIED:20250717T162108Z
UID:10006752-1752922800-1752940800@dev.utahrecovers.org
SUMMARY:Tatanka Warriors Outreach for Relatives (In person)
DESCRIPTION:
URL:https://dev.utahrecovers.org/meeting/tatanka-warriors-outreach-for-relatives-in-person-2/
LOCATION:Utah Support Advocates for Recovery Awareness – USARA\, 180 E 2100 S #100\, Salt Lake City\, UT 84115\, USA\, SLC RCC-1-Suite 100-Suite 100 Group Room (50)
CATEGORIES:Salt Lake Recovery Community Center
END:VEVENT
BEGIN:VEVENT
DTSTART;TZID=America/Denver:20250719T093000
DTEND;TZID=America/Denver:20250719T110000
DTSTAMP:20260423T220202
CREATED:20250717T162108Z
LAST-MODIFIED:20250717T162108Z
UID:10006753-1752917400-1752922800@dev.utahrecovers.org
SUMMARY:SMART Recovery (Hybrid - join virtually or in person)
DESCRIPTION:https://smartrecovery.zoom.us/j/932119283 \nContacts \n\nJamiel\n\nemail: jamielk101@gmail.com
URL:https://dev.utahrecovers.org/meeting/smart-recovery-hybrid-join-virtually-or-in-person-204/
LOCATION:Utah Support Advocates for Recovery Awareness – USARA\, 180 E 2100 S #100\, Salt Lake City\, UT 84115\, USA\, SLC RCC-1-Suite 100-Suite 100 Group Room (50)
CATEGORIES:Salt Lake Recovery Community Center
END:VEVENT
BEGIN:VEVENT
DTSTART;TZID=America/Denver:20250718T120000
DTEND;TZID=America/Denver:20250718T130000
DTSTAMP:20260423T220202
CREATED:20250717T162055Z
LAST-MODIFIED:20250717T162055Z
UID:10006747-1752840000-1752843600@dev.utahrecovers.org
SUMMARY:Recovery Dharma (Hybrid - join virtually or in person!)
DESCRIPTION:https://us02web.zoom.us/j/2361179850?pwd=NXhUUDNsUUpWYTNxdkhIOUcwNEhSUT09 \nContacts \n\nSteve Slater\n\nemail: slater.stevej@gmail.com
URL:https://dev.utahrecovers.org/meeting/recovery-dharma-hybrid-join-virtually-or-in-person-373/
LOCATION:Utah Support Advocates for Recovery Awareness – USARA\, 180 E 2100 S #100\, Salt Lake City\, UT 84115\, USA\, SLC RCC-1-Suite 100-Suite 100 Group Room (50)
CATEGORIES:Salt Lake Recovery Community Center
END:VEVENT
BEGIN:VEVENT
DTSTART;TZID=America/Denver:20250717T183000
DTEND;TZID=America/Denver:20250717T193000
DTSTAMP:20260423T220202
CREATED:20250717T162054Z
LAST-MODIFIED:20250717T162054Z
UID:10006743-1752777000-1752780600@dev.utahrecovers.org
SUMMARY:AA Solution Group (In person)
DESCRIPTION:Contacts \n\nAbbey P\n\ncell: (435) 659-0826\nemail: abbeyroadnelson@gmail.com\n\n\nJason\n\nemail: pritchardjasonr@gmail.com
URL:https://dev.utahrecovers.org/meeting/aa-solution-group-in-person-51/
LOCATION:Utah Support Advocates for Recovery Awareness – USARA\, 180 E 2100 S #100\, Salt Lake City\, UT 84115\, USA\, SLC RCC-1-Suite 100-Suite 100 Group Room (50)
CATEGORIES:Salt Lake Recovery Community Center
END:VEVENT
BEGIN:VEVENT
DTSTART;TZID=America/Denver:20250522T173000
DTEND;TZID=America/Denver:20250522T183000
DTSTAMP:20260423T220202
CREATED:20250521T153044Z
LAST-MODIFIED:20250521T153044Z
UID:10006441-1747935000-1747938600@dev.utahrecovers.org
SUMMARY:Psychedelics in Recovery (Hybrid - join virtually or in person!)
DESCRIPTION:https://us06web.zoom.us/j/86332491277?pwd=53DYFwemMM16J1zhZSYaRi8qMlbFHH.1 \nMeeting ID: 863 3249 1277Passcode: 144990
URL:https://dev.utahrecovers.org/meeting/psychedelics-in-recovery-hybrid-join-virtually-or-in-person-42/
LOCATION:Utah Support Advocates for Recovery Awareness – USARA\, 180 E 2100 S #100\, Salt Lake City\, UT 84115\, USA\, SLC RCC-1-Suite 100-Suite 100 Group Room (50)
CATEGORIES:Salt Lake Recovery Community Center
END:VEVENT
END:VCALENDAR