BEGIN:VCALENDAR
VERSION:2.0
PRODID:-//USARA - Utah Recovers - ECPv6.15.18//NONSGML v1.0//EN
CALSCALE:GREGORIAN
METHOD:PUBLISH
X-WR-CALNAME:USARA - Utah Recovers
X-ORIGINAL-URL:https://dev.utahrecovers.org
X-WR-CALDESC:Events for USARA - Utah Recovers
REFRESH-INTERVAL;VALUE=DURATION:PT1H
X-Robots-Tag:noindex
X-PUBLISHED-TTL:PT1H
BEGIN:VTIMEZONE
TZID:America/Denver
BEGIN:DAYLIGHT
TZOFFSETFROM:-0700
TZOFFSETTO:-0600
TZNAME:MDT
DTSTART:20250309T090000
END:DAYLIGHT
BEGIN:STANDARD
TZOFFSETFROM:-0600
TZOFFSETTO:-0700
TZNAME:MST
DTSTART:20251102T080000
END:STANDARD
BEGIN:DAYLIGHT
TZOFFSETFROM:-0700
TZOFFSETTO:-0600
TZNAME:MDT
DTSTART:20260308T090000
END:DAYLIGHT
BEGIN:STANDARD
TZOFFSETFROM:-0600
TZOFFSETTO:-0700
TZNAME:MST
DTSTART:20261101T080000
END:STANDARD
BEGIN:DAYLIGHT
TZOFFSETFROM:-0700
TZOFFSETTO:-0600
TZNAME:MDT
DTSTART:20270314T090000
END:DAYLIGHT
BEGIN:STANDARD
TZOFFSETFROM:-0600
TZOFFSETTO:-0700
TZNAME:MST
DTSTART:20271107T080000
END:STANDARD
END:VTIMEZONE
BEGIN:VEVENT
DTSTART;TZID=America/Denver:20260218T120000
DTEND;TZID=America/Denver:20260218T130000
DTSTAMP:20260423T110334
CREATED:20260119T185436Z
LAST-MODIFIED:20260119T185436Z
UID:10007044-1771416000-1771419600@dev.utahrecovers.org
SUMMARY:Recovery Dharma (Hybrid - join virtually or in person!)
DESCRIPTION:https://us02web.zoom.us/j/2361179850?pwd=NXhUUDNsUUpWYTNxdkhIOUcwNEhSUT09 \nContacts \n\nSteve Slater\n\nemail: slater.stevej@gmail.com
URL:https://dev.utahrecovers.org/meeting/recovery-dharma-hybrid-join-virtually-or-in-person-407/
LOCATION:Utah Support Advocates for Recovery Awareness – USARA\, 180 E 2100 S #100\, Salt Lake City\, UT 84115\, USA\, SLC RCC-1-Suite 100-Suite 100 Group Room (50)
CATEGORIES:Salt Lake Recovery Community Center
END:VEVENT
BEGIN:VEVENT
DTSTART;TZID=America/Denver:20260217T193000
DTEND;TZID=America/Denver:20260217T203000
DTSTAMP:20260423T110334
CREATED:20260119T185436Z
LAST-MODIFIED:20260119T185436Z
UID:10007042-1771356600-1771360200@dev.utahrecovers.org
SUMMARY:CaliSober Recovery Meeting (In person)
DESCRIPTION:
URL:https://dev.utahrecovers.org/meeting/calisober-recovery-meeting-in-person-9/
LOCATION:Utah Support Advocates for Recovery Awareness – USARA\, 180 E 2100 S #100\, Salt Lake City\, UT 84115\, USA\, SLC RCC-1-Suite 100-Suite 100 Group Room (50)
CATEGORIES:Salt Lake Recovery Community Center
END:VEVENT
BEGIN:VEVENT
DTSTART;TZID=America/Denver:20260217T180000
DTEND;TZID=America/Denver:20260217T193000
DTSTAMP:20260423T110334
CREATED:20260119T185436Z
LAST-MODIFIED:20260119T185436Z
UID:10007043-1771351200-1771356600@dev.utahrecovers.org
SUMMARY:Hopeful Changes Women's Group (In person)
DESCRIPTION:Contacts \n\nMeg Kisselburg\n\ncell: (801) 652-4840\nemail: megk19@gmail.com
URL:https://dev.utahrecovers.org/meeting/hopeful-changes-womens-group-in-person-57/
LOCATION:Utah Support Advocates for Recovery Awareness – USARA\, 180 E 2100 S #100\, Salt Lake City\, UT 84115\, USA\, SLC RCC-1-Suite 100-Suite 100 Group Room (50)
CATEGORIES:Salt Lake Recovery Community Center
END:VEVENT
BEGIN:VEVENT
DTSTART;TZID=America/Denver:20260217T170000
DTEND;TZID=America/Denver:20260217T180000
DTSTAMP:20260423T110334
CREATED:20260119T185425Z
LAST-MODIFIED:20260119T185425Z
UID:10007040-1771347600-1771351200@dev.utahrecovers.org
SUMMARY:Veterans Support Group (In person)
DESCRIPTION:
URL:https://dev.utahrecovers.org/meeting/veterans-support-group-in-person-56/
LOCATION:Utah Support Advocates for Recovery Awareness – USARA\, 180 E 2100 S #100\, Salt Lake City\, UT 84115\, USA\, SLC RCC-1-Suite 100-Suite 100 Group Room (50)
CATEGORIES:Salt Lake Recovery Community Center
END:VEVENT
BEGIN:VEVENT
DTSTART;TZID=America/Denver:20260216T180000
DTEND;TZID=America/Denver:20260216T190000
DTSTAMP:20260423T110334
CREATED:20260119T185425Z
LAST-MODIFIED:20260119T185425Z
UID:10007038-1771264800-1771268400@dev.utahrecovers.org
SUMMARY:Recovery Dharma (In person)
DESCRIPTION:
URL:https://dev.utahrecovers.org/meeting/recovery-dharma-in-person-158/
LOCATION:Utah Support Advocates for Recovery Awareness – USARA\, 180 E 2100 S #100\, Salt Lake City\, UT 84115\, USA\, SLC RCC-1-Suite 100-Suite 100 Group Room (50)
CATEGORIES:Salt Lake Recovery Community Center
END:VEVENT
BEGIN:VEVENT
DTSTART;TZID=America/Denver:20260216T170000
DTEND;TZID=America/Denver:20260216T180000
DTSTAMP:20260423T110334
CREATED:20260119T185425Z
LAST-MODIFIED:20260119T185425Z
UID:10007035-1771261200-1771264800@dev.utahrecovers.org
SUMMARY:Hopeful Changes Women's Book Study (In person)
DESCRIPTION:Currently reading: A Woman’s Way Through the Twelve Steps by Stephanie S Covington
URL:https://dev.utahrecovers.org/meeting/hopeful-changes-womens-book-study-in-person-17/
LOCATION:Utah Support Advocates for Recovery Awareness – USARA\, 180 E 2100 S #100\, Salt Lake City\, UT 84115\, USA\, SLC RCC-1-Suite 100-Suite 100 Group Room (50)
CATEGORIES:Salt Lake Recovery Community Center
END:VEVENT
BEGIN:VEVENT
DTSTART;TZID=America/Denver:20260215T160000
DTEND;TZID=America/Denver:20260215T170000
DTSTAMP:20260423T110334
CREATED:20260119T185424Z
LAST-MODIFIED:20260119T185424Z
UID:10007033-1771171200-1771174800@dev.utahrecovers.org
SUMMARY:CoDa for Addicts & Alcoholics (In person)
DESCRIPTION:
URL:https://dev.utahrecovers.org/meeting/coda-for-addicts-alcoholics-in-person-7/
LOCATION:Utah Support Advocates for Recovery Awareness – USARA\, 180 E 2100 S #100\, Salt Lake City\, UT 84115\, USA\, SLC RCC-1-Suite 100-Suite 100 Group Room (50)
CATEGORIES:Salt Lake Recovery Community Center
END:VEVENT
BEGIN:VEVENT
DTSTART;TZID=America/Denver:20260215T120000
DTEND;TZID=America/Denver:20260215T130000
DTSTAMP:20260423T110334
CREATED:20260119T185424Z
LAST-MODIFIED:20260119T185424Z
UID:10007031-1771156800-1771160400@dev.utahrecovers.org
SUMMARY:Recovery Dharma (Hybrid - join virtually or in person!)
DESCRIPTION:https://us02web.zoom.us/j/2361179850?pwd=NXhUUDNsUUpWYTNxdkhIOUcwNEhSUT09 \nContacts \n\nSteve Slater\n\nemail: slater.stevej@gmail.com
URL:https://dev.utahrecovers.org/meeting/recovery-dharma-hybrid-join-virtually-or-in-person-406/
LOCATION:Utah Support Advocates for Recovery Awareness – USARA\, 180 E 2100 S #100\, Salt Lake City\, UT 84115\, USA\, SLC RCC-1-Suite 100-Suite 100 Group Room (50)
CATEGORIES:Salt Lake Recovery Community Center
END:VEVENT
BEGIN:VEVENT
DTSTART;TZID=America/Denver:20260215T100000
DTEND;TZID=America/Denver:20260215T110000
DTSTAMP:20260423T110334
CREATED:20260119T185413Z
LAST-MODIFIED:20260119T185413Z
UID:10007030-1771149600-1771153200@dev.utahrecovers.org
SUMMARY:Sunday Morning Big Book Study (Hybrid - join virtually or in person!)
DESCRIPTION:https://us02web.zoom.us/j/89418418350?pwd=Rm9PSExNU3BEbURuZ09EaUpvcUZtdz09
URL:https://dev.utahrecovers.org/meeting/sunday-morning-big-book-study-hybrid-join-virtually-or-in-person-112/
LOCATION:Utah Support Advocates for Recovery Awareness – USARA\, 180 E 2100 S #100\, Salt Lake City\, UT 84115\, USA\, SLC RCC-1-Suite 100-Suite 100 Group Room (50)
CATEGORIES:Salt Lake Recovery Community Center
END:VEVENT
BEGIN:VEVENT
DTSTART;TZID=America/Denver:20260214T170000
DTEND;TZID=America/Denver:20260214T180000
DTSTAMP:20260423T110334
CREATED:20260119T185413Z
LAST-MODIFIED:20260119T185413Z
UID:10007029-1771088400-1771092000@dev.utahrecovers.org
SUMMARY:Recovery Dharma (Hybrid - join virtually or in person!)
DESCRIPTION:https://us02web.zoom.us/j/2361179850?pwd=NXhUUDNsUUpWYTNxdkhIOUcwNEhSUT09
URL:https://dev.utahrecovers.org/meeting/recovery-dharma-hybrid-join-virtually-or-in-person-405/
LOCATION:Utah Support Advocates for Recovery Awareness – USARA\, 180 E 2100 S #100\, Salt Lake City\, UT 84115\, USA\, SLC RCC-1-Suite 100-Suite 100 Group Room (50)
CATEGORIES:Salt Lake Recovery Community Center
END:VEVENT
BEGIN:VEVENT
DTSTART;TZID=America/Denver:20260214T093000
DTEND;TZID=America/Denver:20260214T110000
DTSTAMP:20260423T110334
CREATED:20260119T185412Z
LAST-MODIFIED:20260119T185412Z
UID:10007028-1771061400-1771066800@dev.utahrecovers.org
SUMMARY:SMART Recovery (Hybrid - join virtually or in person)
DESCRIPTION:https://smartrecovery.zoom.us/j/932119283 \nContacts \n\nJamiel\n\nemail: jamielk101@gmail.com
URL:https://dev.utahrecovers.org/meeting/smart-recovery-hybrid-join-virtually-or-in-person-220/
LOCATION:Utah Support Advocates for Recovery Awareness – USARA\, 180 E 2100 S #100\, Salt Lake City\, UT 84115\, USA\, SLC RCC-1-Suite 100-Suite 100 Group Room (50)
CATEGORIES:Salt Lake Recovery Community Center
END:VEVENT
BEGIN:VEVENT
DTSTART;TZID=America/Denver:20260213T120000
DTEND;TZID=America/Denver:20260213T130000
DTSTAMP:20260423T110334
CREATED:20260119T185412Z
LAST-MODIFIED:20260119T185412Z
UID:10007024-1770984000-1770987600@dev.utahrecovers.org
SUMMARY:Recovery Dharma (Hybrid - join virtually or in person!)
DESCRIPTION:https://us02web.zoom.us/j/2361179850?pwd=NXhUUDNsUUpWYTNxdkhIOUcwNEhSUT09 \nContacts \n\nSteve Slater\n\nemail: slater.stevej@gmail.com
URL:https://dev.utahrecovers.org/meeting/recovery-dharma-hybrid-join-virtually-or-in-person-404/
LOCATION:Utah Support Advocates for Recovery Awareness – USARA\, 180 E 2100 S #100\, Salt Lake City\, UT 84115\, USA\, SLC RCC-1-Suite 100-Suite 100 Group Room (50)
CATEGORIES:Salt Lake Recovery Community Center
END:VEVENT
BEGIN:VEVENT
DTSTART;TZID=America/Denver:20260212T183000
DTEND;TZID=America/Denver:20260212T193000
DTSTAMP:20260423T110334
CREATED:20260119T185412Z
LAST-MODIFIED:20260119T185412Z
UID:10007021-1770921000-1770924600@dev.utahrecovers.org
SUMMARY:AA Solution Group (In person)
DESCRIPTION:Contacts \n\nAbbey P\n\ncell: (435) 659-0826\nemail: abbeyroadnelson@gmail.com\n\n\nJason\n\nemail: pritchardjasonr@gmail.com
URL:https://dev.utahrecovers.org/meeting/aa-solution-group-in-person-59/
LOCATION:Utah Support Advocates for Recovery Awareness – USARA\, 180 E 2100 S #100\, Salt Lake City\, UT 84115\, USA\, SLC RCC-1-Suite 100-Suite 100 Group Room (50)
CATEGORIES:Salt Lake Recovery Community Center
END:VEVENT
BEGIN:VEVENT
DTSTART;TZID=America/Denver:20260211T200000
DTEND;TZID=America/Denver:20260211T210000
DTSTAMP:20260423T110334
CREATED:20260119T185359Z
LAST-MODIFIED:20260119T185359Z
UID:10007019-1770840000-1770843600@dev.utahrecovers.org
SUMMARY:Addicts Fighting Back (In person)
DESCRIPTION:Contacts
URL:https://dev.utahrecovers.org/meeting/addicts-fighting-back-in-person-58/
LOCATION:Utah Support Advocates for Recovery Awareness – USARA\, 180 E 2100 S #100\, Salt Lake City\, UT 84115\, USA\, SLC RCC-1-Suite 100-Suite 100 Group Room (50)
CATEGORIES:Salt Lake Recovery Community Center
END:VEVENT
BEGIN:VEVENT
DTSTART;TZID=America/Denver:20260211T180000
DTEND;TZID=America/Denver:20260211T193000
DTSTAMP:20260423T110334
CREATED:20260119T185359Z
LAST-MODIFIED:20260119T185359Z
UID:10007017-1770832800-1770838200@dev.utahrecovers.org
SUMMARY:CRAFT Family Support (In person)
DESCRIPTION:
URL:https://dev.utahrecovers.org/meeting/craft-family-support-in-person-116/
LOCATION:Utah Support Advocates for Recovery Awareness – USARA\, 180 E 2100 S #100\, Salt Lake City\, UT 84115\, USA\, SLC RCC-1-Suite 100-Suite 100 Group Room (50)
CATEGORIES:Salt Lake Recovery Community Center
END:VEVENT
BEGIN:VEVENT
DTSTART;TZID=America/Denver:20260211T120000
DTEND;TZID=America/Denver:20260211T130000
DTSTAMP:20260423T110334
CREATED:20260119T185359Z
LAST-MODIFIED:20260119T185359Z
UID:10007016-1770811200-1770814800@dev.utahrecovers.org
SUMMARY:Recovery Dharma (Hybrid - join virtually or in person!)
DESCRIPTION:https://us02web.zoom.us/j/2361179850?pwd=NXhUUDNsUUpWYTNxdkhIOUcwNEhSUT09 \nContacts \n\nSteve Slater\n\nemail: slater.stevej@gmail.com
URL:https://dev.utahrecovers.org/meeting/recovery-dharma-hybrid-join-virtually-or-in-person-403/
LOCATION:Utah Support Advocates for Recovery Awareness – USARA\, 180 E 2100 S #100\, Salt Lake City\, UT 84115\, USA\, SLC RCC-1-Suite 100-Suite 100 Group Room (50)
CATEGORIES:Salt Lake Recovery Community Center
END:VEVENT
BEGIN:VEVENT
DTSTART;TZID=America/Denver:20260210T193000
DTEND;TZID=America/Denver:20260210T203000
DTSTAMP:20260423T110334
CREATED:20260119T185359Z
LAST-MODIFIED:20260119T185359Z
UID:10007014-1770751800-1770755400@dev.utahrecovers.org
SUMMARY:CaliSober Recovery Meeting (In person)
DESCRIPTION:
URL:https://dev.utahrecovers.org/meeting/calisober-recovery-meeting-in-person-8/
LOCATION:Utah Support Advocates for Recovery Awareness – USARA\, 180 E 2100 S #100\, Salt Lake City\, UT 84115\, USA\, SLC RCC-1-Suite 100-Suite 100 Group Room (50)
CATEGORIES:Salt Lake Recovery Community Center
END:VEVENT
BEGIN:VEVENT
DTSTART;TZID=America/Denver:20260210T180000
DTEND;TZID=America/Denver:20260210T193000
DTSTAMP:20260423T110334
CREATED:20260119T185359Z
LAST-MODIFIED:20260119T185359Z
UID:10007015-1770746400-1770751800@dev.utahrecovers.org
SUMMARY:Hopeful Changes Women's Group (In person)
DESCRIPTION:Contacts \n\nMeg Kisselburg\n\ncell: (801) 652-4840\nemail: megk19@gmail.com
URL:https://dev.utahrecovers.org/meeting/hopeful-changes-womens-group-in-person-56/
LOCATION:Utah Support Advocates for Recovery Awareness – USARA\, 180 E 2100 S #100\, Salt Lake City\, UT 84115\, USA\, SLC RCC-1-Suite 100-Suite 100 Group Room (50)
CATEGORIES:Salt Lake Recovery Community Center
END:VEVENT
BEGIN:VEVENT
DTSTART;TZID=America/Denver:20260210T170000
DTEND;TZID=America/Denver:20260210T180000
DTSTAMP:20260423T110334
CREATED:20260119T185358Z
LAST-MODIFIED:20260119T185358Z
UID:10007012-1770742800-1770746400@dev.utahrecovers.org
SUMMARY:Veterans Support Group (In person)
DESCRIPTION:
URL:https://dev.utahrecovers.org/meeting/veterans-support-group-in-person-55/
LOCATION:Utah Support Advocates for Recovery Awareness – USARA\, 180 E 2100 S #100\, Salt Lake City\, UT 84115\, USA\, SLC RCC-1-Suite 100-Suite 100 Group Room (50)
CATEGORIES:Salt Lake Recovery Community Center
END:VEVENT
BEGIN:VEVENT
DTSTART;TZID=America/Denver:20260209T180000
DTEND;TZID=America/Denver:20260209T190000
DTSTAMP:20260423T110334
CREATED:20260119T185346Z
LAST-MODIFIED:20260119T185346Z
UID:10007009-1770660000-1770663600@dev.utahrecovers.org
SUMMARY:Recovery Dharma (In person)
DESCRIPTION:
URL:https://dev.utahrecovers.org/meeting/recovery-dharma-in-person-157/
LOCATION:Utah Support Advocates for Recovery Awareness – USARA\, 180 E 2100 S #100\, Salt Lake City\, UT 84115\, USA\, SLC RCC-1-Suite 100-Suite 100 Group Room (50)
CATEGORIES:Salt Lake Recovery Community Center
END:VEVENT
BEGIN:VEVENT
DTSTART;TZID=America/Denver:20260209T170000
DTEND;TZID=America/Denver:20260209T180000
DTSTAMP:20260423T110334
CREATED:20260119T185358Z
LAST-MODIFIED:20260119T185358Z
UID:10007011-1770656400-1770660000@dev.utahrecovers.org
SUMMARY:Hopeful Changes Women's Book Study (In person)
DESCRIPTION:Currently reading: A Woman’s Way Through the Twelve Steps by Stephanie S Covington
URL:https://dev.utahrecovers.org/meeting/hopeful-changes-womens-book-study-in-person-16/
LOCATION:Utah Support Advocates for Recovery Awareness – USARA\, 180 E 2100 S #100\, Salt Lake City\, UT 84115\, USA\, SLC RCC-1-Suite 100-Suite 100 Group Room (50)
CATEGORIES:Salt Lake Recovery Community Center
END:VEVENT
BEGIN:VEVENT
DTSTART;TZID=America/Denver:20260208T160000
DTEND;TZID=America/Denver:20260208T170000
DTSTAMP:20260423T110334
CREATED:20260119T185346Z
LAST-MODIFIED:20260119T185346Z
UID:10007005-1770566400-1770570000@dev.utahrecovers.org
SUMMARY:CoDa for Addicts & Alcoholics (In person)
DESCRIPTION:
URL:https://dev.utahrecovers.org/meeting/coda-for-addicts-alcoholics-in-person-6/
LOCATION:Utah Support Advocates for Recovery Awareness – USARA\, 180 E 2100 S #100\, Salt Lake City\, UT 84115\, USA\, SLC RCC-1-Suite 100-Suite 100 Group Room (50)
CATEGORIES:Salt Lake Recovery Community Center
END:VEVENT
BEGIN:VEVENT
DTSTART;TZID=America/Denver:20260208T120000
DTEND;TZID=America/Denver:20260208T130000
DTSTAMP:20260423T110334
CREATED:20260119T185346Z
LAST-MODIFIED:20260119T185346Z
UID:10007003-1770552000-1770555600@dev.utahrecovers.org
SUMMARY:Recovery Dharma (Hybrid - join virtually or in person!)
DESCRIPTION:https://us02web.zoom.us/j/2361179850?pwd=NXhUUDNsUUpWYTNxdkhIOUcwNEhSUT09 \nContacts \n\nSteve Slater\n\nemail: slater.stevej@gmail.com
URL:https://dev.utahrecovers.org/meeting/recovery-dharma-hybrid-join-virtually-or-in-person-402/
LOCATION:Utah Support Advocates for Recovery Awareness – USARA\, 180 E 2100 S #100\, Salt Lake City\, UT 84115\, USA\, SLC RCC-1-Suite 100-Suite 100 Group Room (50)
CATEGORIES:Salt Lake Recovery Community Center
END:VEVENT
BEGIN:VEVENT
DTSTART;TZID=America/Denver:20260208T100000
DTEND;TZID=America/Denver:20260208T110000
DTSTAMP:20260423T110334
CREATED:20260119T185345Z
LAST-MODIFIED:20260119T185345Z
UID:10007002-1770544800-1770548400@dev.utahrecovers.org
SUMMARY:Sunday Morning Big Book Study (Hybrid - join virtually or in person!)
DESCRIPTION:https://us02web.zoom.us/j/89418418350?pwd=Rm9PSExNU3BEbURuZ09EaUpvcUZtdz09
URL:https://dev.utahrecovers.org/meeting/sunday-morning-big-book-study-hybrid-join-virtually-or-in-person-111/
LOCATION:Utah Support Advocates for Recovery Awareness – USARA\, 180 E 2100 S #100\, Salt Lake City\, UT 84115\, USA\, SLC RCC-1-Suite 100-Suite 100 Group Room (50)
CATEGORIES:Salt Lake Recovery Community Center
END:VEVENT
BEGIN:VEVENT
DTSTART;TZID=America/Denver:20260207T170000
DTEND;TZID=America/Denver:20260207T180000
DTSTAMP:20260423T110334
CREATED:20260119T185345Z
LAST-MODIFIED:20260119T185345Z
UID:10007001-1770483600-1770487200@dev.utahrecovers.org
SUMMARY:Recovery Dharma (Hybrid - join virtually or in person!)
DESCRIPTION:https://us02web.zoom.us/j/2361179850?pwd=NXhUUDNsUUpWYTNxdkhIOUcwNEhSUT09
URL:https://dev.utahrecovers.org/meeting/recovery-dharma-hybrid-join-virtually-or-in-person-401/
LOCATION:Utah Support Advocates for Recovery Awareness – USARA\, 180 E 2100 S #100\, Salt Lake City\, UT 84115\, USA\, SLC RCC-1-Suite 100-Suite 100 Group Room (50)
CATEGORIES:Salt Lake Recovery Community Center
END:VEVENT
BEGIN:VEVENT
DTSTART;TZID=America/Denver:20260207T093000
DTEND;TZID=America/Denver:20260207T110000
DTSTAMP:20260423T110334
CREATED:20260119T185334Z
LAST-MODIFIED:20260119T185334Z
UID:10006999-1770456600-1770462000@dev.utahrecovers.org
SUMMARY:SMART Recovery (Hybrid - join virtually or in person)
DESCRIPTION:https://smartrecovery.zoom.us/j/932119283 \nContacts \n\nJamiel\n\nemail: jamielk101@gmail.com
URL:https://dev.utahrecovers.org/meeting/smart-recovery-hybrid-join-virtually-or-in-person-218/
LOCATION:Utah Support Advocates for Recovery Awareness – USARA\, 180 E 2100 S #100\, Salt Lake City\, UT 84115\, USA\, SLC RCC-1-Suite 100-Suite 100 Group Room (50)
CATEGORIES:Salt Lake Recovery Community Center
END:VEVENT
BEGIN:VEVENT
DTSTART;TZID=America/Denver:20260206T120000
DTEND;TZID=America/Denver:20260206T130000
DTSTAMP:20260423T110334
CREATED:20260119T185333Z
LAST-MODIFIED:20260119T185333Z
UID:10006994-1770379200-1770382800@dev.utahrecovers.org
SUMMARY:Recovery Dharma (Hybrid - join virtually or in person!)
DESCRIPTION:https://us02web.zoom.us/j/2361179850?pwd=NXhUUDNsUUpWYTNxdkhIOUcwNEhSUT09 \nContacts \n\nSteve Slater\n\nemail: slater.stevej@gmail.com
URL:https://dev.utahrecovers.org/meeting/recovery-dharma-hybrid-join-virtually-or-in-person-400/
LOCATION:Utah Support Advocates for Recovery Awareness – USARA\, 180 E 2100 S #100\, Salt Lake City\, UT 84115\, USA\, SLC RCC-1-Suite 100-Suite 100 Group Room (50)
CATEGORIES:Salt Lake Recovery Community Center
END:VEVENT
BEGIN:VEVENT
DTSTART;TZID=America/Denver:20260205T183000
DTEND;TZID=America/Denver:20260205T193000
DTSTAMP:20260423T110334
CREATED:20260119T185333Z
LAST-MODIFIED:20260119T185333Z
UID:10006991-1770316200-1770319800@dev.utahrecovers.org
SUMMARY:AA Solution Group (In person)
DESCRIPTION:Contacts \n\nAbbey P\n\ncell: (435) 659-0826\nemail: abbeyroadnelson@gmail.com\n\n\nJason\n\nemail: pritchardjasonr@gmail.com
URL:https://dev.utahrecovers.org/meeting/aa-solution-group-in-person-58/
LOCATION:Utah Support Advocates for Recovery Awareness – USARA\, 180 E 2100 S #100\, Salt Lake City\, UT 84115\, USA\, SLC RCC-1-Suite 100-Suite 100 Group Room (50)
CATEGORIES:Salt Lake Recovery Community Center
END:VEVENT
BEGIN:VEVENT
DTSTART;TZID=America/Denver:20260204T200000
DTEND;TZID=America/Denver:20260204T210000
DTSTAMP:20260423T110334
CREATED:20260119T185320Z
LAST-MODIFIED:20260119T185320Z
UID:10006989-1770235200-1770238800@dev.utahrecovers.org
SUMMARY:Addicts Fighting Back (In person)
DESCRIPTION:Contacts
URL:https://dev.utahrecovers.org/meeting/addicts-fighting-back-in-person-57/
LOCATION:Utah Support Advocates for Recovery Awareness – USARA\, 180 E 2100 S #100\, Salt Lake City\, UT 84115\, USA\, SLC RCC-1-Suite 100-Suite 100 Group Room (50)
CATEGORIES:Salt Lake Recovery Community Center
END:VEVENT
BEGIN:VEVENT
DTSTART;TZID=America/Denver:20260204T180000
DTEND;TZID=America/Denver:20260204T193000
DTSTAMP:20260423T110334
CREATED:20260119T185320Z
LAST-MODIFIED:20260119T185320Z
UID:10006987-1770228000-1770233400@dev.utahrecovers.org
SUMMARY:CRAFT Family Support (In person)
DESCRIPTION:
URL:https://dev.utahrecovers.org/meeting/craft-family-support-in-person-115/
LOCATION:Utah Support Advocates for Recovery Awareness – USARA\, 180 E 2100 S #100\, Salt Lake City\, UT 84115\, USA\, SLC RCC-1-Suite 100-Suite 100 Group Room (50)
CATEGORIES:Salt Lake Recovery Community Center
END:VEVENT
END:VCALENDAR