BEGIN:VCALENDAR
VERSION:2.0
PRODID:-//USARA - Utah Recovers - ECPv6.15.18//NONSGML v1.0//EN
CALSCALE:GREGORIAN
METHOD:PUBLISH
X-WR-CALNAME:USARA - Utah Recovers
X-ORIGINAL-URL:https://dev.utahrecovers.org
X-WR-CALDESC:Events for USARA - Utah Recovers
REFRESH-INTERVAL;VALUE=DURATION:PT1H
X-Robots-Tag:noindex
X-PUBLISHED-TTL:PT1H
BEGIN:VTIMEZONE
TZID:America/Denver
BEGIN:DAYLIGHT
TZOFFSETFROM:-0700
TZOFFSETTO:-0600
TZNAME:MDT
DTSTART:20240310T090000
END:DAYLIGHT
BEGIN:STANDARD
TZOFFSETFROM:-0600
TZOFFSETTO:-0700
TZNAME:MST
DTSTART:20241103T080000
END:STANDARD
BEGIN:DAYLIGHT
TZOFFSETFROM:-0700
TZOFFSETTO:-0600
TZNAME:MDT
DTSTART:20250309T090000
END:DAYLIGHT
BEGIN:STANDARD
TZOFFSETFROM:-0600
TZOFFSETTO:-0700
TZNAME:MST
DTSTART:20251102T080000
END:STANDARD
BEGIN:DAYLIGHT
TZOFFSETFROM:-0700
TZOFFSETTO:-0600
TZNAME:MDT
DTSTART:20260308T090000
END:DAYLIGHT
BEGIN:STANDARD
TZOFFSETFROM:-0600
TZOFFSETTO:-0700
TZNAME:MST
DTSTART:20261101T080000
END:STANDARD
END:VTIMEZONE
BEGIN:VEVENT
DTSTART;TZID=America/Denver:20250411T190000
DTEND;TZID=America/Denver:20250411T200000
DTSTAMP:20260424T132409
CREATED:20250313T044358Z
LAST-MODIFIED:20250411T092011Z
UID:10005885-1744398000-1744401600@dev.utahrecovers.org
SUMMARY:Young People in Recovery (In person)
DESCRIPTION:
URL:https://dev.utahrecovers.org/meeting/young-people-in-recovery-in-person-30/
LOCATION:SLC RCC-2-Suite 203-Suite 203 Group Room (40)
CATEGORIES:Salt Lake Recovery Community Center
END:VEVENT
BEGIN:VEVENT
DTSTART;TZID=America/Denver:20250409T193000
DTEND;TZID=America/Denver:20250409T203000
DTSTAMP:20260424T132409
CREATED:20250311T035455Z
LAST-MODIFIED:20250409T092010Z
UID:10005843-1744227000-1744230600@dev.utahrecovers.org
SUMMARY:LGBTQ+ Corner Canyon Health Care Group
DESCRIPTION:
URL:https://dev.utahrecovers.org/meeting/lgbtq-corner-canyon-health-care-group-21/
LOCATION:SLC RCC-2-Suite 203-Suite 203 Group Room (40)
CATEGORIES:Salt Lake Recovery Community Center
END:VEVENT
BEGIN:VEVENT
DTSTART;TZID=America/Denver:20250407T174500
DTEND;TZID=America/Denver:20250407T184500
DTSTAMP:20260424T132409
CREATED:20250308T034352Z
LAST-MODIFIED:20250407T085217Z
UID:10005802-1744047900-1744051500@dev.utahrecovers.org
SUMMARY:The Young and Methless CMA (In person)
DESCRIPTION:
URL:https://dev.utahrecovers.org/meeting/the-young-and-methless-cma-in-person-16/
LOCATION:SLC RCC-2-Suite 203-Suite 203 Group Room (40)
CATEGORIES:Salt Lake Recovery Community Center
END:VEVENT
BEGIN:VEVENT
DTSTART;TZID=America/Denver:20250404T190000
DTEND;TZID=America/Denver:20250404T200000
DTSTAMP:20260424T132409
CREATED:20250306T032305Z
LAST-MODIFIED:20250404T075212Z
UID:10005783-1743793200-1743796800@dev.utahrecovers.org
SUMMARY:Young People in Recovery (In person)
DESCRIPTION:
URL:https://dev.utahrecovers.org/meeting/young-people-in-recovery-in-person-29/
LOCATION:SLC RCC-2-Suite 203-Suite 203 Group Room (40)
CATEGORIES:Salt Lake Recovery Community Center
END:VEVENT
BEGIN:VEVENT
DTSTART;TZID=America/Denver:20250402T193000
DTEND;TZID=America/Denver:20250402T203000
DTSTAMP:20260424T132409
CREATED:20250304T024341Z
LAST-MODIFIED:20250402T072014Z
UID:10005748-1743622200-1743625800@dev.utahrecovers.org
SUMMARY:LGBTQ+ Corner Canyon Health Care Group
DESCRIPTION:
URL:https://dev.utahrecovers.org/meeting/lgbtq-corner-canyon-health-care-group-20/
LOCATION:SLC RCC-2-Suite 203-Suite 203 Group Room (40)
CATEGORIES:Salt Lake Recovery Community Center
END:VEVENT
BEGIN:VEVENT
DTSTART;TZID=America/Denver:20250331T174500
DTEND;TZID=America/Denver:20250331T184500
DTSTAMP:20260424T132409
CREATED:20250301T024347Z
LAST-MODIFIED:20250331T065209Z
UID:10005710-1743443100-1743446700@dev.utahrecovers.org
SUMMARY:The Young and Methless CMA (In person)
DESCRIPTION:
URL:https://dev.utahrecovers.org/meeting/the-young-and-methless-cma-in-person-15/
LOCATION:SLC RCC-2-Suite 203-Suite 203 Group Room (40)
CATEGORIES:Salt Lake Recovery Community Center
END:VEVENT
BEGIN:VEVENT
DTSTART;TZID=America/Denver:20250328T190000
DTEND;TZID=America/Denver:20250328T200000
DTSTAMP:20260424T132409
CREATED:20250227T015450Z
LAST-MODIFIED:20250328T064110Z
UID:10005693-1743188400-1743192000@dev.utahrecovers.org
SUMMARY:Young People in Recovery (In person)
DESCRIPTION:
URL:https://dev.utahrecovers.org/meeting/young-people-in-recovery-in-person-28/
LOCATION:SLC RCC-2-Suite 203-Suite 203 Group Room (40)
CATEGORIES:Salt Lake Recovery Community Center
END:VEVENT
END:VCALENDAR