BEGIN:VCALENDAR
VERSION:2.0
PRODID:-//USARA - Utah Recovers - ECPv6.15.18//NONSGML v1.0//EN
CALSCALE:GREGORIAN
METHOD:PUBLISH
X-WR-CALNAME:USARA - Utah Recovers
X-ORIGINAL-URL:https://dev.utahrecovers.org
X-WR-CALDESC:Events for USARA - Utah Recovers
REFRESH-INTERVAL;VALUE=DURATION:PT1H
X-Robots-Tag:noindex
X-PUBLISHED-TTL:PT1H
BEGIN:VTIMEZONE
TZID:America/Denver
BEGIN:DAYLIGHT
TZOFFSETFROM:-0700
TZOFFSETTO:-0600
TZNAME:MDT
DTSTART:20240310T090000
END:DAYLIGHT
BEGIN:STANDARD
TZOFFSETFROM:-0600
TZOFFSETTO:-0700
TZNAME:MST
DTSTART:20241103T080000
END:STANDARD
BEGIN:DAYLIGHT
TZOFFSETFROM:-0700
TZOFFSETTO:-0600
TZNAME:MDT
DTSTART:20250309T090000
END:DAYLIGHT
BEGIN:STANDARD
TZOFFSETFROM:-0600
TZOFFSETTO:-0700
TZNAME:MST
DTSTART:20251102T080000
END:STANDARD
BEGIN:DAYLIGHT
TZOFFSETFROM:-0700
TZOFFSETTO:-0600
TZNAME:MDT
DTSTART:20260308T090000
END:DAYLIGHT
BEGIN:STANDARD
TZOFFSETFROM:-0600
TZOFFSETTO:-0700
TZNAME:MST
DTSTART:20261101T080000
END:STANDARD
BEGIN:DAYLIGHT
TZOFFSETFROM:-0700
TZOFFSETTO:-0600
TZNAME:MDT
DTSTART:20270314T090000
END:DAYLIGHT
BEGIN:STANDARD
TZOFFSETFROM:-0600
TZOFFSETTO:-0700
TZNAME:MST
DTSTART:20271107T080000
END:STANDARD
END:VTIMEZONE
BEGIN:VEVENT
DTSTART;TZID=America/Denver:20260212T093000
DTEND;TZID=America/Denver:20260212T163000
DTSTAMP:20260423T113457
CREATED:20260119T185359Z
LAST-MODIFIED:20260119T185359Z
UID:10007020-1770888600-1770913800@dev.utahrecovers.org
SUMMARY:Clean Slate - Fingerprints (In person)
DESCRIPTION:
URL:https://dev.utahrecovers.org/meeting/clean-slate-fingerprints-in-person-60/
LOCATION:SLC RCC-1-Suite 100-Suite 100 Group Room (50)
CATEGORIES:Salt Lake Recovery Community Center
END:VEVENT
BEGIN:VEVENT
DTSTART;TZID=America/Denver:20260207T113000
DTEND;TZID=America/Denver:20260207T130000
DTSTAMP:20260423T113457
CREATED:20260119T185334Z
LAST-MODIFIED:20260119T185334Z
UID:10007000-1770463800-1770469200@dev.utahrecovers.org
SUMMARY:Clean Life Community - Outreach Kits (In person)
DESCRIPTION:
URL:https://dev.utahrecovers.org/meeting/clean-life-community-outreach-kits-in-person-10/
LOCATION:SLC RCC-1-Suite 100-Suite 100 Group Room (50)
CATEGORIES:Salt Lake Recovery Community Center
END:VEVENT
BEGIN:VEVENT
DTSTART;TZID=America/Denver:20260206T180000
DTEND;TZID=America/Denver:20260206T200000
DTSTAMP:20260423T113457
CREATED:20260119T185334Z
LAST-MODIFIED:20260119T185334Z
UID:10006997-1770400800-1770408000@dev.utahrecovers.org
SUMMARY:Family Fun Night
DESCRIPTION:
URL:https://dev.utahrecovers.org/meeting/family-fun-night-13/
LOCATION:SLC RCC-1-Suite 100-Suite 100 Group Room (50)
CATEGORIES:Salt Lake Recovery Community Center
END:VEVENT
BEGIN:VEVENT
DTSTART;TZID=America/Denver:20260205T093000
DTEND;TZID=America/Denver:20260205T163000
DTSTAMP:20260423T113457
CREATED:20260119T185320Z
LAST-MODIFIED:20260119T185320Z
UID:10006990-1770283800-1770309000@dev.utahrecovers.org
SUMMARY:Clean Slate - Fingerprints (In person)
DESCRIPTION:
URL:https://dev.utahrecovers.org/meeting/clean-slate-fingerprints-in-person-59/
LOCATION:SLC RCC-1-Suite 100-Suite 100 Group Room (50)
CATEGORIES:Salt Lake Recovery Community Center
END:VEVENT
BEGIN:VEVENT
DTSTART;TZID=America/Denver:20260129T093000
DTEND;TZID=America/Denver:20260129T163000
DTSTAMP:20260423T113457
CREATED:20260119T185255Z
LAST-MODIFIED:20260119T185255Z
UID:10006962-1769679000-1769704200@dev.utahrecovers.org
SUMMARY:Clean Slate - Fingerprints (In person)
DESCRIPTION:
URL:https://dev.utahrecovers.org/meeting/clean-slate-fingerprints-in-person-58/
LOCATION:SLC RCC-1-Suite 100-Suite 100 Group Room (50)
CATEGORIES:Salt Lake Recovery Community Center
END:VEVENT
BEGIN:VEVENT
DTSTART;TZID=America/Denver:20260126T150000
DTEND;TZID=America/Denver:20260126T170000
DTSTAMP:20260423T113457
CREATED:20260119T185231Z
LAST-MODIFIED:20260119T185231Z
UID:10006950-1769439600-1769446800@dev.utahrecovers.org
SUMMARY:Michelle Cares Inc Volunteer Opportunity-tying blankets
DESCRIPTION:
URL:https://dev.utahrecovers.org/meeting/michelle-cares-inc-volunteer-opportunity-tying-blankets/
LOCATION:SLC RCC-1-Suite 100-Suite 100 Group Room (50)
CATEGORIES:Salt Lake Recovery Community Center
END:VEVENT
BEGIN:VEVENT
DTSTART;TZID=America/Denver:20260122T093000
DTEND;TZID=America/Denver:20260122T163000
DTSTAMP:20260423T113457
CREATED:20260119T185217Z
LAST-MODIFIED:20260119T185217Z
UID:10006933-1769074200-1769099400@dev.utahrecovers.org
SUMMARY:Clean Slate - Fingerprints (In person)
DESCRIPTION:
URL:https://dev.utahrecovers.org/meeting/clean-slate-fingerprints-in-person-57/
LOCATION:SLC RCC-1-Suite 100-Suite 100 Group Room (50)
CATEGORIES:Salt Lake Recovery Community Center
END:VEVENT
BEGIN:VEVENT
DTSTART;TZID=America/Denver:20250814T093000
DTEND;TZID=America/Denver:20250814T163000
DTSTAMP:20260423T113457
CREATED:20250717T162330Z
LAST-MODIFIED:20250717T162330Z
UID:10006863-1755163800-1755189000@dev.utahrecovers.org
SUMMARY:Clean Slate - Fingerprints (In person)
DESCRIPTION:
URL:https://dev.utahrecovers.org/meeting/clean-slate-fingerprints-in-person-56/
LOCATION:SLC RCC-1-Suite 100-Suite 100 Group Room (50)
CATEGORIES:Salt Lake Recovery Community Center
END:VEVENT
BEGIN:VEVENT
DTSTART;TZID=America/Denver:20250807T093000
DTEND;TZID=America/Denver:20250807T163000
DTSTAMP:20260423T113457
CREATED:20250717T162252Z
LAST-MODIFIED:20250717T162252Z
UID:10006834-1754559000-1754584200@dev.utahrecovers.org
SUMMARY:Clean Slate - Fingerprints (In person)
DESCRIPTION:
URL:https://dev.utahrecovers.org/meeting/clean-slate-fingerprints-in-person-55/
LOCATION:SLC RCC-1-Suite 100-Suite 100 Group Room (50)
CATEGORIES:Salt Lake Recovery Community Center
END:VEVENT
BEGIN:VEVENT
DTSTART;TZID=America/Denver:20250802T113000
DTEND;TZID=America/Denver:20250802T130000
DTSTAMP:20260423T113457
CREATED:20250717T162226Z
LAST-MODIFIED:20250717T162226Z
UID:10006813-1754134200-1754139600@dev.utahrecovers.org
SUMMARY:Clean Life Community - Outreach Kits (In person)
DESCRIPTION:
URL:https://dev.utahrecovers.org/meeting/clean-life-community-outreach-kits-in-person-9/
LOCATION:SLC RCC-1-Suite 100-Suite 100 Group Room (50)
CATEGORIES:Salt Lake Recovery Community Center
END:VEVENT
BEGIN:VEVENT
DTSTART;TZID=America/Denver:20250801T180000
DTEND;TZID=America/Denver:20250801T200000
DTSTAMP:20260423T113457
CREATED:20250717T162213Z
LAST-MODIFIED:20250717T162213Z
UID:10006808-1754071200-1754078400@dev.utahrecovers.org
SUMMARY:Family Fun Night
DESCRIPTION:
URL:https://dev.utahrecovers.org/meeting/family-fun-night-12/
LOCATION:SLC RCC-1-Suite 100-Suite 100 Group Room (50)
CATEGORIES:Salt Lake Recovery Community Center
END:VEVENT
BEGIN:VEVENT
DTSTART;TZID=America/Denver:20250731T093000
DTEND;TZID=America/Denver:20250731T163000
DTSTAMP:20260423T113457
CREATED:20250717T162212Z
LAST-MODIFIED:20250717T162212Z
UID:10006803-1753954200-1753979400@dev.utahrecovers.org
SUMMARY:Clean Slate - Fingerprints (In person)
DESCRIPTION:
URL:https://dev.utahrecovers.org/meeting/clean-slate-fingerprints-in-person-54/
LOCATION:SLC RCC-1-Suite 100-Suite 100 Group Room (50)
CATEGORIES:Salt Lake Recovery Community Center
END:VEVENT
BEGIN:VEVENT
DTSTART;TZID=America/Denver:20250724T093000
DTEND;TZID=America/Denver:20250724T163000
DTSTAMP:20260423T113457
CREATED:20250717T162134Z
LAST-MODIFIED:20250717T162134Z
UID:10006773-1753349400-1753374600@dev.utahrecovers.org
SUMMARY:Clean Slate - Fingerprints (In person)
DESCRIPTION:
URL:https://dev.utahrecovers.org/meeting/clean-slate-fingerprints-in-person-53/
LOCATION:SLC RCC-1-Suite 100-Suite 100 Group Room (50)
CATEGORIES:Salt Lake Recovery Community Center
END:VEVENT
BEGIN:VEVENT
DTSTART;TZID=America/Denver:20250717T093000
DTEND;TZID=America/Denver:20250717T163000
DTSTAMP:20260423T113457
CREATED:20250717T162054Z
LAST-MODIFIED:20250717T162054Z
UID:10006742-1752744600-1752769800@dev.utahrecovers.org
SUMMARY:Clean Slate - Fingerprints (In person)
DESCRIPTION:
URL:https://dev.utahrecovers.org/meeting/clean-slate-fingerprints-in-person-52/
LOCATION:SLC RCC-1-Suite 100-Suite 100 Group Room (50)
CATEGORIES:Salt Lake Recovery Community Center
END:VEVENT
BEGIN:VEVENT
DTSTART;TZID=America/Denver:20250522T093000
DTEND;TZID=America/Denver:20250522T163000
DTSTAMP:20260423T113457
CREATED:20250521T153044Z
LAST-MODIFIED:20250521T153044Z
UID:10006440-1747906200-1747931400@dev.utahrecovers.org
SUMMARY:Clean Slate - Fingerprints (In person)
DESCRIPTION:
URL:https://dev.utahrecovers.org/meeting/clean-slate-fingerprints-in-person-51/
LOCATION:SLC RCC-1-Suite 100-Suite 100 Group Room (50)
CATEGORIES:Salt Lake Recovery Community Center
END:VEVENT
BEGIN:VEVENT
DTSTART;TZID=America/Denver:20250515T093000
DTEND;TZID=America/Denver:20250515T163000
DTSTAMP:20260423T113457
CREATED:20250415T102255Z
LAST-MODIFIED:20250416T102309Z
UID:10006372-1747301400-1747326600@dev.utahrecovers.org
SUMMARY:Clean Slate - Fingerprints (In person)
DESCRIPTION:
URL:https://dev.utahrecovers.org/meeting/clean-slate-fingerprints-in-person-50/
LOCATION:SLC RCC-1-Suite 100-Suite 100 Group Room (50)
CATEGORIES:Salt Lake Recovery Community Center
END:VEVENT
BEGIN:VEVENT
DTSTART;TZID=America/Denver:20250508T093000
DTEND;TZID=America/Denver:20250508T163000
DTSTAMP:20260423T113457
CREATED:20250408T092300Z
LAST-MODIFIED:20250416T102225Z
UID:10006269-1746696600-1746721800@dev.utahrecovers.org
SUMMARY:Clean Slate - Fingerprints (In person)
DESCRIPTION:
URL:https://dev.utahrecovers.org/meeting/clean-slate-fingerprints-in-person-49/
LOCATION:SLC RCC-1-Suite 100-Suite 100 Group Room (50)
CATEGORIES:Salt Lake Recovery Community Center
END:VEVENT
BEGIN:VEVENT
DTSTART;TZID=America/Denver:20250503T113000
DTEND;TZID=America/Denver:20250503T130000
DTSTAMP:20260423T113457
CREATED:20250403T074412Z
LAST-MODIFIED:20250416T102154Z
UID:10006209-1746271800-1746277200@dev.utahrecovers.org
SUMMARY:Clean Life Community - Outreach Kits (In person)
DESCRIPTION:
URL:https://dev.utahrecovers.org/meeting/clean-life-community-outreach-kits-in-person-8/
LOCATION:SLC RCC-1-Suite 100-Suite 100 Group Room (50)
CATEGORIES:Salt Lake Recovery Community Center
END:VEVENT
BEGIN:VEVENT
DTSTART;TZID=America/Denver:20250502T180000
DTEND;TZID=America/Denver:20250502T200000
DTSTAMP:20260423T113457
CREATED:20250403T074412Z
LAST-MODIFIED:20250416T102154Z
UID:10006206-1746208800-1746216000@dev.utahrecovers.org
SUMMARY:Family Fun Night
DESCRIPTION:
URL:https://dev.utahrecovers.org/meeting/family-fun-night-11/
LOCATION:SLC RCC-1-Suite 100-Suite 100 Group Room (50)
CATEGORIES:Salt Lake Recovery Community Center
END:VEVENT
BEGIN:VEVENT
DTSTART;TZID=America/Denver:20250501T093000
DTEND;TZID=America/Denver:20250501T163000
DTSTAMP:20260423T113457
CREATED:20250401T072257Z
LAST-MODIFIED:20250416T102141Z
UID:10006171-1746091800-1746117000@dev.utahrecovers.org
SUMMARY:Clean Slate - Fingerprints (In person)
DESCRIPTION:
URL:https://dev.utahrecovers.org/meeting/clean-slate-fingerprints-in-person-48/
LOCATION:SLC RCC-1-Suite 100-Suite 100 Group Room (50)
CATEGORIES:Salt Lake Recovery Community Center
END:VEVENT
BEGIN:VEVENT
DTSTART;TZID=America/Denver:20250424T093000
DTEND;TZID=America/Denver:20250424T163000
DTSTAMP:20260423T113457
CREATED:20250325T062311Z
LAST-MODIFIED:20250416T102059Z
UID:10006068-1745487000-1745512200@dev.utahrecovers.org
SUMMARY:Clean Slate - Fingerprints (In person)
DESCRIPTION:
URL:https://dev.utahrecovers.org/meeting/clean-slate-fingerprints-in-person-47/
LOCATION:SLC RCC-1-Suite 100-Suite 100 Group Room (50)
CATEGORIES:Salt Lake Recovery Community Center
END:VEVENT
BEGIN:VEVENT
DTSTART;TZID=America/Denver:20250417T093000
DTEND;TZID=America/Denver:20250417T163000
DTSTAMP:20260423T113457
CREATED:20250318T054356Z
LAST-MODIFIED:20250416T102011Z
UID:10005963-1744882200-1744907400@dev.utahrecovers.org
SUMMARY:Clean Slate - Fingerprints (In person)
DESCRIPTION:
URL:https://dev.utahrecovers.org/meeting/clean-slate-fingerprints-in-person-46/
LOCATION:SLC RCC-1-Suite 100-Suite 100 Group Room (50)
CATEGORIES:Salt Lake Recovery Community Center
END:VEVENT
BEGIN:VEVENT
DTSTART;TZID=America/Denver:20250410T093000
DTEND;TZID=America/Denver:20250410T163000
DTSTAMP:20260423T113457
CREATED:20250311T035456Z
LAST-MODIFIED:20250410T092011Z
UID:10005848-1744277400-1744302600@dev.utahrecovers.org
SUMMARY:Clean Slate - Fingerprints (In person)
DESCRIPTION:
URL:https://dev.utahrecovers.org/meeting/clean-slate-fingerprints-in-person-45/
LOCATION:SLC RCC-1-Suite 100-Suite 100 Group Room (50)
CATEGORIES:Salt Lake Recovery Community Center
END:VEVENT
BEGIN:VEVENT
DTSTART;TZID=America/Denver:20250405T113000
DTEND;TZID=America/Denver:20250405T130000
DTSTAMP:20260423T113457
CREATED:20250306T032306Z
LAST-MODIFIED:20250405T082014Z
UID:10005788-1743852600-1743858000@dev.utahrecovers.org
SUMMARY:Clean Life Community - Outreach Kits (In person)
DESCRIPTION:
URL:https://dev.utahrecovers.org/meeting/clean-life-community-outreach-kits-in-person-7/
LOCATION:SLC RCC-1-Suite 100-Suite 100 Group Room (50)
CATEGORIES:Salt Lake Recovery Community Center
END:VEVENT
BEGIN:VEVENT
DTSTART;TZID=America/Denver:20250403T093000
DTEND;TZID=America/Denver:20250403T163000
DTSTAMP:20260423T113457
CREATED:20250304T024342Z
LAST-MODIFIED:20250403T074111Z
UID:10005753-1743672600-1743697800@dev.utahrecovers.org
SUMMARY:Clean Slate - Fingerprints (In person)
DESCRIPTION:
URL:https://dev.utahrecovers.org/meeting/clean-slate-fingerprints-in-person-44/
LOCATION:SLC RCC-1-Suite 100-Suite 100 Group Room (50)
CATEGORIES:Salt Lake Recovery Community Center
END:VEVENT
END:VCALENDAR