BEGIN:VCALENDAR
VERSION:2.0
PRODID:-//USARA - Utah Recovers - ECPv6.15.18//NONSGML v1.0//EN
CALSCALE:GREGORIAN
METHOD:PUBLISH
X-ORIGINAL-URL:https://dev.utahrecovers.org
X-WR-CALDESC:Events for USARA - Utah Recovers
REFRESH-INTERVAL;VALUE=DURATION:PT1H
X-Robots-Tag:noindex
X-PUBLISHED-TTL:PT1H
BEGIN:VTIMEZONE
TZID:America/Denver
BEGIN:DAYLIGHT
TZOFFSETFROM:-0700
TZOFFSETTO:-0600
TZNAME:MDT
DTSTART:20240310T090000
END:DAYLIGHT
BEGIN:STANDARD
TZOFFSETFROM:-0600
TZOFFSETTO:-0700
TZNAME:MST
DTSTART:20241103T080000
END:STANDARD
BEGIN:DAYLIGHT
TZOFFSETFROM:-0700
TZOFFSETTO:-0600
TZNAME:MDT
DTSTART:20250309T090000
END:DAYLIGHT
BEGIN:STANDARD
TZOFFSETFROM:-0600
TZOFFSETTO:-0700
TZNAME:MST
DTSTART:20251102T080000
END:STANDARD
BEGIN:DAYLIGHT
TZOFFSETFROM:-0700
TZOFFSETTO:-0600
TZNAME:MDT
DTSTART:20260308T090000
END:DAYLIGHT
BEGIN:STANDARD
TZOFFSETFROM:-0600
TZOFFSETTO:-0700
TZNAME:MST
DTSTART:20261101T080000
END:STANDARD
END:VTIMEZONE
BEGIN:VEVENT
DTSTART;TZID=America/Denver:20250410T180000
DTEND;TZID=America/Denver:20250410T193000
DTSTAMP:20260423T172757
CREATED:20250312T055442Z
LAST-MODIFIED:20250410T104115Z
UID:10005874-1744308000-1744313400@dev.utahrecovers.org
SUMMARY:CRAFT Family Support Group (Virtual)
DESCRIPTION:
URL:https://dev.utahrecovers.org/meeting/craft-family-support-group-virtual-127/
LOCATION:https://us02web.zoom.us/j/86950545911?pwd=OFZGMlFiTWVkcHp2Yi8yQmVmSWhyUT09
CATEGORIES:Virtual Meetings
END:VEVENT
BEGIN:VEVENT
DTSTART;TZID=America/Denver:20250409T203000
DTEND;TZID=America/Denver:20250409T210000
DTSTAMP:20260423T172758
CREATED:20250311T224152Z
LAST-MODIFIED:20250409T232010Z
UID:10005868-1744230600-1744232400@dev.utahrecovers.org
SUMMARY:Self-Compassion Break (Virtual)
DESCRIPTION:A self compassion break is a short practice that can help you feel less isolated\, acknowledge stress\, and practice self-compassion when you are struggling. This practice is open to everyone!
URL:https://dev.utahrecovers.org/meeting/self-compassion-break-virtual-191/
LOCATION:https://us02web.zoom.us/j/86950545911?pwd=OFZGMlFiTWVkcHp2Yi8yQmVmSWhyUT09
CATEGORIES:Moab Recovery Community Center
END:VEVENT
BEGIN:VEVENT
DTSTART;TZID=America/Denver:20250409T203000
DTEND;TZID=America/Denver:20250409T210000
DTSTAMP:20260423T172758
CREATED:20250311T165335Z
LAST-MODIFIED:20250409T194110Z
UID:10005865-1744230600-1744232400@dev.utahrecovers.org
SUMMARY:Self-Compassion Break (Virtual)
DESCRIPTION:A self compassion break is a short practice that can help you feel less isolated\, acknowledge stress\, and practice self-compassion when you are struggling. This practice is open to everyone!
URL:https://dev.utahrecovers.org/meeting/self-compassion-break-virtual-190/
LOCATION:https://us02web.zoom.us/j/86950545911?pwd=OFZGMlFiTWVkcHp2Yi8yQmVmSWhyUT09
CATEGORIES:St George Recovery Community Center
END:VEVENT
BEGIN:VEVENT
DTSTART;TZID=America/Denver:20250409T203000
DTEND;TZID=America/Denver:20250409T210000
DTSTAMP:20260423T172758
CREATED:20250311T092105Z
LAST-MODIFIED:20250409T104108Z
UID:10005857-1744230600-1744232400@dev.utahrecovers.org
SUMMARY:Self-Compassion Break (Virtual)
DESCRIPTION:A self compassion break is a short practice that can help you feel less isolated\, acknowledge stress\, and practice self-compassion when you are struggling. This practice is open to everyone!
URL:https://dev.utahrecovers.org/meeting/self-compassion-break-virtual-189/
LOCATION:https://us02web.zoom.us/j/86950545911?pwd=OFZGMlFiTWVkcHp2Yi8yQmVmSWhyUT09
CATEGORIES:Ogden Recovery Community Center
END:VEVENT
BEGIN:VEVENT
DTSTART;TZID=America/Denver:20250409T203000
DTEND;TZID=America/Denver:20250409T210000
DTSTAMP:20260423T172758
CREATED:20250311T054351Z
LAST-MODIFIED:20250409T102012Z
UID:10005853-1744230600-1744232400@dev.utahrecovers.org
SUMMARY:Self-Compassion Break (Virtual)
DESCRIPTION:A self compassion break is a short practice that can help you feel less isolated\, acknowledge stress\, and practice self-compassion when you are struggling. This practice is open to everyone!
URL:https://dev.utahrecovers.org/meeting/self-compassion-break-virtual-188/
LOCATION:https://us02web.zoom.us/j/86950545911?pwd=OFZGMlFiTWVkcHp2Yi8yQmVmSWhyUT09
CATEGORIES:Virtual Meetings
END:VEVENT
BEGIN:VEVENT
DTSTART;TZID=America/Denver:20250409T203000
DTEND;TZID=America/Denver:20250409T210000
DTSTAMP:20260423T172758
CREATED:20250311T035455Z
LAST-MODIFIED:20250409T092010Z
UID:10005846-1744230600-1744232400@dev.utahrecovers.org
SUMMARY:Self-Compassion Break (Virtual)
DESCRIPTION:A self compassion break is a short practice that can help you feel less isolated\, acknowledge stress\, and practice self-compassion when you are struggling. This practice is open to everyone!
URL:https://dev.utahrecovers.org/meeting/self-compassion-break-virtual-187/
LOCATION:https://us02web.zoom.us/j/86950545911?pwd=OFZGMlFiTWVkcHp2Yi8yQmVmSWhyUT09
CATEGORIES:Salt Lake Recovery Community Center
END:VEVENT
BEGIN:VEVENT
DTSTART;TZID=America/Denver:20250409T203000
DTEND;TZID=America/Denver:20250409T210000
DTSTAMP:20260423T172758
CREATED:20250311T014154Z
LAST-MODIFIED:20250410T022011Z
UID:10005837-1744230600-1744232400@dev.utahrecovers.org
SUMMARY:Self-Compassion Break (Virtual)
DESCRIPTION:A self compassion break is a short practice that can help you feel less isolated\, acknowledge stress\, and practice self-compassion when you are struggling. This practice is open to everyone!
URL:https://dev.utahrecovers.org/meeting/self-compassion-break-virtual-186/
LOCATION:https://us02web.zoom.us/j/86950545911?pwd=OFZGMlFiTWVkcHp2Yi8yQmVmSWhyUT09
CATEGORIES:Price Recovery Community Center
END:VEVENT
BEGIN:VEVENT
DTSTART;TZID=America/Denver:20250409T180000
DTEND;TZID=America/Denver:20250409T193000
DTSTAMP:20260423T172758
CREATED:20250311T054351Z
LAST-MODIFIED:20250409T102012Z
UID:10005851-1744221600-1744227000@dev.utahrecovers.org
SUMMARY:CRAFT Family Support Group (Virtual)
DESCRIPTION:
URL:https://dev.utahrecovers.org/meeting/craft-family-support-group-virtual-126/
LOCATION:https://us02web.zoom.us/j/86950545911?pwd=OFZGMlFiTWVkcHp2Yi8yQmVmSWhyUT09
CATEGORIES:Virtual Meetings
END:VEVENT
BEGIN:VEVENT
DTSTART;TZID=America/Denver:20250408T180000
DTEND;TZID=America/Denver:20250408T193000
DTSTAMP:20260423T172758
CREATED:20250310T054335Z
LAST-MODIFIED:20250408T102010Z
UID:10005825-1744135200-1744140600@dev.utahrecovers.org
SUMMARY:CRAFT Family Support Group (Virtual)
DESCRIPTION:
URL:https://dev.utahrecovers.org/meeting/craft-family-support-group-virtual-125/
LOCATION:https://us02web.zoom.us/j/86950545911?pwd=OFZGMlFiTWVkcHp2Yi8yQmVmSWhyUT09
CATEGORIES:Virtual Meetings
END:VEVENT
BEGIN:VEVENT
DTSTART;TZID=America/Denver:20250407T170000
DTEND;TZID=America/Denver:20250407T180000
DTSTAMP:20260423T172758
CREATED:20250308T045434Z
LAST-MODIFIED:20250407T095212Z
UID:10005805-1744045200-1744048800@dev.utahrecovers.org
SUMMARY:Introduction to CRAFT Family Support (Virtual)
DESCRIPTION:Learn more about our Family Support Program before joining a weekly group!
URL:https://dev.utahrecovers.org/meeting/introduction-to-craft-family-support-virtual-45/
LOCATION:https://us02web.zoom.us/j/86950545911?pwd=OFZGMlFiTWVkcHp2Yi8yQmVmSWhyUT09
CATEGORIES:Virtual Meetings
END:VEVENT
BEGIN:VEVENT
DTSTART;TZID=America/Denver:20250403T180000
DTEND;TZID=America/Denver:20250403T193000
DTSTAMP:20260423T172758
CREATED:20250305T042256Z
LAST-MODIFIED:20250403T094109Z
UID:10005773-1743703200-1743708600@dev.utahrecovers.org
SUMMARY:CRAFT Family Support Group (Virtual)
DESCRIPTION:
URL:https://dev.utahrecovers.org/meeting/craft-family-support-group-virtual-124/
LOCATION:https://us02web.zoom.us/j/86950545911?pwd=OFZGMlFiTWVkcHp2Yi8yQmVmSWhyUT09
CATEGORIES:Virtual Meetings
END:VEVENT
BEGIN:VEVENT
DTSTART;TZID=America/Denver:20250402T203000
DTEND;TZID=America/Denver:20250402T210000
DTSTAMP:20260423T172758
CREATED:20250304T224155Z
LAST-MODIFIED:20250402T232009Z
UID:10005768-1743625800-1743627600@dev.utahrecovers.org
SUMMARY:Self-Compassion Break (Virtual)
DESCRIPTION:A self compassion break is a short practice that can help you feel less isolated\, acknowledge stress\, and practice self-compassion when you are struggling. This practice is open to everyone!
URL:https://dev.utahrecovers.org/meeting/self-compassion-break-virtual-185/
LOCATION:https://us02web.zoom.us/j/86950545911?pwd=OFZGMlFiTWVkcHp2Yi8yQmVmSWhyUT09
CATEGORIES:Moab Recovery Community Center
END:VEVENT
BEGIN:VEVENT
DTSTART;TZID=America/Denver:20250402T203000
DTEND;TZID=America/Denver:20250402T210000
DTSTAMP:20260423T172758
CREATED:20250304T162123Z
LAST-MODIFIED:20250402T192009Z
UID:10005765-1743625800-1743627600@dev.utahrecovers.org
SUMMARY:Self-Compassion Break (Virtual)
DESCRIPTION:A self compassion break is a short practice that can help you feel less isolated\, acknowledge stress\, and practice self-compassion when you are struggling. This practice is open to everyone!
URL:https://dev.utahrecovers.org/meeting/self-compassion-break-virtual-184/
LOCATION:https://us02web.zoom.us/j/86950545911?pwd=OFZGMlFiTWVkcHp2Yi8yQmVmSWhyUT09
CATEGORIES:St George Recovery Community Center
END:VEVENT
BEGIN:VEVENT
DTSTART;TZID=America/Denver:20250402T203000
DTEND;TZID=America/Denver:20250402T210000
DTSTAMP:20260423T172758
CREATED:20250304T085304Z
LAST-MODIFIED:20250402T102010Z
UID:10005762-1743625800-1743627600@dev.utahrecovers.org
SUMMARY:Self-Compassion Break (Virtual)
DESCRIPTION:A self compassion break is a short practice that can help you feel less isolated\, acknowledge stress\, and practice self-compassion when you are struggling. This practice is open to everyone!
URL:https://dev.utahrecovers.org/meeting/self-compassion-break-virtual-183/
LOCATION:https://us02web.zoom.us/j/86950545911?pwd=OFZGMlFiTWVkcHp2Yi8yQmVmSWhyUT09
CATEGORIES:Ogden Recovery Community Center
END:VEVENT
BEGIN:VEVENT
DTSTART;TZID=America/Denver:20250402T203000
DTEND;TZID=America/Denver:20250402T210000
DTSTAMP:20260423T172758
CREATED:20250304T035430Z
LAST-MODIFIED:20250402T092011Z
UID:10005758-1743625800-1743627600@dev.utahrecovers.org
SUMMARY:Self-Compassion Break (Virtual)
DESCRIPTION:A self compassion break is a short practice that can help you feel less isolated\, acknowledge stress\, and practice self-compassion when you are struggling. This practice is open to everyone!
URL:https://dev.utahrecovers.org/meeting/self-compassion-break-virtual-182/
LOCATION:https://us02web.zoom.us/j/86950545911?pwd=OFZGMlFiTWVkcHp2Yi8yQmVmSWhyUT09
CATEGORIES:Virtual Meetings
END:VEVENT
BEGIN:VEVENT
DTSTART;TZID=America/Denver:20250402T203000
DTEND;TZID=America/Denver:20250402T210000
DTSTAMP:20260423T172758
CREATED:20250304T024341Z
LAST-MODIFIED:20250402T072014Z
UID:10005752-1743625800-1743627600@dev.utahrecovers.org
SUMMARY:Self-Compassion Break (Virtual)
DESCRIPTION:A self compassion break is a short practice that can help you feel less isolated\, acknowledge stress\, and practice self-compassion when you are struggling. This practice is open to everyone!
URL:https://dev.utahrecovers.org/meeting/self-compassion-break-virtual-181/
LOCATION:https://us02web.zoom.us/j/86950545911?pwd=OFZGMlFiTWVkcHp2Yi8yQmVmSWhyUT09
CATEGORIES:Salt Lake Recovery Community Center
END:VEVENT
BEGIN:VEVENT
DTSTART;TZID=America/Denver:20250402T203000
DTEND;TZID=America/Denver:20250402T210000
DTSTAMP:20260423T172758
CREATED:20250304T014156Z
LAST-MODIFIED:20250403T022009Z
UID:10005746-1743625800-1743627600@dev.utahrecovers.org
SUMMARY:Self-Compassion Break (Virtual)
DESCRIPTION:A self compassion break is a short practice that can help you feel less isolated\, acknowledge stress\, and practice self-compassion when you are struggling. This practice is open to everyone!
URL:https://dev.utahrecovers.org/meeting/self-compassion-break-virtual-180/
LOCATION:https://us02web.zoom.us/j/86950545911?pwd=OFZGMlFiTWVkcHp2Yi8yQmVmSWhyUT09
CATEGORIES:Price Recovery Community Center
END:VEVENT
BEGIN:VEVENT
DTSTART;TZID=America/Denver:20250402T180000
DTEND;TZID=America/Denver:20250402T193000
DTSTAMP:20260423T172758
CREATED:20250304T035430Z
LAST-MODIFIED:20250402T092011Z
UID:10005756-1743616800-1743622200@dev.utahrecovers.org
SUMMARY:CRAFT Family Support Group (Virtual)
DESCRIPTION:
URL:https://dev.utahrecovers.org/meeting/craft-family-support-group-virtual-123/
LOCATION:https://us02web.zoom.us/j/86950545911?pwd=OFZGMlFiTWVkcHp2Yi8yQmVmSWhyUT09
CATEGORIES:Virtual Meetings
END:VEVENT
BEGIN:VEVENT
DTSTART;TZID=America/Denver:20250401T180000
DTEND;TZID=America/Denver:20250401T193000
DTSTAMP:20260423T172758
CREATED:20250303T034339Z
LAST-MODIFIED:20250401T092010Z
UID:10005733-1743530400-1743535800@dev.utahrecovers.org
SUMMARY:CRAFT Family Support Group (Virtual)
DESCRIPTION:
URL:https://dev.utahrecovers.org/meeting/craft-family-support-group-virtual-122/
LOCATION:https://us02web.zoom.us/j/86950545911?pwd=OFZGMlFiTWVkcHp2Yi8yQmVmSWhyUT09
CATEGORIES:Virtual Meetings
END:VEVENT
BEGIN:VEVENT
DTSTART;TZID=America/Denver:20250331T170000
DTEND;TZID=America/Denver:20250331T180000
DTSTAMP:20260423T172758
CREATED:20250301T025440Z
LAST-MODIFIED:20250331T092010Z
UID:10005713-1743440400-1743444000@dev.utahrecovers.org
SUMMARY:Introduction to CRAFT Family Support (Virtual)
DESCRIPTION:Learn more about our Family Support Program before joining a weekly group!
URL:https://dev.utahrecovers.org/meeting/introduction-to-craft-family-support-virtual-44/
LOCATION:https://us02web.zoom.us/j/86950545911?pwd=OFZGMlFiTWVkcHp2Yi8yQmVmSWhyUT09
CATEGORIES:Virtual Meetings
END:VEVENT
BEGIN:VEVENT
DTSTART;TZID=America/Denver:20250327T180000
DTEND;TZID=America/Denver:20250327T193000
DTSTAMP:20260423T172758
CREATED:20250226T024347Z
LAST-MODIFIED:20250327T082012Z
UID:10005683-1743098400-1743103800@dev.utahrecovers.org
SUMMARY:CRAFT Family Support Group (Virtual)
DESCRIPTION:
URL:https://dev.utahrecovers.org/meeting/craft-family-support-group-virtual-121/
LOCATION:https://us02web.zoom.us/j/86950545911?pwd=OFZGMlFiTWVkcHp2Yi8yQmVmSWhyUT09
CATEGORIES:Virtual Meetings
END:VEVENT
END:VCALENDAR