BEGIN:VCALENDAR
VERSION:2.0
PRODID:-//USARA - Utah Recovers - ECPv6.15.18//NONSGML v1.0//EN
CALSCALE:GREGORIAN
METHOD:PUBLISH
X-ORIGINAL-URL:https://dev.utahrecovers.org
X-WR-CALDESC:Events for USARA - Utah Recovers
REFRESH-INTERVAL;VALUE=DURATION:PT1H
X-Robots-Tag:noindex
X-PUBLISHED-TTL:PT1H
BEGIN:VTIMEZONE
TZID:America/Denver
BEGIN:DAYLIGHT
TZOFFSETFROM:-0700
TZOFFSETTO:-0600
TZNAME:MDT
DTSTART:20240310T090000
END:DAYLIGHT
BEGIN:STANDARD
TZOFFSETFROM:-0600
TZOFFSETTO:-0700
TZNAME:MST
DTSTART:20241103T080000
END:STANDARD
BEGIN:DAYLIGHT
TZOFFSETFROM:-0700
TZOFFSETTO:-0600
TZNAME:MDT
DTSTART:20250309T090000
END:DAYLIGHT
BEGIN:STANDARD
TZOFFSETFROM:-0600
TZOFFSETTO:-0700
TZNAME:MST
DTSTART:20251102T080000
END:STANDARD
BEGIN:DAYLIGHT
TZOFFSETFROM:-0700
TZOFFSETTO:-0600
TZNAME:MDT
DTSTART:20260308T090000
END:DAYLIGHT
BEGIN:STANDARD
TZOFFSETFROM:-0600
TZOFFSETTO:-0700
TZNAME:MST
DTSTART:20261101T080000
END:STANDARD
BEGIN:DAYLIGHT
TZOFFSETFROM:-0700
TZOFFSETTO:-0600
TZNAME:MDT
DTSTART:20270314T090000
END:DAYLIGHT
BEGIN:STANDARD
TZOFFSETFROM:-0600
TZOFFSETTO:-0700
TZNAME:MST
DTSTART:20271107T080000
END:STANDARD
END:VTIMEZONE
BEGIN:VEVENT
DTSTART;TZID=America/Denver:20260116T080000
DTEND;TZID=America/Denver:20260116T170000
DTSTAMP:20260423T140301
CREATED:20260115T161239Z
LAST-MODIFIED:20260115T161559Z
UID:10006897-1768550400-1768582800@dev.utahrecovers.org
SUMMARY:Sunday Morning Big Book Study (Hybrid – join virtually or in person!)
DESCRIPTION:https://us02web.zoom.us/j/89418418350?pwd=Rm9PSExNU3BEbURuZ09EaUpvcUZtdz09
URL:https://dev.utahrecovers.org/meeting/sunday-morning-big-book-study-hybrid-join-virtually-or-in-person-108/
LOCATION:240 N Highway 153\, Beaver\, UT\, United States
CATEGORIES:Salt Lake Recovery Community Center
GEO:38.27691;-112.64105
END:VEVENT
BEGIN:VEVENT
DTSTART;TZID=America/Denver:20250616T180000
DTEND;TZID=America/Denver:20250616T190000
DTSTAMP:20260423T140301
CREATED:20250521T153737Z
LAST-MODIFIED:20250521T153737Z
UID:10006607-1750096800-1750100400@dev.utahrecovers.org
SUMMARY:Recovery Dharma (Hybrid - join virtually or in person!)
DESCRIPTION:Zoom Meeting ID: 85240868496Password: 11111
URL:https://dev.utahrecovers.org/meeting/recovery-dharma-hybrid-join-virtually-or-in-person-370/
LOCATION:240 N Highway 153\, Beaver\, UT\, United States
CATEGORIES:Virtual Meetings
GEO:38.27691;-112.64105
END:VEVENT
BEGIN:VEVENT
DTSTART;TZID=America/Denver:20250609T180000
DTEND;TZID=America/Denver:20250609T190000
DTSTAMP:20260423T140301
CREATED:20250521T153643Z
LAST-MODIFIED:20250521T153643Z
UID:10006579-1749492000-1749495600@dev.utahrecovers.org
SUMMARY:Recovery Dharma (Hybrid - join virtually or in person!)
DESCRIPTION:Zoom Meeting ID: 85240868496Password: 11111
URL:https://dev.utahrecovers.org/meeting/recovery-dharma-hybrid-join-virtually-or-in-person-366/
LOCATION:240 N Highway 153\, Beaver\, UT\, United States
CATEGORIES:Virtual Meetings
GEO:38.27691;-112.64105
END:VEVENT
BEGIN:VEVENT
DTSTART;TZID=America/Denver:20250602T180000
DTEND;TZID=America/Denver:20250602T190000
DTSTAMP:20260423T140301
CREATED:20250521T153616Z
LAST-MODIFIED:20250521T153616Z
UID:10006555-1748887200-1748890800@dev.utahrecovers.org
SUMMARY:Recovery Dharma (Hybrid - join virtually or in person!)
DESCRIPTION:Zoom Meeting ID: 85240868496Password: 11111
URL:https://dev.utahrecovers.org/meeting/recovery-dharma-hybrid-join-virtually-or-in-person-362/
LOCATION:240 N Highway 153\, Beaver\, UT\, United States
CATEGORIES:Virtual Meetings
GEO:38.27691;-112.64105
END:VEVENT
BEGIN:VEVENT
DTSTART;TZID=America/Denver:20250526T180000
DTEND;TZID=America/Denver:20250526T190000
DTSTAMP:20260423T140301
CREATED:20250521T153537Z
LAST-MODIFIED:20250521T153537Z
UID:10006530-1748282400-1748286000@dev.utahrecovers.org
SUMMARY:Recovery Dharma (Hybrid - join virtually or in person!)
DESCRIPTION:Zoom Meeting ID: 85240868496Password: 11111
URL:https://dev.utahrecovers.org/meeting/recovery-dharma-hybrid-join-virtually-or-in-person-358/
LOCATION:240 N Highway 153\, Beaver\, UT\, United States
CATEGORIES:Virtual Meetings
GEO:38.27691;-112.64105
END:VEVENT
BEGIN:VEVENT
DTSTART;TZID=America/Denver:20250512T180000
DTEND;TZID=America/Denver:20250512T190000
DTSTAMP:20260423T140301
CREATED:20250413T105445Z
LAST-MODIFIED:20250416T114323Z
UID:10006341-1747072800-1747076400@dev.utahrecovers.org
SUMMARY:Recovery Dharma (Hybrid - join virtually or in person!)
DESCRIPTION:Zoom Meeting ID: 85240868496Password: 11111
URL:https://dev.utahrecovers.org/meeting/recovery-dharma-hybrid-join-virtually-or-in-person-349/
LOCATION:240 N Highway 153\, Beaver\, UT\, United States
CATEGORIES:Virtual Meetings
GEO:38.27691;-112.64105
END:VEVENT
BEGIN:VEVENT
DTSTART;TZID=America/Denver:20250505T180000
DTEND;TZID=America/Denver:20250505T190000
DTSTAMP:20260423T140301
CREATED:20250406T095450Z
LAST-MODIFIED:20250416T114237Z
UID:10006239-1746468000-1746471600@dev.utahrecovers.org
SUMMARY:Recovery Dharma (Hybrid - join virtually or in person!)
DESCRIPTION:Zoom Meeting ID: 85240868496Password: 11111
URL:https://dev.utahrecovers.org/meeting/recovery-dharma-hybrid-join-virtually-or-in-person-341/
LOCATION:240 N Highway 153\, Beaver\, UT\, United States
CATEGORIES:Virtual Meetings
GEO:38.27691;-112.64105
END:VEVENT
BEGIN:VEVENT
DTSTART;TZID=America/Denver:20250428T180000
DTEND;TZID=America/Denver:20250428T190000
DTSTAMP:20260423T140301
CREATED:20250330T092228Z
LAST-MODIFIED:20250416T114209Z
UID:10006135-1745863200-1745866800@dev.utahrecovers.org
SUMMARY:Recovery Dharma (Hybrid - join virtually or in person!)
DESCRIPTION:Zoom Meeting ID: 85240868496Password: 11111
URL:https://dev.utahrecovers.org/meeting/recovery-dharma-hybrid-join-virtually-or-in-person-333/
LOCATION:240 N Highway 153\, Beaver\, UT\, United States
CATEGORIES:Virtual Meetings
GEO:38.27691;-112.64105
END:VEVENT
BEGIN:VEVENT
DTSTART;TZID=America/Denver:20250421T180000
DTEND;TZID=America/Denver:20250421T190000
DTSTAMP:20260423T140301
CREATED:20250323T075424Z
LAST-MODIFIED:20250416T114141Z
UID:10006036-1745258400-1745262000@dev.utahrecovers.org
SUMMARY:Recovery Dharma (Hybrid - join virtually or in person!)
DESCRIPTION:Zoom Meeting ID: 85240868496Password: 11111
URL:https://dev.utahrecovers.org/meeting/recovery-dharma-hybrid-join-virtually-or-in-person-325/
LOCATION:240 N Highway 153\, Beaver\, UT\, United States
CATEGORIES:Virtual Meetings
GEO:38.27691;-112.64105
END:VEVENT
BEGIN:VEVENT
DTSTART;TZID=America/Denver:20250414T180000
DTEND;TZID=America/Denver:20250414T190000
DTSTAMP:20260423T140301
CREATED:20250316T062239Z
LAST-MODIFIED:20250414T105211Z
UID:10005929-1744653600-1744657200@dev.utahrecovers.org
SUMMARY:Recovery Dharma (Hybrid - join virtually or in person!)
DESCRIPTION:Zoom Meeting ID: 85240868496Password: 11111
URL:https://dev.utahrecovers.org/meeting/recovery-dharma-hybrid-join-virtually-or-in-person-314/
LOCATION:240 N Highway 153\, Beaver\, UT\, United States
CATEGORIES:Virtual Meetings
GEO:38.27691;-112.64105
END:VEVENT
BEGIN:VEVENT
DTSTART;TZID=America/Denver:20250407T180000
DTEND;TZID=America/Denver:20250407T190000
DTSTAMP:20260423T140301
CREATED:20250309T052233Z
LAST-MODIFIED:20250407T095212Z
UID:10005815-1744048800-1744052400@dev.utahrecovers.org
SUMMARY:Recovery Dharma (Hybrid - join virtually or in person!)
DESCRIPTION:Zoom Meeting ID: 85240868496Password: 11111
URL:https://dev.utahrecovers.org/meeting/recovery-dharma-hybrid-join-virtually-or-in-person-307/
LOCATION:240 N Highway 153\, Beaver\, UT\, United States
CATEGORIES:Virtual Meetings
GEO:38.27691;-112.64105
END:VEVENT
BEGIN:VEVENT
DTSTART;TZID=America/Denver:20250331T180000
DTEND;TZID=America/Denver:20250331T190000
DTSTAMP:20260423T140301
CREATED:20250302T032241Z
LAST-MODIFIED:20250331T092010Z
UID:10005723-1743444000-1743447600@dev.utahrecovers.org
SUMMARY:Recovery Dharma (Hybrid - join virtually or in person!)
DESCRIPTION:Zoom Meeting ID: 85240868496Password: 11111
URL:https://dev.utahrecovers.org/meeting/recovery-dharma-hybrid-join-virtually-or-in-person-300/
LOCATION:240 N Highway 153\, Beaver\, UT\, United States
CATEGORIES:Virtual Meetings
GEO:38.27691;-112.64105
END:VEVENT
END:VCALENDAR