BEGIN:VCALENDAR
VERSION:2.0
PRODID:-//USARA - Utah Recovers - ECPv6.15.18//NONSGML v1.0//EN
CALSCALE:GREGORIAN
METHOD:PUBLISH
X-WR-CALNAME:USARA - Utah Recovers
X-ORIGINAL-URL:https://dev.utahrecovers.org
X-WR-CALDESC:Events for USARA - Utah Recovers
REFRESH-INTERVAL;VALUE=DURATION:PT1H
X-Robots-Tag:noindex
X-PUBLISHED-TTL:PT1H
BEGIN:VTIMEZONE
TZID:America/Denver
BEGIN:DAYLIGHT
TZOFFSETFROM:-0700
TZOFFSETTO:-0600
TZNAME:MDT
DTSTART:20240310T090000
END:DAYLIGHT
BEGIN:STANDARD
TZOFFSETFROM:-0600
TZOFFSETTO:-0700
TZNAME:MST
DTSTART:20241103T080000
END:STANDARD
BEGIN:DAYLIGHT
TZOFFSETFROM:-0700
TZOFFSETTO:-0600
TZNAME:MDT
DTSTART:20250309T090000
END:DAYLIGHT
BEGIN:STANDARD
TZOFFSETFROM:-0600
TZOFFSETTO:-0700
TZNAME:MST
DTSTART:20251102T080000
END:STANDARD
BEGIN:DAYLIGHT
TZOFFSETFROM:-0700
TZOFFSETTO:-0600
TZNAME:MDT
DTSTART:20260308T090000
END:DAYLIGHT
BEGIN:STANDARD
TZOFFSETFROM:-0600
TZOFFSETTO:-0700
TZNAME:MST
DTSTART:20261101T080000
END:STANDARD
END:VTIMEZONE
BEGIN:VEVENT
DTSTART;TZID=America/Denver:20250703T080000
DTEND;TZID=America/Denver:20250703T170000
DTSTAMP:20260423T093528
CREATED:20250627T112657Z
LAST-MODIFIED:20250627T112904Z
UID:10006740-1751529600-1751562000@dev.utahrecovers.org
SUMMARY:TEST (Virtual)
DESCRIPTION:TEST (Virtual)
URL:https://dev.utahrecovers.org/meeting/test-virtual/
LOCATION:184 W 400 N\, Provo\, UT 84601\, USA\, Provo RCC-1-Suite B Group Room (30)
CATEGORIES:Salt Lake Recovery Community Center
END:VEVENT
BEGIN:VEVENT
DTSTART;TZID=America/Denver:20250701T080000
DTEND;TZID=America/Denver:20250701T170000
DTSTAMP:20260423T093528
CREATED:20250627T111940Z
LAST-MODIFIED:20250627T112442Z
UID:10006739-1751356800-1751389200@dev.utahrecovers.org
SUMMARY:TEST
DESCRIPTION:TEST NO VIRTUAL
URL:https://dev.utahrecovers.org/meeting/test/
LOCATION:184 W 400 N\, Provo\, UT 84601\, USA\, Provo RCC-1-Suite B Group Room (30)
CATEGORIES:Moab Recovery Community Center,Ogden Recovery Community Center,Salt Lake Recovery Community Center,St George Recovery Community Center
END:VEVENT
BEGIN:VEVENT
DTSTART;TZID=America/Denver:20250513T190000
DTEND;TZID=America/Denver:20250513T203000
DTSTAMP:20260423T093528
CREATED:20250414T232024Z
LAST-MODIFIED:20250416T234122Z
UID:10006361-1747162800-1747168200@dev.utahrecovers.org
SUMMARY:CRAFT Family Support (In person)
DESCRIPTION:
URL:https://dev.utahrecovers.org/meeting/craft-family-support-in-person-105/
LOCATION:184 W 400 N\, Provo\, UT 84601\, USA\, Provo RCC-1-Suite B Group Room (30)
CATEGORIES:Provo Recovery Community Center
END:VEVENT
BEGIN:VEVENT
DTSTART;TZID=America/Denver:20250506T190000
DTEND;TZID=America/Denver:20250506T203000
DTSTAMP:20260423T093528
CREATED:20250408T225222Z
LAST-MODIFIED:20250416T234122Z
UID:10006284-1746558000-1746563400@dev.utahrecovers.org
SUMMARY:CRAFT Family Support (In person)
DESCRIPTION:
URL:https://dev.utahrecovers.org/meeting/craft-family-support-in-person-104/
LOCATION:184 W 400 N\, Provo\, UT 84601\, USA\, Provo RCC-1-Suite B Group Room (30)
CATEGORIES:Provo Recovery Community Center
END:VEVENT
BEGIN:VEVENT
DTSTART;TZID=America/Denver:20250429T190000
DTEND;TZID=America/Denver:20250429T203000
DTSTAMP:20260423T093528
CREATED:20250331T225224Z
LAST-MODIFIED:20250416T234109Z
UID:10006156-1745953200-1745958600@dev.utahrecovers.org
SUMMARY:CRAFT Family Support (In person)
DESCRIPTION:
URL:https://dev.utahrecovers.org/meeting/craft-family-support-in-person-99/
LOCATION:184 W 400 N\, Provo\, UT 84601\, USA\, Provo RCC-1-Suite B Group Room (30)
CATEGORIES:Provo Recovery Community Center
END:VEVENT
BEGIN:VEVENT
DTSTART;TZID=America/Denver:20250422T190000
DTEND;TZID=America/Denver:20250422T203000
DTSTAMP:20260423T093528
CREATED:20250324T222025Z
LAST-MODIFIED:20250416T234109Z
UID:10006056-1745348400-1745353800@dev.utahrecovers.org
SUMMARY:CRAFT Family Support (In person)
DESCRIPTION:
URL:https://dev.utahrecovers.org/meeting/craft-family-support-in-person-97/
LOCATION:184 W 400 N\, Provo\, UT 84601\, USA\, Provo RCC-1-Suite B Group Room (30)
CATEGORIES:Provo Recovery Community Center
END:VEVENT
BEGIN:VEVENT
DTSTART;TZID=America/Denver:20250415T190000
DTEND;TZID=America/Denver:20250415T203000
DTSTAMP:20260423T093528
CREATED:20250317T214121Z
LAST-MODIFIED:20250415T234108Z
UID:10005950-1744743600-1744749000@dev.utahrecovers.org
SUMMARY:CRAFT Family Support (In person)
DESCRIPTION:
URL:https://dev.utahrecovers.org/meeting/craft-family-support-in-person-94/
LOCATION:184 W 400 N\, Provo\, UT 84601\, USA\, Provo RCC-1-Suite B Group Room (30)
CATEGORIES:Provo Recovery Community Center
END:VEVENT
BEGIN:VEVENT
DTSTART;TZID=America/Denver:20250408T190000
DTEND;TZID=America/Denver:20250408T203000
DTSTAMP:20260423T093528
CREATED:20250310T214109Z
LAST-MODIFIED:20250408T225209Z
UID:10005834-1744138800-1744144200@dev.utahrecovers.org
SUMMARY:CRAFT Family Support (In person)
DESCRIPTION:
URL:https://dev.utahrecovers.org/meeting/craft-family-support-in-person-91/
LOCATION:184 W 400 N\, Provo\, UT 84601\, USA\, Provo RCC-1-Suite B Group Room (30)
CATEGORIES:Provo Recovery Community Center
END:VEVENT
BEGIN:VEVENT
DTSTART;TZID=America/Denver:20250401T190000
DTEND;TZID=America/Denver:20250401T203000
DTSTAMP:20260423T093528
CREATED:20250303T205208Z
LAST-MODIFIED:20250401T225212Z
UID:10005743-1743534000-1743539400@dev.utahrecovers.org
SUMMARY:CRAFT Family Support (In person)
DESCRIPTION:
URL:https://dev.utahrecovers.org/meeting/craft-family-support-in-person-89/
LOCATION:184 W 400 N\, Provo\, UT 84601\, USA\, Provo RCC-1-Suite B Group Room (30)
CATEGORIES:Provo Recovery Community Center
END:VEVENT
END:VCALENDAR