BEGIN:VCALENDAR
VERSION:2.0
PRODID:-//USARA - Utah Recovers - ECPv6.15.18//NONSGML v1.0//EN
CALSCALE:GREGORIAN
METHOD:PUBLISH
X-WR-CALNAME:USARA - Utah Recovers
X-ORIGINAL-URL:https://dev.utahrecovers.org
X-WR-CALDESC:Events for USARA - Utah Recovers
REFRESH-INTERVAL;VALUE=DURATION:PT1H
X-Robots-Tag:noindex
X-PUBLISHED-TTL:PT1H
BEGIN:VTIMEZONE
TZID:America/Denver
BEGIN:DAYLIGHT
TZOFFSETFROM:-0700
TZOFFSETTO:-0600
TZNAME:MDT
DTSTART:20240310T090000
END:DAYLIGHT
BEGIN:STANDARD
TZOFFSETFROM:-0600
TZOFFSETTO:-0700
TZNAME:MST
DTSTART:20241103T080000
END:STANDARD
BEGIN:DAYLIGHT
TZOFFSETFROM:-0700
TZOFFSETTO:-0600
TZNAME:MDT
DTSTART:20250309T090000
END:DAYLIGHT
BEGIN:STANDARD
TZOFFSETFROM:-0600
TZOFFSETTO:-0700
TZNAME:MST
DTSTART:20251102T080000
END:STANDARD
BEGIN:DAYLIGHT
TZOFFSETFROM:-0700
TZOFFSETTO:-0600
TZNAME:MDT
DTSTART:20260308T090000
END:DAYLIGHT
BEGIN:STANDARD
TZOFFSETFROM:-0600
TZOFFSETTO:-0700
TZNAME:MST
DTSTART:20261101T080000
END:STANDARD
END:VTIMEZONE
BEGIN:VEVENT
DTSTART;TZID=America/Denver:20250526T170000
DTEND;TZID=America/Denver:20250526T180000
DTSTAMP:20260423T234920
CREATED:20250521T153536Z
LAST-MODIFIED:20250521T153536Z
UID:10006529-1748278800-1748282400@dev.utahrecovers.org
SUMMARY:Introduction to CRAFT Family Support (Virtual)
DESCRIPTION:Learn more about our Family Support Program before joining a weekly group!
URL:https://dev.utahrecovers.org/meeting/introduction-to-craft-family-support-virtual-51/
LOCATION:https://us02web.zoom.us/j/86950545911?pwd=OFZGMlFiTWVkcHp2Yi8yQmVmSWhyUT09
CATEGORIES:Virtual Meetings
END:VEVENT
BEGIN:VEVENT
DTSTART;TZID=America/Denver:20250527T180000
DTEND;TZID=America/Denver:20250527T193000
DTSTAMP:20260423T234920
CREATED:20250521T153549Z
LAST-MODIFIED:20250521T153549Z
UID:10006534-1748368800-1748374200@dev.utahrecovers.org
SUMMARY:CRAFT Family Support Group (Virtual)
DESCRIPTION:password: 854607
URL:https://dev.utahrecovers.org/meeting/craft-family-support-group-virtual-145/
LOCATION:https://us02web.zoom.us/j/86950545911
CATEGORIES:Virtual Meetings
END:VEVENT
BEGIN:VEVENT
DTSTART;TZID=America/Denver:20250528T180000
DTEND;TZID=America/Denver:20250528T193000
DTSTAMP:20260423T234920
CREATED:20250521T153550Z
LAST-MODIFIED:20250521T153550Z
UID:10006539-1748455200-1748460600@dev.utahrecovers.org
SUMMARY:CRAFT Family Support Group (Virtual)
DESCRIPTION:password: 854607
URL:https://dev.utahrecovers.org/meeting/craft-family-support-group-virtual-146/
LOCATION:https://us02web.zoom.us/j/86950545911
CATEGORIES:Virtual Meetings
END:VEVENT
BEGIN:VEVENT
DTSTART;TZID=America/Denver:20250528T180000
DTEND;TZID=America/Denver:20250528T193000
DTSTAMP:20260423T234920
CREATED:20250521T153602Z
LAST-MODIFIED:20250521T153602Z
UID:10006541-1748455200-1748460600@dev.utahrecovers.org
SUMMARY:CRAFT un grupo de apoyo familiar en Espanol by LBHS (Hybrid - en persona o virtual!)
DESCRIPTION:
URL:https://dev.utahrecovers.org/meeting/craft-un-grupo-de-apoyo-familiar-en-espanol-by-lbhs-hybrid-en-persona-o-virtual-49/
LOCATION:https://us02web.zoom.us/j/84574681665
CATEGORIES:Virtual Meetings
END:VEVENT
BEGIN:VEVENT
DTSTART;TZID=America/Denver:20250529T180000
DTEND;TZID=America/Denver:20250529T193000
DTSTAMP:20260423T234920
CREATED:20250521T153603Z
LAST-MODIFIED:20250521T153603Z
UID:10006544-1748541600-1748547000@dev.utahrecovers.org
SUMMARY:CRAFT Family Support Group (Virtual)
DESCRIPTION:password: 854607
URL:https://dev.utahrecovers.org/meeting/craft-family-support-group-virtual-147/
LOCATION:https://us02web.zoom.us/j/86950545911
CATEGORIES:Virtual Meetings
END:VEVENT
END:VCALENDAR