BEGIN:VCALENDAR
VERSION:2.0
PRODID:-//USARA - Utah Recovers - ECPv6.15.18//NONSGML v1.0//EN
CALSCALE:GREGORIAN
METHOD:PUBLISH
X-WR-CALNAME:USARA - Utah Recovers
X-ORIGINAL-URL:https://dev.utahrecovers.org
X-WR-CALDESC:Events for USARA - Utah Recovers
REFRESH-INTERVAL;VALUE=DURATION:PT1H
X-Robots-Tag:noindex
X-PUBLISHED-TTL:PT1H
BEGIN:VTIMEZONE
TZID:America/Denver
BEGIN:DAYLIGHT
TZOFFSETFROM:-0700
TZOFFSETTO:-0600
TZNAME:MDT
DTSTART:20240310T090000
END:DAYLIGHT
BEGIN:STANDARD
TZOFFSETFROM:-0600
TZOFFSETTO:-0700
TZNAME:MST
DTSTART:20241103T080000
END:STANDARD
BEGIN:DAYLIGHT
TZOFFSETFROM:-0700
TZOFFSETTO:-0600
TZNAME:MDT
DTSTART:20250309T090000
END:DAYLIGHT
BEGIN:STANDARD
TZOFFSETFROM:-0600
TZOFFSETTO:-0700
TZNAME:MST
DTSTART:20251102T080000
END:STANDARD
BEGIN:DAYLIGHT
TZOFFSETFROM:-0700
TZOFFSETTO:-0600
TZNAME:MDT
DTSTART:20260308T090000
END:DAYLIGHT
BEGIN:STANDARD
TZOFFSETFROM:-0600
TZOFFSETTO:-0700
TZNAME:MST
DTSTART:20261101T080000
END:STANDARD
END:VTIMEZONE
BEGIN:VEVENT
DTSTART;TZID=America/Denver:20250421T170000
DTEND;TZID=America/Denver:20250421T180000
DTSTAMP:20260424T010202
CREATED:20250322T074332Z
LAST-MODIFIED:20250416T114141Z
UID:10006026-1745254800-1745258400@dev.utahrecovers.org
SUMMARY:Introduction to CRAFT Family Support (Virtual)
DESCRIPTION:Learn more about our Family Support Program before joining a weekly group!
URL:https://dev.utahrecovers.org/meeting/introduction-to-craft-family-support-virtual-47/
LOCATION:https://us02web.zoom.us/j/86950545911?pwd=OFZGMlFiTWVkcHp2Yi8yQmVmSWhyUT09
CATEGORIES:Virtual Meetings
END:VEVENT
BEGIN:VEVENT
DTSTART;TZID=America/Denver:20250422T180000
DTEND;TZID=America/Denver:20250422T193000
DTSTAMP:20260424T010202
CREATED:20250324T075429Z
LAST-MODIFIED:20250416T114141Z
UID:10006047-1745344800-1745350200@dev.utahrecovers.org
SUMMARY:CRAFT Family Support Group (Virtual)
DESCRIPTION:
URL:https://dev.utahrecovers.org/meeting/craft-family-support-group-virtual-131/
LOCATION:https://us02web.zoom.us/j/86950545911?pwd=OFZGMlFiTWVkcHp2Yi8yQmVmSWhyUT09
CATEGORIES:Virtual Meetings
END:VEVENT
BEGIN:VEVENT
DTSTART;TZID=America/Denver:20250422T190000
DTEND;TZID=America/Denver:20250422T203000
DTSTAMP:20260424T010202
CREATED:20250324T222025Z
LAST-MODIFIED:20250416T234109Z
UID:10006056-1745348400-1745353800@dev.utahrecovers.org
SUMMARY:CRAFT Family Support (In person)
DESCRIPTION:
URL:https://dev.utahrecovers.org/meeting/craft-family-support-in-person-97/
LOCATION:184 W 400 N\, Provo\, UT 84601\, USA\, Provo RCC-1-Suite B Group Room (30)
CATEGORIES:Provo Recovery Community Center
END:VEVENT
BEGIN:VEVENT
DTSTART;TZID=America/Denver:20250423T180000
DTEND;TZID=America/Denver:20250423T193000
DTSTAMP:20260424T010202
CREATED:20250325T062311Z
LAST-MODIFIED:20250416T102059Z
UID:10006065-1745431200-1745436600@dev.utahrecovers.org
SUMMARY:CRAFT Family Support (In person)
DESCRIPTION:
URL:https://dev.utahrecovers.org/meeting/craft-family-support-in-person-98/
LOCATION:Utah Support Advocates for Recovery Awareness – USARA\, 180 E 2100 S #100\, Salt Lake City\, UT 84115\, USA\, SLC RCC-1-Suite 100-Suite 100 Group Room (50)
CATEGORIES:Salt Lake Recovery Community Center
END:VEVENT
BEGIN:VEVENT
DTSTART;TZID=America/Denver:20250423T180000
DTEND;TZID=America/Denver:20250423T193000
DTSTAMP:20260424T010202
CREATED:20250325T082240Z
LAST-MODIFIED:20250416T114154Z
UID:10006070-1745431200-1745436600@dev.utahrecovers.org
SUMMARY:CRAFT un grupo de apoyo familiar en Espanol by LBHS (Hybrid - en persona o virtual!)
DESCRIPTION:
URL:https://dev.utahrecovers.org/meeting/craft-un-grupo-de-apoyo-familiar-en-espanol-by-lbhs-hybrid-en-persona-o-virtual-44/
LOCATION:https://us02web.zoom.us/j/84574681665
CATEGORIES:Virtual Meetings
END:VEVENT
BEGIN:VEVENT
DTSTART;TZID=America/Denver:20250423T180000
DTEND;TZID=America/Denver:20250423T193000
DTSTAMP:20260424T010202
CREATED:20250325T082240Z
LAST-MODIFIED:20250416T114141Z
UID:10006071-1745431200-1745436600@dev.utahrecovers.org
SUMMARY:CRAFT Family Support Group (Virtual)
DESCRIPTION:
URL:https://dev.utahrecovers.org/meeting/craft-family-support-group-virtual-132/
LOCATION:https://us02web.zoom.us/j/86950545911?pwd=OFZGMlFiTWVkcHp2Yi8yQmVmSWhyUT09
CATEGORIES:Virtual Meetings
END:VEVENT
BEGIN:VEVENT
DTSTART;TZID=America/Denver:20250424T180000
DTEND;TZID=America/Denver:20250424T193000
DTSTAMP:20260424T010202
CREATED:20250326T082254Z
LAST-MODIFIED:20250416T114155Z
UID:10006088-1745517600-1745523000@dev.utahrecovers.org
SUMMARY:CRAFT Family Support Group (Virtual)
DESCRIPTION:
URL:https://dev.utahrecovers.org/meeting/craft-family-support-group-virtual-133/
LOCATION:https://us02web.zoom.us/j/86950545911?pwd=OFZGMlFiTWVkcHp2Yi8yQmVmSWhyUT09
CATEGORIES:Virtual Meetings
END:VEVENT
END:VCALENDAR