BEGIN:VCALENDAR
VERSION:2.0
PRODID:-//USARA - Utah Recovers - ECPv6.15.18//NONSGML v1.0//EN
CALSCALE:GREGORIAN
METHOD:PUBLISH
X-WR-CALNAME:USARA - Utah Recovers
X-ORIGINAL-URL:https://dev.utahrecovers.org
X-WR-CALDESC:Events for USARA - Utah Recovers
REFRESH-INTERVAL;VALUE=DURATION:PT1H
X-Robots-Tag:noindex
X-PUBLISHED-TTL:PT1H
BEGIN:VTIMEZONE
TZID:America/Denver
BEGIN:DAYLIGHT
TZOFFSETFROM:-0700
TZOFFSETTO:-0600
TZNAME:MDT
DTSTART:20240310T090000
END:DAYLIGHT
BEGIN:STANDARD
TZOFFSETFROM:-0600
TZOFFSETTO:-0700
TZNAME:MST
DTSTART:20241103T080000
END:STANDARD
BEGIN:DAYLIGHT
TZOFFSETFROM:-0700
TZOFFSETTO:-0600
TZNAME:MDT
DTSTART:20250309T090000
END:DAYLIGHT
BEGIN:STANDARD
TZOFFSETFROM:-0600
TZOFFSETTO:-0700
TZNAME:MST
DTSTART:20251102T080000
END:STANDARD
BEGIN:DAYLIGHT
TZOFFSETFROM:-0700
TZOFFSETTO:-0600
TZNAME:MDT
DTSTART:20260308T090000
END:DAYLIGHT
BEGIN:STANDARD
TZOFFSETFROM:-0600
TZOFFSETTO:-0700
TZNAME:MST
DTSTART:20261101T080000
END:STANDARD
END:VTIMEZONE
BEGIN:VEVENT
DTSTART;TZID=America/Denver:20250414T170000
DTEND;TZID=America/Denver:20250414T180000
DTSTAMP:20260424T005335
CREATED:20250315T062231Z
LAST-MODIFIED:20250414T105211Z
UID:10005919-1744650000-1744653600@dev.utahrecovers.org
SUMMARY:Introduction to CRAFT Family Support (Virtual)
DESCRIPTION:Learn more about our Family Support Program before joining a weekly group!
URL:https://dev.utahrecovers.org/meeting/introduction-to-craft-family-support-virtual-46/
LOCATION:https://us02web.zoom.us/j/86950545911?pwd=OFZGMlFiTWVkcHp2Yi8yQmVmSWhyUT09
CATEGORIES:Virtual Meetings
END:VEVENT
BEGIN:VEVENT
DTSTART;TZID=America/Denver:20250415T180000
DTEND;TZID=America/Denver:20250415T193000
DTSTAMP:20260424T005335
CREATED:20250317T062259Z
LAST-MODIFIED:20250415T112011Z
UID:10005941-1744740000-1744745400@dev.utahrecovers.org
SUMMARY:CRAFT Family Support Group (Virtual)
DESCRIPTION:
URL:https://dev.utahrecovers.org/meeting/craft-family-support-group-virtual-128/
LOCATION:https://us02web.zoom.us/j/86950545911?pwd=OFZGMlFiTWVkcHp2Yi8yQmVmSWhyUT09
CATEGORIES:Virtual Meetings
END:VEVENT
BEGIN:VEVENT
DTSTART;TZID=America/Denver:20250415T190000
DTEND;TZID=America/Denver:20250415T203000
DTSTAMP:20260424T005335
CREATED:20250317T214121Z
LAST-MODIFIED:20250415T234108Z
UID:10005950-1744743600-1744749000@dev.utahrecovers.org
SUMMARY:CRAFT Family Support (In person)
DESCRIPTION:
URL:https://dev.utahrecovers.org/meeting/craft-family-support-in-person-94/
LOCATION:184 W 400 N\, Provo\, UT 84601\, USA\, Provo RCC-1-Suite B Group Room (30)
CATEGORIES:Provo Recovery Community Center
END:VEVENT
BEGIN:VEVENT
DTSTART;TZID=America/Denver:20250416T180000
DTEND;TZID=America/Denver:20250416T193000
DTSTAMP:20260424T005335
CREATED:20250318T054342Z
LAST-MODIFIED:20250416T102011Z
UID:10005959-1744826400-1744831800@dev.utahrecovers.org
SUMMARY:CRAFT Family Support (In person)
DESCRIPTION:
URL:https://dev.utahrecovers.org/meeting/craft-family-support-in-person-95/
LOCATION:Utah Support Advocates for Recovery Awareness – USARA\, 180 E 2100 S #100\, Salt Lake City\, UT 84115\, USA\, SLC RCC-1-Suite 100-Suite 100 Group Room (50)
CATEGORIES:Salt Lake Recovery Community Center
END:VEVENT
BEGIN:VEVENT
DTSTART;TZID=America/Denver:20250416T180000
DTEND;TZID=America/Denver:20250416T193000
DTSTAMP:20260424T005335
CREATED:20250318T064322Z
LAST-MODIFIED:20250416T114110Z
UID:10005965-1744826400-1744831800@dev.utahrecovers.org
SUMMARY:CRAFT un grupo de apoyo familiar en Espanol by LBHS (Hybrid - en persona o virtual!)
DESCRIPTION:
URL:https://dev.utahrecovers.org/meeting/craft-un-grupo-de-apoyo-familiar-en-espanol-by-lbhs-hybrid-en-persona-o-virtual-43/
LOCATION:https://us02web.zoom.us/j/84574681665
CATEGORIES:Virtual Meetings
END:VEVENT
BEGIN:VEVENT
DTSTART;TZID=America/Denver:20250416T180000
DTEND;TZID=America/Denver:20250416T193000
DTSTAMP:20260424T005335
CREATED:20250318T064322Z
LAST-MODIFIED:20250416T114110Z
UID:10005966-1744826400-1744831800@dev.utahrecovers.org
SUMMARY:CRAFT Family Support Group (Virtual)
DESCRIPTION:
URL:https://dev.utahrecovers.org/meeting/craft-family-support-group-virtual-129/
LOCATION:https://us02web.zoom.us/j/86950545911?pwd=OFZGMlFiTWVkcHp2Yi8yQmVmSWhyUT09
CATEGORIES:Virtual Meetings
END:VEVENT
BEGIN:VEVENT
DTSTART;TZID=America/Denver:20250417T180000
DTEND;TZID=America/Denver:20250417T193000
DTSTAMP:20260424T005335
CREATED:20250319T064346Z
LAST-MODIFIED:20250416T114126Z
UID:10005987-1744912800-1744918200@dev.utahrecovers.org
SUMMARY:CRAFT Family Support Group (Virtual)
DESCRIPTION:
URL:https://dev.utahrecovers.org/meeting/craft-family-support-group-virtual-130/
LOCATION:https://us02web.zoom.us/j/86950545911?pwd=OFZGMlFiTWVkcHp2Yi8yQmVmSWhyUT09
CATEGORIES:Virtual Meetings
END:VEVENT
BEGIN:VEVENT
DTSTART;TZID=America/Denver:20250417T180000
DTEND;TZID=America/Denver:20250417T193000
DTSTAMP:20260424T005335
CREATED:20250319T094209Z
LAST-MODIFIED:20250416T105210Z
UID:10005991-1744912800-1744918200@dev.utahrecovers.org
SUMMARY:CRAFT Family Support (In person)
DESCRIPTION:Contact:Patrick Cox patrick.cox@myusara.com801-745-5578
URL:https://dev.utahrecovers.org/meeting/craft-family-support-in-person-96/
LOCATION:Utah Support Advocates for Recovery Awareness – USARA – Ogden\, 893 24th St\, Ogden\, UT\, United States
CATEGORIES:Ogden Recovery Community Center
GEO:41.222498;-111.956726
X-APPLE-STRUCTURED-LOCATION;VALUE=URI;X-ADDRESS=Utah Support Advocates for Recovery Awareness – USARA – Ogden 893 24th St Ogden UT United States;X-APPLE-RADIUS=500;X-TITLE=893 24th St:geo:-111.956726,41.222498
END:VEVENT
END:VCALENDAR