BEGIN:VCALENDAR
VERSION:2.0
PRODID:-//USARA - Utah Recovers - ECPv6.15.18//NONSGML v1.0//EN
CALSCALE:GREGORIAN
METHOD:PUBLISH
X-WR-CALNAME:USARA - Utah Recovers
X-ORIGINAL-URL:https://dev.utahrecovers.org
X-WR-CALDESC:Events for USARA - Utah Recovers
REFRESH-INTERVAL;VALUE=DURATION:PT1H
X-Robots-Tag:noindex
X-PUBLISHED-TTL:PT1H
BEGIN:VTIMEZONE
TZID:America/Denver
BEGIN:DAYLIGHT
TZOFFSETFROM:-0700
TZOFFSETTO:-0600
TZNAME:MDT
DTSTART:20240310T090000
END:DAYLIGHT
BEGIN:STANDARD
TZOFFSETFROM:-0600
TZOFFSETTO:-0700
TZNAME:MST
DTSTART:20241103T080000
END:STANDARD
BEGIN:DAYLIGHT
TZOFFSETFROM:-0700
TZOFFSETTO:-0600
TZNAME:MDT
DTSTART:20250309T090000
END:DAYLIGHT
BEGIN:STANDARD
TZOFFSETFROM:-0600
TZOFFSETTO:-0700
TZNAME:MST
DTSTART:20251102T080000
END:STANDARD
BEGIN:DAYLIGHT
TZOFFSETFROM:-0700
TZOFFSETTO:-0600
TZNAME:MDT
DTSTART:20260308T090000
END:DAYLIGHT
BEGIN:STANDARD
TZOFFSETFROM:-0600
TZOFFSETTO:-0700
TZNAME:MST
DTSTART:20261101T080000
END:STANDARD
END:VTIMEZONE
BEGIN:VEVENT
DTSTART;TZID=America/Denver:20250406T100000
DTEND;TZID=America/Denver:20250406T110000
DTSTAMP:20260424T020739
CREATED:20250307T034402Z
LAST-MODIFIED:20250406T084115Z
UID:10005794-1743933600-1743937200@dev.utahrecovers.org
SUMMARY:Sunday Morning Big Book Study (Hybrid - join virtually or in person!)
DESCRIPTION:https://us02web.zoom.us/j/89418418350?pwd=Rm9PSExNU3BEbURuZ09EaUpvcUZtdz09
URL:https://dev.utahrecovers.org/meeting/sunday-morning-big-book-study-hybrid-join-virtually-or-in-person-88/
LOCATION:Utah Support Advocates for Recovery Awareness – USARA\, 180 E 2100 S #100\, Salt Lake City\, UT 84115\, USA\, SLC RCC-1-Suite 100-Suite 100 Group Room (50)
CATEGORIES:Salt Lake Recovery Community Center
END:VEVENT
BEGIN:VEVENT
DTSTART;TZID=America/Denver:20250406T100000
DTEND;TZID=America/Denver:20250406T110000
DTSTAMP:20260424T020739
CREATED:20250307T045438Z
LAST-MODIFIED:20250406T095231Z
UID:10005797-1743933600-1743937200@dev.utahrecovers.org
SUMMARY:Sunday Morning Big Book Study (Hybrid - join virtually or in person!)
DESCRIPTION:https://us02web.zoom.us/j/89418418350?pwd=Rm9PSExNU3BEbURuZ09EaUpvcUZtdz09 \nContacts \n\nChristy Rogers\n\ncell: (801) 244-7163 
URL:https://dev.utahrecovers.org/meeting/sunday-morning-big-book-study-hybrid-join-virtually-or-in-person-89/
LOCATION:Utah Support Advocates for Recovery Awareness – USARA\, 180 E 2100 S\, Salt Lake City\, UT\, United States
CATEGORIES:Virtual Meetings
GEO:40.725365;-111.885934
X-APPLE-STRUCTURED-LOCATION;VALUE=URI;X-ADDRESS=Utah Support Advocates for Recovery Awareness – USARA 180 E 2100 S Salt Lake City UT United States;X-APPLE-RADIUS=500;X-TITLE=180 E 2100 S:geo:-111.885934,40.725365
END:VEVENT
BEGIN:VEVENT
DTSTART;TZID=America/Denver:20250406T120000
DTEND;TZID=America/Denver:20250406T130000
DTSTAMP:20260424T020739
CREATED:20250307T034402Z
LAST-MODIFIED:20250406T084115Z
UID:10005795-1743940800-1743944400@dev.utahrecovers.org
SUMMARY:Recovery Dharma (Hybrid - join virtually or in person!)
DESCRIPTION:https://us02web.zoom.us/j/2361179850?pwd=NXhUUDNsUUpWYTNxdkhIOUcwNEhSUT09 \nContacts \n\nSteve Slater\n\nemail: slater.stevej@gmail.com
URL:https://dev.utahrecovers.org/meeting/recovery-dharma-hybrid-join-virtually-or-in-person-305/
LOCATION:Utah Support Advocates for Recovery Awareness – USARA\, 180 E 2100 S #100\, Salt Lake City\, UT 84115\, USA\, SLC RCC-1-Suite 100-Suite 100 Group Room (50)
CATEGORIES:Salt Lake Recovery Community Center
END:VEVENT
BEGIN:VEVENT
DTSTART;TZID=America/Denver:20250406T120000
DTEND;TZID=America/Denver:20250406T130000
DTSTAMP:20260424T020739
CREATED:20250307T045438Z
LAST-MODIFIED:20250406T095231Z
UID:10005798-1743940800-1743944400@dev.utahrecovers.org
SUMMARY:Recovery Dharma (Hybrid - join virtually or in person!)
DESCRIPTION:https://us02web.zoom.us/j/2361179850?pwd=NXhUUDNsUUpWYTNxdkhIOUcwNEhSUT09 \nContacts \n\nSteve\n\nemail: slater.stevej@gmail.com
URL:https://dev.utahrecovers.org/meeting/recovery-dharma-hybrid-join-virtually-or-in-person-306/
LOCATION:Utah Support Advocates for Recovery Awareness – USARA\, 180 E 2100 S\, Salt Lake City\, UT\, United States
CATEGORIES:Virtual Meetings
GEO:40.725365;-111.885934
X-APPLE-STRUCTURED-LOCATION;VALUE=URI;X-ADDRESS=Utah Support Advocates for Recovery Awareness – USARA 180 E 2100 S Salt Lake City UT United States;X-APPLE-RADIUS=500;X-TITLE=180 E 2100 S:geo:-111.885934,40.725365
END:VEVENT
BEGIN:VEVENT
DTSTART;TZID=America/Denver:20250406T133000
DTEND;TZID=America/Denver:20250406T143000
DTSTAMP:20260424T020739
CREATED:20250307T034403Z
LAST-MODIFIED:20250406T084115Z
UID:10005796-1743946200-1743949800@dev.utahrecovers.org
SUMMARY:Clean\, Sober\, and Proud CMA - LGBTQ+ Focus (In person)
DESCRIPTION:Contacts \n\nBuzz T\n\ncell: (801) 664-5225\nemail: actalbotslc@gmail.com
URL:https://dev.utahrecovers.org/meeting/clean-sober-and-proud-cma-lgbtq-focus-in-person-45/
LOCATION:Utah Support Advocates for Recovery Awareness – USARA\, 180 E 2100 S #100\, Salt Lake City\, UT 84115\, USA\, SLC RCC-2-Suite 203-Suite 203 Group Room (40)
CATEGORIES:Salt Lake Recovery Community Center
END:VEVENT
BEGIN:VEVENT
DTSTART;TZID=America/Denver:20250406T180000
DTEND;TZID=America/Denver:20250406T190000
DTSTAMP:20260424T020739
CREATED:20250308T014154Z
LAST-MODIFIED:20250406T022008Z
UID:10005799-1743962400-1743966000@dev.utahrecovers.org
SUMMARY:Narcotics Anonymous (In person
DESCRIPTION:
URL:https://dev.utahrecovers.org/meeting/narcotics-anonymous-in-person-45/
LOCATION:Utah Support Advocates for Recovery Awareness – USARA – Price\, 91 E Main St\, Price\, UT\, United States
CATEGORIES:Price Recovery Community Center
GEO:39.348812;-110.851077
X-APPLE-STRUCTURED-LOCATION;VALUE=URI;X-ADDRESS=Utah Support Advocates for Recovery Awareness – USARA – Price 91 E Main St Price UT United States;X-APPLE-RADIUS=500;X-TITLE=91 E Main St:geo:-110.851077,39.348812
END:VEVENT
BEGIN:VEVENT
DTSTART;TZID=America/Denver:20250406T180000
DTEND;TZID=America/Denver:20250406T190000
DTSTAMP:20260424T020739
CREATED:20250308T034352Z
LAST-MODIFIED:20250406T084115Z
UID:10005801-1743962400-1743966000@dev.utahrecovers.org
SUMMARY:Sexaholics Anonymous (Hybrid - join virtually or in person!)
DESCRIPTION:https://zoom.us/j/608422086?pwd=Y1VmV2xsSWc4QVpaR3FHZDNOZnJsZz09
URL:https://dev.utahrecovers.org/meeting/sexaholics-anonymous-hybrid-join-virtually-or-in-person-53/
LOCATION:Utah Support Advocates for Recovery Awareness – USARA\, 180 E 2100 S #100\, Salt Lake City\, UT 84115\, USA\, SLC RCC-2-Suite 203-Suite 203 Group Room (40)
CATEGORIES:Salt Lake Recovery Community Center
END:VEVENT
BEGIN:VEVENT
DTSTART;TZID=America/Denver:20250406T180000
DTEND;TZID=America/Denver:20250406T190000
DTSTAMP:20260424T020739
CREATED:20250308T045434Z
LAST-MODIFIED:20250406T095231Z
UID:10005803-1743962400-1743966000@dev.utahrecovers.org
SUMMARY:Sexaholics Anonymous (Hybrid - join virtually or in person!)
DESCRIPTION:https://us02web.zoom.us/j/86238197798?pwd=OTA2ZmY5YUVzcURMRllId3JyRVliZz09
URL:https://dev.utahrecovers.org/meeting/sexaholics-anonymous-hybrid-join-virtually-or-in-person-54/
LOCATION:Utah Support Advocates for Recovery Awareness – USARA\, 180 E 2100 S\, Salt Lake City\, UT\, United States
CATEGORIES:Virtual Meetings
GEO:40.725365;-111.885934
X-APPLE-STRUCTURED-LOCATION;VALUE=URI;X-ADDRESS=Utah Support Advocates for Recovery Awareness – USARA 180 E 2100 S Salt Lake City UT United States;X-APPLE-RADIUS=500;X-TITLE=180 E 2100 S:geo:-111.885934,40.725365
END:VEVENT
BEGIN:VEVENT
DTSTART;TZID=America/Denver:20250406T200000
DTEND;TZID=America/Denver:20250406T210000
DTSTAMP:20260424T020739
CREATED:20250308T164225Z
LAST-MODIFIED:20250406T194109Z
UID:10005806-1743969600-1743973200@dev.utahrecovers.org
SUMMARY:Joe & Charlie Discussion AA Group (In person)
DESCRIPTION:Open 12 step AA meeting focusing on the Joe & Charlie tapes\, Big Book Study \nContact \n\nJustin Ward\n\nphone: (801) 389-2715
URL:https://dev.utahrecovers.org/meeting/joe-charlie-discussion-aa-group-in-person-45/
LOCATION:Utah Support Advocates for Recovery Awareness – USARA – St. George\, 113 E 200 N\, Saint George\, UT\, United States
CATEGORIES:St George Recovery Community Center
GEO:37.111634;-113.581023
X-APPLE-STRUCTURED-LOCATION;VALUE=URI;X-ADDRESS=Utah Support Advocates for Recovery Awareness – USARA – St. George 113 E 200 N Saint George UT United States;X-APPLE-RADIUS=500;X-TITLE=113 E 200 N:geo:-113.581023,37.111634
END:VEVENT
BEGIN:VEVENT
DTSTART;TZID=America/Denver:20250407T110000
DTEND;TZID=America/Denver:20250407T120000
DTSTAMP:20260424T020739
CREATED:20250308T014154Z
LAST-MODIFIED:20250407T022013Z
UID:10005800-1744023600-1744027200@dev.utahrecovers.org
SUMMARY:Mental Health Monday (In Person)
DESCRIPTION:
URL:https://dev.utahrecovers.org/meeting/mental-health-monday-in-person-14/
LOCATION:91 E Main St\, Price\, UT\, United States
CATEGORIES:Price Recovery Community Center
GEO:39.567883;-110.650901
END:VEVENT
BEGIN:VEVENT
DTSTART;TZID=America/Denver:20250407T170000
DTEND;TZID=America/Denver:20250407T180000
DTSTAMP:20260424T020739
CREATED:20250308T045434Z
LAST-MODIFIED:20250407T095212Z
UID:10005804-1744045200-1744048800@dev.utahrecovers.org
SUMMARY:Coffee & Recovery (Hybrid - join virtually or in person!)
DESCRIPTION:Join with Google Meet: https://meet.google.com/hrb-awdg-zmdOr dial: (US) +1 508-506-1551 PIN: 141472344#More phone numbers: https://tel.meet/hrb-awdg-zmd?pin=1300156360240&hs=7 \nLearn more about Meet at: https://support.google.com/a/users/answer/9282720
URL:https://dev.utahrecovers.org/meeting/coffee-recovery-hybrid-join-virtually-or-in-person-310/
LOCATION:Utah Support Advocates for Recovery Awareness – USARA – Moab\, 23 S 100 W\, Moab\, UT\, United States
CATEGORIES:Virtual Meetings
GEO:38.57309;-109.552616
X-APPLE-STRUCTURED-LOCATION;VALUE=URI;X-ADDRESS=Utah Support Advocates for Recovery Awareness – USARA – Moab 23 S 100 W Moab UT United States;X-APPLE-RADIUS=500;X-TITLE=23 S 100 W:geo:-109.552616,38.57309
END:VEVENT
BEGIN:VEVENT
DTSTART;TZID=America/Denver:20250407T170000
DTEND;TZID=America/Denver:20250407T180000
DTSTAMP:20260424T020739
CREATED:20250308T045434Z
LAST-MODIFIED:20250407T095212Z
UID:10005805-1744045200-1744048800@dev.utahrecovers.org
SUMMARY:Introduction to CRAFT Family Support (Virtual)
DESCRIPTION:Learn more about our Family Support Program before joining a weekly group!
URL:https://dev.utahrecovers.org/meeting/introduction-to-craft-family-support-virtual-45/
LOCATION:https://us02web.zoom.us/j/86950545911?pwd=OFZGMlFiTWVkcHp2Yi8yQmVmSWhyUT09
CATEGORIES:Virtual Meetings
END:VEVENT
BEGIN:VEVENT
DTSTART;TZID=America/Denver:20250407T170000
DTEND;TZID=America/Denver:20250407T180000
DTSTAMP:20260424T020739
CREATED:20250308T224201Z
LAST-MODIFIED:20250407T232021Z
UID:10005807-1744045200-1744048800@dev.utahrecovers.org
SUMMARY:Coffee & Recovery (Hybrid - join online or in person!)
DESCRIPTION:Join with Google Meet: https://meet.google.com/hrb-awdg-zmdOr dial: (US) +1 508-506-1551 PIN: 141472344#More phone numbers: https://tel.meet/hrb-awdg-zmd?pin=1300156360240&hs=7 \nLearn more about Meet at: https://support.google.com/a/users/answer/9282720
URL:https://dev.utahrecovers.org/meeting/coffee-recovery-hybrid-join-online-or-in-person-90/
LOCATION:Utah Support Advocates for Recovery Awareness – USARA – Moab\, 23 S 100 W\, Moab\, UT 84532\, USA\, Moab RCC-1-Group Room (20)
CATEGORIES:Moab Recovery Community Center
END:VEVENT
BEGIN:VEVENT
DTSTART;TZID=America/Denver:20250407T170000
DTEND;TZID=America/Denver:20250407T180000
DTSTAMP:20260424T020739
CREATED:20250319T054251Z
LAST-MODIFIED:20250407T085217Z
UID:10005980-1744045200-1744048800@dev.utahrecovers.org
SUMMARY:Hopeful Changes Women's Book Study (In person)
DESCRIPTION:Currently reading: A Woman’s Way Through the Twelve Steps by Stephanie S Covington
URL:https://dev.utahrecovers.org/meeting/hopeful-changes-womens-book-study-in-person-3/
LOCATION:Utah Support Advocates for Recovery Awareness – USARA\, 180 E 2100 S #100\, Salt Lake City\, UT 84115\, USA\, SLC RCC-1-Suite 100-Suite 100 Group Room (50)
CATEGORIES:Salt Lake Recovery Community Center
END:VEVENT
BEGIN:VEVENT
DTSTART;TZID=America/Denver:20250407T174500
DTEND;TZID=America/Denver:20250407T184500
DTSTAMP:20260424T020739
CREATED:20250308T034352Z
LAST-MODIFIED:20250407T085217Z
UID:10005802-1744047900-1744051500@dev.utahrecovers.org
SUMMARY:The Young and Methless CMA (In person)
DESCRIPTION:
URL:https://dev.utahrecovers.org/meeting/the-young-and-methless-cma-in-person-16/
LOCATION:SLC RCC-2-Suite 203-Suite 203 Group Room (40)
CATEGORIES:Salt Lake Recovery Community Center
END:VEVENT
BEGIN:VEVENT
DTSTART;TZID=America/Denver:20250407T180000
DTEND;TZID=America/Denver:20250407T190000
DTSTAMP:20260424T020739
CREATED:20250309T014151Z
LAST-MODIFIED:20250407T022013Z
UID:10005808-1744048800-1744052400@dev.utahrecovers.org
SUMMARY:Narcotics Anonymous Step Study Guide (In person)
DESCRIPTION:
URL:https://dev.utahrecovers.org/meeting/narcotics-anonymous-step-study-guide-in-person-45/
LOCATION:Utah Support Advocates for Recovery Awareness – USARA – Price\, 91 E Main St\, Price\, UT\, United States
CATEGORIES:Price Recovery Community Center
GEO:39.348812;-110.851077
X-APPLE-STRUCTURED-LOCATION;VALUE=URI;X-ADDRESS=Utah Support Advocates for Recovery Awareness – USARA – Price 91 E Main St Price UT United States;X-APPLE-RADIUS=500;X-TITLE=91 E Main St:geo:-110.851077,39.348812
END:VEVENT
BEGIN:VEVENT
DTSTART;TZID=America/Denver:20250407T180000
DTEND;TZID=America/Denver:20250407T190000
DTSTAMP:20260424T020739
CREATED:20250309T034403Z
LAST-MODIFIED:20250407T085216Z
UID:10005811-1744048800-1744052400@dev.utahrecovers.org
SUMMARY:Recovery Dharma (In person)
DESCRIPTION:
URL:https://dev.utahrecovers.org/meeting/recovery-dharma-in-person-133/
LOCATION:Utah Support Advocates for Recovery Awareness – USARA\, 180 E 2100 S #100\, Salt Lake City\, UT 84115\, USA\, SLC RCC-1-Suite 100-Suite 100 Group Room (50)
CATEGORIES:Salt Lake Recovery Community Center
END:VEVENT
BEGIN:VEVENT
DTSTART;TZID=America/Denver:20250407T180000
DTEND;TZID=America/Denver:20250407T190000
DTSTAMP:20260424T020739
CREATED:20250309T052233Z
LAST-MODIFIED:20250407T095212Z
UID:10005815-1744048800-1744052400@dev.utahrecovers.org
SUMMARY:Recovery Dharma (Hybrid - join virtually or in person!)
DESCRIPTION:Zoom Meeting ID: 85240868496Password: 11111
URL:https://dev.utahrecovers.org/meeting/recovery-dharma-hybrid-join-virtually-or-in-person-307/
LOCATION:240 N Highway 153\, Beaver\, UT\, United States
CATEGORIES:Virtual Meetings
GEO:38.27691;-112.64105
END:VEVENT
BEGIN:VEVENT
DTSTART;TZID=America/Denver:20250407T180000
DTEND;TZID=America/Denver:20250407T190000
DTSTAMP:20260424T020739
CREATED:20250309T085310Z
LAST-MODIFIED:20250407T104109Z
UID:10005817-1744048800-1744052400@dev.utahrecovers.org
SUMMARY:Rainbow Recovery (In person)
DESCRIPTION:12 step LGBTQ+ Community Support Meeting
URL:https://dev.utahrecovers.org/meeting/rainbow-recovery-in-person-45/
LOCATION:Utah Support Advocates for Recovery Awareness – USARA – Ogden\, 893 24th St\, Ogden\, UT\, United States
CATEGORIES:Ogden Recovery Community Center
GEO:41.222498;-111.956726
X-APPLE-STRUCTURED-LOCATION;VALUE=URI;X-ADDRESS=Utah Support Advocates for Recovery Awareness – USARA – Ogden 893 24th St Ogden UT United States;X-APPLE-RADIUS=500;X-TITLE=893 24th St:geo:-111.956726,41.222498
END:VEVENT
BEGIN:VEVENT
DTSTART;TZID=America/Denver:20250407T180000
DTEND;TZID=America/Denver:20250407T190000
DTSTAMP:20260424T020739
CREATED:20250309T165326Z
LAST-MODIFIED:20250407T194109Z
UID:10005818-1744048800-1744052400@dev.utahrecovers.org
SUMMARY:Al-Anon Men's Meeting (In person)
DESCRIPTION:Closed 12 step family support meeting for males. \nContacts \n\nRick Hughes\n\nphone: (815) 546-1798\n\n\nManny\n\nphone: (435) 559-3333
URL:https://dev.utahrecovers.org/meeting/al-anon-mens-meeting-in-person-44/
LOCATION:Utah Support Advocates for Recovery Awareness – USARA – St. George\, 113 E 200 N\, Saint George\, UT\, United States
CATEGORIES:St George Recovery Community Center
GEO:37.111634;-113.581023
X-APPLE-STRUCTURED-LOCATION;VALUE=URI;X-ADDRESS=Utah Support Advocates for Recovery Awareness – USARA – St. George 113 E 200 N Saint George UT United States;X-APPLE-RADIUS=500;X-TITLE=113 E 200 N:geo:-113.581023,37.111634
END:VEVENT
BEGIN:VEVENT
DTSTART;TZID=America/Denver:20250407T180000
DTEND;TZID=America/Denver:20250407T200000
DTSTAMP:20260424T020739
CREATED:20250306T032306Z
LAST-MODIFIED:20250407T085217Z
UID:10005784-1744048800-1744056000@dev.utahrecovers.org
SUMMARY:Family Fun Night
DESCRIPTION:
URL:https://dev.utahrecovers.org/meeting/family-fun-night-10/
LOCATION:All Star Bowling & Entertainment – Valley Fair\, 3599 W 2700 S\, Salt Lake City\, UT\, United States
CATEGORIES:Salt Lake Recovery Community Center
GEO:40.711166;-111.977145
X-APPLE-STRUCTURED-LOCATION;VALUE=URI;X-ADDRESS=All Star Bowling & Entertainment – Valley Fair 3599 W 2700 S Salt Lake City UT United States;X-APPLE-RADIUS=500;X-TITLE=3599 W 2700 S:geo:-111.977145,40.711166
END:VEVENT
BEGIN:VEVENT
DTSTART;TZID=America/Denver:20250407T190000
DTEND;TZID=America/Denver:20250407T200000
DTSTAMP:20260424T020739
CREATED:20250309T034402Z
LAST-MODIFIED:20250407T085217Z
UID:10005810-1744052400-1744056000@dev.utahrecovers.org
SUMMARY:SLAA Keys to the Kingdom (Hybrid - join virtually or in person!)
DESCRIPTION:https://us02web.zoom.us/j/85092306619?pwd=eXBTV0kyUGRDclNISkJZQVhwNXBLdz09 \nContacts \n\nRick\n\nemail: faklass@gmail.com
URL:https://dev.utahrecovers.org/meeting/slaa-keys-to-the-kingdom-hybrid-join-virtually-or-in-person-89/
LOCATION:Utah Support Advocates for Recovery Awareness – USARA\, 180 E 2100 S #100\, Salt Lake City\, UT 84115\, USA\, SLC RCC-2-Suite 203-Suite 203 Group Room (40)
CATEGORIES:Salt Lake Recovery Community Center
END:VEVENT
BEGIN:VEVENT
DTSTART;TZID=America/Denver:20250407T190000
DTEND;TZID=America/Denver:20250407T200000
DTSTAMP:20260424T020739
CREATED:20250309T052233Z
LAST-MODIFIED:20250407T095212Z
UID:10005814-1744052400-1744056000@dev.utahrecovers.org
SUMMARY:SLAA Keys to the Kingdom (Hybrid - join virtually or in person!)
DESCRIPTION:https://us02web.zoom.us/j/85092306619?pwd=eXBTV0kyUGRDclNISkJZQVhwNXBLdz09 \nContacts \n\nRick\n\nemail: faklass@gmail.com
URL:https://dev.utahrecovers.org/meeting/slaa-keys-to-the-kingdom-hybrid-join-virtually-or-in-person-90/
LOCATION:Utah Support Advocates for Recovery Awareness – USARA\, 180 E 2100 S\, Salt Lake City\, UT\, United States
CATEGORIES:Virtual Meetings
GEO:40.725365;-111.885934
X-APPLE-STRUCTURED-LOCATION;VALUE=URI;X-ADDRESS=Utah Support Advocates for Recovery Awareness – USARA 180 E 2100 S Salt Lake City UT United States;X-APPLE-RADIUS=500;X-TITLE=180 E 2100 S:geo:-111.885934,40.725365
END:VEVENT
BEGIN:VEVENT
DTSTART;TZID=America/Denver:20250407T200000
DTEND;TZID=America/Denver:20250407T210000
DTSTAMP:20260424T020739
CREATED:20250311T165321Z
LAST-MODIFIED:20250407T194109Z
UID:10005862-1744056000-1744059600@dev.utahrecovers.org
SUMMARY:Eating Disordered Anonymous (In person)
DESCRIPTION:Eating Disordered Anonymous
URL:https://dev.utahrecovers.org/meeting/eating-disordered-anonymous-in-person-4/
LOCATION:Utah Support Advocates for Recovery Awareness – USARA – St. George\, 113 E 200 N\, Saint George\, UT\, United States
CATEGORIES:St George Recovery Community Center
GEO:37.111634;-113.581023
X-APPLE-STRUCTURED-LOCATION;VALUE=URI;X-ADDRESS=Utah Support Advocates for Recovery Awareness – USARA – St. George 113 E 200 N Saint George UT United States;X-APPLE-RADIUS=500;X-TITLE=113 E 200 N:geo:-113.581023,37.111634
END:VEVENT
BEGIN:VEVENT
DTSTART;TZID=America/Denver:20250408T090000
DTEND;TZID=America/Denver:20250408T100000
DTSTAMP:20260424T020739
CREATED:20250309T014151Z
LAST-MODIFIED:20250408T022026Z
UID:10005809-1744102800-1744106400@dev.utahrecovers.org
SUMMARY:Coffee & Recovery (Hybrid - join virtually or in person!)
DESCRIPTION:Join with Google Meet: https://meet.google.com/ydy-xvee-rqtOr dial: (US) +1 478-412-7414 PIN: 189703499#More phone numbers: https://tel.meet/ydy-xvee-rqt?pin=4876928882810&hs=7 \nLearn more about Meet at: https://support.google.com/a/users/answer/9282720
URL:https://dev.utahrecovers.org/meeting/coffee-recovery-hybrid-join-virtually-or-in-person-311/
LOCATION:Utah Support Advocates for Recovery Awareness – USARA – Price\, 91 E Main St\, Price\, UT\, United States
CATEGORIES:Price Recovery Community Center
GEO:39.348812;-110.851077
X-APPLE-STRUCTURED-LOCATION;VALUE=URI;X-ADDRESS=Utah Support Advocates for Recovery Awareness – USARA – Price 91 E Main St Price UT United States;X-APPLE-RADIUS=500;X-TITLE=91 E Main St:geo:-110.851077,39.348812
END:VEVENT
BEGIN:VEVENT
DTSTART;TZID=America/Denver:20250408T090000
DTEND;TZID=America/Denver:20250408T100000
DTSTAMP:20260424T020739
CREATED:20250309T052233Z
LAST-MODIFIED:20250408T102010Z
UID:10005816-1744102800-1744106400@dev.utahrecovers.org
SUMMARY:Coffee & Recovery (Hybrid - join virtually or in person!)
DESCRIPTION:Join with Google Meet: https://meet.google.com/ydy-xvee-rqtOr dial: (US) +1 478-412-7414 PIN: 189703499#More phone numbers: https://tel.meet/ydy-xvee-rqt?pin=4876928882810&hs=7 \nLearn more about Meet at: https://support.google.com/a/users/answer/9282720
URL:https://dev.utahrecovers.org/meeting/coffee-recovery-hybrid-join-virtually-or-in-person-312/
LOCATION:Utah Support Advocates for Recovery Awareness – USARA – Price\, 91 E Main St\, Price\, UT\, United States
CATEGORIES:Virtual Meetings
GEO:39.348812;-110.851077
X-APPLE-STRUCTURED-LOCATION;VALUE=URI;X-ADDRESS=Utah Support Advocates for Recovery Awareness – USARA – Price 91 E Main St Price UT United States;X-APPLE-RADIUS=500;X-TITLE=91 E Main St:geo:-110.851077,39.348812
END:VEVENT
BEGIN:VEVENT
DTSTART;TZID=America/Denver:20250408T120000
DTEND;TZID=America/Denver:20250408T130000
DTSTAMP:20260424T020739
CREATED:20250309T165327Z
LAST-MODIFIED:20250407T194109Z
UID:10005819-1744113600-1744117200@dev.utahrecovers.org
SUMMARY:Recovery Dharma (In person)
DESCRIPTION:A mindfulness-based addiction recovery community that practices and utilizes Buddhist philosophy as the foundation of the recovery process. \nContact \n\nLana Rose Nelson\n\nphone: (435) 429-9454
URL:https://dev.utahrecovers.org/meeting/recovery-dharma-in-person-134/
LOCATION:Utah Support Advocates for Recovery Awareness – USARA – St. George\, 113 E 200 N\, Saint George\, UT\, United States
CATEGORIES:St George Recovery Community Center
GEO:37.111634;-113.581023
X-APPLE-STRUCTURED-LOCATION;VALUE=URI;X-ADDRESS=Utah Support Advocates for Recovery Awareness – USARA – St. George 113 E 200 N Saint George UT United States;X-APPLE-RADIUS=500;X-TITLE=113 E 200 N:geo:-113.581023,37.111634
END:VEVENT
BEGIN:VEVENT
DTSTART;TZID=America/Denver:20250408T170000
DTEND;TZID=America/Denver:20250408T180000
DTSTAMP:20260424T020739
CREATED:20250309T034403Z
LAST-MODIFIED:20250408T092011Z
UID:10005813-1744131600-1744135200@dev.utahrecovers.org
SUMMARY:Veterans Support Group (In person)
DESCRIPTION:
URL:https://dev.utahrecovers.org/meeting/veterans-support-group-in-person-42/
LOCATION:Utah Support Advocates for Recovery Awareness – USARA\, 180 E 2100 S #100\, Salt Lake City\, UT 84115\, USA\, SLC RCC-1-Suite 100-Suite 100 Group Room (50)
CATEGORIES:Salt Lake Recovery Community Center
END:VEVENT
BEGIN:VEVENT
DTSTART;TZID=America/Denver:20250408T170000
DTEND;TZID=America/Denver:20250408T183000
DTSTAMP:20260424T020739
CREATED:20250309T034403Z
LAST-MODIFIED:20250408T092011Z
UID:10005812-1744131600-1744137000@dev.utahrecovers.org
SUMMARY:Community Ear Acudetox Clinic (In person)
DESCRIPTION:
URL:https://dev.utahrecovers.org/meeting/community-ear-acudetox-clinic-in-person-43/
LOCATION:Utah Support Advocates for Recovery Awareness – USARA\, 180 E 2100 S #100\, Salt Lake City\, UT 84115\, USA\, SLC RCC-2-Suite 205-Suite 205 Conference Room (18)
CATEGORIES:Salt Lake Recovery Community Center
END:VEVENT
BEGIN:VEVENT
DTSTART;TZID=America/Denver:20250408T170000
DTEND;TZID=America/Denver:20250408T183000
DTSTAMP:20260424T020739
CREATED:20250309T224152Z
LAST-MODIFIED:20250408T232012Z
UID:10005820-1744131600-1744137000@dev.utahrecovers.org
SUMMARY:Active Recovery (In Person)
DESCRIPTION:
URL:https://dev.utahrecovers.org/meeting/active-recovery-in-person-83/
LOCATION:Utah Support Advocates for Recovery Awareness – USARA – Moab\, 23 S 100 W\, Moab\, UT\, United States
CATEGORIES:Moab Recovery Community Center
GEO:38.57309;-109.552616
X-APPLE-STRUCTURED-LOCATION;VALUE=URI;X-ADDRESS=Utah Support Advocates for Recovery Awareness – USARA – Moab 23 S 100 W Moab UT United States;X-APPLE-RADIUS=500;X-TITLE=23 S 100 W:geo:-109.552616,38.57309
END:VEVENT
END:VCALENDAR