BEGIN:VCALENDAR
VERSION:2.0
PRODID:-//USARA - Utah Recovers - ECPv6.15.18//NONSGML v1.0//EN
CALSCALE:GREGORIAN
METHOD:PUBLISH
X-WR-CALNAME:USARA - Utah Recovers
X-ORIGINAL-URL:https://dev.utahrecovers.org
X-WR-CALDESC:Events for USARA - Utah Recovers
REFRESH-INTERVAL;VALUE=DURATION:PT1H
X-Robots-Tag:noindex
X-PUBLISHED-TTL:PT1H
BEGIN:VTIMEZONE
TZID:America/Denver
BEGIN:DAYLIGHT
TZOFFSETFROM:-0700
TZOFFSETTO:-0600
TZNAME:MDT
DTSTART:20240310T090000
END:DAYLIGHT
BEGIN:STANDARD
TZOFFSETFROM:-0600
TZOFFSETTO:-0700
TZNAME:MST
DTSTART:20241103T080000
END:STANDARD
BEGIN:DAYLIGHT
TZOFFSETFROM:-0700
TZOFFSETTO:-0600
TZNAME:MDT
DTSTART:20250309T090000
END:DAYLIGHT
BEGIN:STANDARD
TZOFFSETFROM:-0600
TZOFFSETTO:-0700
TZNAME:MST
DTSTART:20251102T080000
END:STANDARD
BEGIN:DAYLIGHT
TZOFFSETFROM:-0700
TZOFFSETTO:-0600
TZNAME:MDT
DTSTART:20260308T090000
END:DAYLIGHT
BEGIN:STANDARD
TZOFFSETFROM:-0600
TZOFFSETTO:-0700
TZNAME:MST
DTSTART:20261101T080000
END:STANDARD
END:VTIMEZONE
BEGIN:VEVENT
DTSTART;TZID=America/Denver:20250327T173000
DTEND;TZID=America/Denver:20250327T183000
DTSTAMP:20260424T033907
CREATED:20250225T015439Z
LAST-MODIFIED:20250327T064110Z
UID:10005662-1743096600-1743100200@dev.utahrecovers.org
SUMMARY:Psychedelics in Recovery (Hybrid - join virtually or in person!)
DESCRIPTION:https://us06web.zoom.us/j/86332491277?pwd=53DYFwemMM16J1zhZSYaRi8qMlbFHH.1 \nMeeting ID: 863 3249 1277Passcode: 144990
URL:https://dev.utahrecovers.org/meeting/psychedelics-in-recovery-hybrid-join-virtually-or-in-person-25/
LOCATION:Utah Support Advocates for Recovery Awareness – USARA\, 180 E 2100 S #100\, Salt Lake City\, UT 84115\, USA\, SLC RCC-1-Suite 100-Suite 100 Group Room (50)
CATEGORIES:Salt Lake Recovery Community Center
END:VEVENT
BEGIN:VEVENT
DTSTART;TZID=America/Denver:20250327T173000
DTEND;TZID=America/Denver:20250327T183000
DTSTAMP:20260424T033907
CREATED:20250225T022240Z
LAST-MODIFIED:20250327T082011Z
UID:10005668-1743096600-1743100200@dev.utahrecovers.org
SUMMARY:Psychedelics in Recovery (Hybrid - join virtually or in person!)
DESCRIPTION:https://us06web.zoom.us/j/86332491277?pwd=53DYFwemMM16J1zhZSYaRi8qMlbFHH.1 \nMeeting ID: 863 3249 1277Passcode: 144990
URL:https://dev.utahrecovers.org/meeting/psychedelics-in-recovery-hybrid-join-virtually-or-in-person-26/
LOCATION:Utah Support Advocates for Recovery Awareness – USARA\, 180 E 2100 S\, Salt Lake City\, UT\, United States
CATEGORIES:Virtual Meetings
GEO:40.725365;-111.885934
X-APPLE-STRUCTURED-LOCATION;VALUE=URI;X-ADDRESS=Utah Support Advocates for Recovery Awareness – USARA 180 E 2100 S Salt Lake City UT United States;X-APPLE-RADIUS=500;X-TITLE=180 E 2100 S:geo:-111.885934,40.725365
END:VEVENT
BEGIN:VEVENT
DTSTART;TZID=America/Denver:20250327T180000
DTEND;TZID=America/Denver:20250327T190000
DTSTAMP:20260424T033907
CREATED:20250226T015446Z
LAST-MODIFIED:20250327T064110Z
UID:10005679-1743098400-1743102000@dev.utahrecovers.org
SUMMARY:Treatment Court Alumni Group (In person)
DESCRIPTION:
URL:https://dev.utahrecovers.org/meeting/treatment-court-alumni-group-in-person-16/
LOCATION:Utah Support Advocates for Recovery Awareness – USARA\, 180 E 2100 S #100\, Salt Lake City\, UT 84115\, USA\, SLC RCC-2-Suite 203-Suite 203 Group Room (40)
CATEGORIES:Salt Lake Recovery Community Center
END:VEVENT
BEGIN:VEVENT
DTSTART;TZID=America/Denver:20250327T180000
DTEND;TZID=America/Denver:20250327T190000
DTSTAMP:20260424T033907
CREATED:20250226T024347Z
LAST-MODIFIED:20250327T082011Z
UID:10005682-1743098400-1743102000@dev.utahrecovers.org
SUMMARY:SMART Recovery (Virtual)
DESCRIPTION:For more information\, visit: https://meetings.smartrecovery.org/meetings/7920/
URL:https://dev.utahrecovers.org/meeting/smart-recovery-virtual-7/
LOCATION:https://smartrecovery.zoom.us/j/96174767538
CATEGORIES:Virtual Meetings
END:VEVENT
BEGIN:VEVENT
DTSTART;TZID=America/Denver:20250327T180000
DTEND;TZID=America/Denver:20250327T190000
DTSTAMP:20260424T033907
CREATED:20250226T154243Z
LAST-MODIFIED:20250327T184109Z
UID:10005688-1743098400-1743102000@dev.utahrecovers.org
SUMMARY:AA Tolerance Group (In person)
DESCRIPTION:Closed 12 step AA meeting (must identify as an Alcoholic to attend)
URL:https://dev.utahrecovers.org/meeting/aa-tolerance-group-in-person-43/
LOCATION:Utah Support Advocates for Recovery Awareness – USARA – St. George\, 113 E 200 N\, Saint George\, UT\, United States
CATEGORIES:St George Recovery Community Center
GEO:37.111634;-113.581023
X-APPLE-STRUCTURED-LOCATION;VALUE=URI;X-ADDRESS=Utah Support Advocates for Recovery Awareness – USARA – St. George 113 E 200 N Saint George UT United States;X-APPLE-RADIUS=500;X-TITLE=113 E 200 N:geo:-113.581023,37.111634
END:VEVENT
BEGIN:VEVENT
DTSTART;TZID=America/Denver:20250327T180000
DTEND;TZID=America/Denver:20250327T190000
DTSTAMP:20260424T033907
CREATED:20250313T214112Z
LAST-MODIFIED:20250327T222010Z
UID:10005899-1743098400-1743102000@dev.utahrecovers.org
SUMMARY:LGBTQ Support Group
DESCRIPTION:
URL:https://dev.utahrecovers.org/meeting/lgbtq-support-group-2/
CATEGORIES:Provo Recovery Community Center
END:VEVENT
BEGIN:VEVENT
DTSTART;TZID=America/Denver:20250327T180000
DTEND;TZID=America/Denver:20250327T193000
DTSTAMP:20260424T033907
CREATED:20250225T082102Z
LAST-MODIFIED:20250327T095209Z
UID:10005669-1743098400-1743103800@dev.utahrecovers.org
SUMMARY:CRAFT Family Support (In person)
DESCRIPTION:Contact:Patrick Cox patrick.cox@myusara.com801-745-5578
URL:https://dev.utahrecovers.org/meeting/craft-family-support-in-person-88/
LOCATION:Utah Support Advocates for Recovery Awareness – USARA – Ogden\, 893 24th St\, Ogden\, UT\, United States
CATEGORIES:Ogden Recovery Community Center
GEO:41.222498;-111.956726
X-APPLE-STRUCTURED-LOCATION;VALUE=URI;X-ADDRESS=Utah Support Advocates for Recovery Awareness – USARA – Ogden 893 24th St Ogden UT United States;X-APPLE-RADIUS=500;X-TITLE=893 24th St:geo:-111.956726,41.222498
END:VEVENT
BEGIN:VEVENT
DTSTART;TZID=America/Denver:20250327T180000
DTEND;TZID=America/Denver:20250327T193000
DTSTAMP:20260424T033907
CREATED:20250226T024347Z
LAST-MODIFIED:20250327T082012Z
UID:10005683-1743098400-1743103800@dev.utahrecovers.org
SUMMARY:CRAFT Family Support Group (Virtual)
DESCRIPTION:
URL:https://dev.utahrecovers.org/meeting/craft-family-support-group-virtual-121/
LOCATION:https://us02web.zoom.us/j/86950545911?pwd=OFZGMlFiTWVkcHp2Yi8yQmVmSWhyUT09
CATEGORIES:Virtual Meetings
END:VEVENT
BEGIN:VEVENT
DTSTART;TZID=America/Denver:20250327T183000
DTEND;TZID=America/Denver:20250327T193000
DTSTAMP:20260424T033907
CREATED:20250226T015446Z
LAST-MODIFIED:20250327T064111Z
UID:10005680-1743100200-1743103800@dev.utahrecovers.org
SUMMARY:AA Solution Group (In person)
DESCRIPTION:Contacts \n\nAbbey P\n\ncell: (435) 659-0826\nemail: abbeyroadnelson@gmail.com\n\n\nJason\n\nemail: pritchardjasonr@gmail.com
URL:https://dev.utahrecovers.org/meeting/aa-solution-group-in-person-43/
LOCATION:Utah Support Advocates for Recovery Awareness – USARA\, 180 E 2100 S #100\, Salt Lake City\, UT 84115\, USA\, SLC RCC-1-Suite 100-Suite 100 Group Room (50)
CATEGORIES:Salt Lake Recovery Community Center
END:VEVENT
BEGIN:VEVENT
DTSTART;TZID=America/Denver:20250327T183000
DTEND;TZID=America/Denver:20250327T193000
DTSTAMP:20260424T033907
CREATED:20250226T154243Z
LAST-MODIFIED:20250327T184109Z
UID:10005689-1743100200-1743103800@dev.utahrecovers.org
SUMMARY:Double Winners Men's Meeting (In person
DESCRIPTION:
URL:https://dev.utahrecovers.org/meeting/double-winners-mens-meeting-in-person-43/
LOCATION:Utah Support Advocates for Recovery Awareness – USARA – St. George\, 113 E 200 N\, Saint George\, UT\, United States
CATEGORIES:St George Recovery Community Center
GEO:37.111634;-113.581023
X-APPLE-STRUCTURED-LOCATION;VALUE=URI;X-ADDRESS=Utah Support Advocates for Recovery Awareness – USARA – St. George 113 E 200 N Saint George UT United States;X-APPLE-RADIUS=500;X-TITLE=113 E 200 N:geo:-113.581023,37.111634
END:VEVENT
BEGIN:VEVENT
DTSTART;TZID=America/Denver:20250327T190000
DTEND;TZID=America/Denver:20250327T200000
DTSTAMP:20260424T033907
CREATED:20250226T015445Z
LAST-MODIFIED:20250327T064110Z
UID:10005678-1743102000-1743105600@dev.utahrecovers.org
SUMMARY:Sexaholics Anonymous (In person)
DESCRIPTION:Contacts \n\nJerred\n\njerredburton@gmail.com
URL:https://dev.utahrecovers.org/meeting/sexaholics-anonymous-in-person-43/
LOCATION:Utah Support Advocates for Recovery Awareness – USARA\, 180 E 2100 S #100\, Salt Lake City\, UT 84115\, USA\, SLC RCC-2-Suite 203-Suite 203 Group Room (40)
CATEGORIES:Salt Lake Recovery Community Center
END:VEVENT
BEGIN:VEVENT
DTSTART;TZID=America/Denver:20250327T190000
DTEND;TZID=America/Denver:20250327T200000
DTSTAMP:20260424T033907
CREATED:20250226T082109Z
LAST-MODIFIED:20250327T095209Z
UID:10005686-1743102000-1743105600@dev.utahrecovers.org
SUMMARY:Sex Addicts Anonymous (In person)
DESCRIPTION:
URL:https://dev.utahrecovers.org/meeting/sex-addicts-anonymous-in-person-43/
LOCATION:Utah Support Advocates for Recovery Awareness – USARA – Ogden\, 893 24th St\, Ogden\, UT\, United States
CATEGORIES:Ogden Recovery Community Center
GEO:41.222498;-111.956726
X-APPLE-STRUCTURED-LOCATION;VALUE=URI;X-ADDRESS=Utah Support Advocates for Recovery Awareness – USARA – Ogden 893 24th St Ogden UT United States;X-APPLE-RADIUS=500;X-TITLE=893 24th St:geo:-111.956726,41.222498
END:VEVENT
BEGIN:VEVENT
DTSTART;TZID=America/Denver:20250328T073000
DTEND;TZID=America/Denver:20250328T090000
DTSTAMP:20260424T033907
CREATED:20250226T224150Z
LAST-MODIFIED:20250327T232013Z
UID:10005690-1743147000-1743152400@dev.utahrecovers.org
SUMMARY:Active Recovery (In person)
DESCRIPTION:
URL:https://dev.utahrecovers.org/meeting/active-recovery-in-person-80/
LOCATION:Utah Support Advocates for Recovery Awareness – USARA – Moab\, 23 S 100 W\, Moab\, UT\, United States
CATEGORIES:Moab Recovery Community Center
GEO:38.57309;-109.552616
X-APPLE-STRUCTURED-LOCATION;VALUE=URI;X-ADDRESS=Utah Support Advocates for Recovery Awareness – USARA – Moab 23 S 100 W Moab UT United States;X-APPLE-RADIUS=500;X-TITLE=23 S 100 W:geo:-109.552616,38.57309
END:VEVENT
BEGIN:VEVENT
DTSTART;TZID=America/Denver:20250328T100000
DTEND;TZID=America/Denver:20250328T110000
DTSTAMP:20260424T033907
CREATED:20250226T082109Z
LAST-MODIFIED:20250328T095210Z
UID:10005687-1743156000-1743159600@dev.utahrecovers.org
SUMMARY:SMART Recovery (In person)
DESCRIPTION:Self Management and Recovery Training \nContact USARA at (385) 263-1600
URL:https://dev.utahrecovers.org/meeting/smart-recovery-in-person-43/
LOCATION:Utah Support Advocates for Recovery Awareness – USARA – Ogden\, 893 24th St\, Ogden\, UT\, United States
CATEGORIES:Ogden Recovery Community Center
GEO:41.222498;-111.956726
X-APPLE-STRUCTURED-LOCATION;VALUE=URI;X-ADDRESS=Utah Support Advocates for Recovery Awareness – USARA – Ogden 893 24th St Ogden UT United States;X-APPLE-RADIUS=500;X-TITLE=893 24th St:geo:-111.956726,41.222498
END:VEVENT
BEGIN:VEVENT
DTSTART;TZID=America/Denver:20250328T100000
DTEND;TZID=America/Denver:20250328T110000
DTSTAMP:20260424T033907
CREATED:20250226T224151Z
LAST-MODIFIED:20250327T232013Z
UID:10005692-1743156000-1743159600@dev.utahrecovers.org
SUMMARY:Yoga (In person)
DESCRIPTION:
URL:https://dev.utahrecovers.org/meeting/yoga-in-person-43/
LOCATION:Utah Support Advocates for Recovery Awareness – USARA – Moab\, 23 S 100 W\, Moab\, UT\, United States
CATEGORIES:Moab Recovery Community Center
GEO:38.57309;-109.552616
X-APPLE-STRUCTURED-LOCATION;VALUE=URI;X-ADDRESS=Utah Support Advocates for Recovery Awareness – USARA – Moab 23 S 100 W Moab UT United States;X-APPLE-RADIUS=500;X-TITLE=23 S 100 W:geo:-109.552616,38.57309
END:VEVENT
BEGIN:VEVENT
DTSTART;TZID=America/Denver:20250328T110000
DTEND;TZID=America/Denver:20250328T120000
DTSTAMP:20260424T033907
CREATED:20250226T024347Z
LAST-MODIFIED:20250328T084110Z
UID:10005685-1743159600-1743163200@dev.utahrecovers.org
SUMMARY:Coffee & Recovery (Hybrid - join virtually or in person!)
DESCRIPTION:Join with Google Meet: https://meet.google.com/hrb-awdg-zmdOr dial: (US) +1 508-506-1551 PIN: 141472344#More phone numbers: https://tel.meet/hrb-awdg-zmd?pin=1300156360240&hs=7 \nLearn more about Meet at: https://support.google.com/a/users/answer/9282720
URL:https://dev.utahrecovers.org/meeting/coffee-recovery-hybrid-join-virtually-or-in-person-303/
LOCATION:Utah Support Advocates for Recovery Awareness – USARA – Moab\, 23 S 100 W\, Moab\, UT\, United States
CATEGORIES:Virtual Meetings
GEO:38.57309;-109.552616
X-APPLE-STRUCTURED-LOCATION;VALUE=URI;X-ADDRESS=Utah Support Advocates for Recovery Awareness – USARA – Moab 23 S 100 W Moab UT United States;X-APPLE-RADIUS=500;X-TITLE=23 S 100 W:geo:-109.552616,38.57309
END:VEVENT
BEGIN:VEVENT
DTSTART;TZID=America/Denver:20250328T110000
DTEND;TZID=America/Denver:20250328T120000
DTSTAMP:20260424T033907
CREATED:20250226T224150Z
LAST-MODIFIED:20250327T232013Z
UID:10005691-1743159600-1743163200@dev.utahrecovers.org
SUMMARY:Coffee & Recovery (Hybrid - join online or in person!)
DESCRIPTION:Join with Google Meet: https://meet.google.com/hrb-awdg-zmdOr dial: (US) +1 508-506-1551 PIN: 141472344#More phone numbers: https://tel.meet/hrb-awdg-zmd?pin=1300156360240&hs=7 \nLearn more about Meet at: https://support.google.com/a/users/answer/9282720
URL:https://dev.utahrecovers.org/meeting/coffee-recovery-hybrid-join-online-or-in-person-87/
LOCATION:Utah Support Advocates for Recovery Awareness – USARA – Moab\, 23 S 100 W\, Moab\, UT 84532\, USA\, Moab RCC-1-Group Room (20)
CATEGORIES:Moab Recovery Community Center
END:VEVENT
BEGIN:VEVENT
DTSTART;TZID=America/Denver:20250328T120000
DTEND;TZID=America/Denver:20250328T130000
DTSTAMP:20260424T033907
CREATED:20250226T015446Z
LAST-MODIFIED:20250328T064110Z
UID:10005681-1743163200-1743166800@dev.utahrecovers.org
SUMMARY:Recovery Dharma (Hybrid - join virtually or in person!)
DESCRIPTION:https://us02web.zoom.us/j/2361179850?pwd=NXhUUDNsUUpWYTNxdkhIOUcwNEhSUT09 \nContacts \n\nSteve Slater\n\nemail: slater.stevej@gmail.com
URL:https://dev.utahrecovers.org/meeting/recovery-dharma-hybrid-join-virtually-or-in-person-296/
LOCATION:Utah Support Advocates for Recovery Awareness – USARA\, 180 E 2100 S #100\, Salt Lake City\, UT 84115\, USA\, SLC RCC-1-Suite 100-Suite 100 Group Room (50)
CATEGORIES:Salt Lake Recovery Community Center
END:VEVENT
BEGIN:VEVENT
DTSTART;TZID=America/Denver:20250328T120000
DTEND;TZID=America/Denver:20250328T130000
DTSTAMP:20260424T033907
CREATED:20250226T024347Z
LAST-MODIFIED:20250328T084110Z
UID:10005684-1743163200-1743166800@dev.utahrecovers.org
SUMMARY:Recovery Dharma (Hybrid - join virtually or in person!)
DESCRIPTION:https://us02web.zoom.us/j/2361179850?pwd=NXhUUDNsUUpWYTNxdkhIOUcwNEhSUT09 \nContacts \n\nSteve\n\nemail: slater.stevej@gmail.com
URL:https://dev.utahrecovers.org/meeting/recovery-dharma-hybrid-join-virtually-or-in-person-297/
LOCATION:Utah Support Advocates for Recovery Awareness – USARA\, 180 E 2100 S\, Salt Lake City\, UT\, United States
CATEGORIES:Virtual Meetings
GEO:40.725365;-111.885934
X-APPLE-STRUCTURED-LOCATION;VALUE=URI;X-ADDRESS=Utah Support Advocates for Recovery Awareness – USARA 180 E 2100 S Salt Lake City UT United States;X-APPLE-RADIUS=500;X-TITLE=180 E 2100 S:geo:-111.885934,40.725365
END:VEVENT
BEGIN:VEVENT
DTSTART;TZID=America/Denver:20250328T180000
DTEND;TZID=America/Denver:20250328T190000
DTSTAMP:20260424T033907
CREATED:20250227T154235Z
LAST-MODIFIED:20250328T185209Z
UID:10005700-1743184800-1743188400@dev.utahrecovers.org
SUMMARY:Recovery Dharma (In person)
DESCRIPTION:A mindfulness-based addiction recovery community that practices and utilizes Buddhist philosophy as the foundation of the recovery process. \nContact \n\nJustin Ward\n\nphone: (801) 389-2715
URL:https://dev.utahrecovers.org/meeting/recovery-dharma-in-person-129/
LOCATION:Utah Support Advocates for Recovery Awareness – USARA – St. George\, 113 E 200 N\, Saint George\, UT\, United States
CATEGORIES:St George Recovery Community Center
GEO:37.111634;-113.581023
X-APPLE-STRUCTURED-LOCATION;VALUE=URI;X-ADDRESS=Utah Support Advocates for Recovery Awareness – USARA – St. George 113 E 200 N Saint George UT United States;X-APPLE-RADIUS=500;X-TITLE=113 E 200 N:geo:-113.581023,37.111634
END:VEVENT
BEGIN:VEVENT
DTSTART;TZID=America/Denver:20250328T190000
DTEND;TZID=America/Denver:20250328T200000
DTSTAMP:20260424T033907
CREATED:20250227T015450Z
LAST-MODIFIED:20250328T064110Z
UID:10005693-1743188400-1743192000@dev.utahrecovers.org
SUMMARY:Young People in Recovery (In person)
DESCRIPTION:
URL:https://dev.utahrecovers.org/meeting/young-people-in-recovery-in-person-28/
LOCATION:SLC RCC-2-Suite 203-Suite 203 Group Room (40)
CATEGORIES:Salt Lake Recovery Community Center
END:VEVENT
BEGIN:VEVENT
DTSTART;TZID=America/Denver:20250328T190000
DTEND;TZID=America/Denver:20250328T200000
DTSTAMP:20260424T033907
CREATED:20250227T082112Z
LAST-MODIFIED:20250328T095210Z
UID:10005699-1743188400-1743192000@dev.utahrecovers.org
SUMMARY:Cocaine Anonymous Friday Night Few (In person)
DESCRIPTION:
URL:https://dev.utahrecovers.org/meeting/cocaine-anonymous-friday-night-few-in-person-43/
LOCATION:Utah Support Advocates for Recovery Awareness – USARA – Ogden\, 893 24th St\, Ogden\, UT\, United States
CATEGORIES:Ogden Recovery Community Center
GEO:41.222498;-111.956726
X-APPLE-STRUCTURED-LOCATION;VALUE=URI;X-ADDRESS=Utah Support Advocates for Recovery Awareness – USARA – Ogden 893 24th St Ogden UT United States;X-APPLE-RADIUS=500;X-TITLE=893 24th St:geo:-111.956726,41.222498
END:VEVENT
BEGIN:VEVENT
DTSTART;TZID=America/Denver:20250328T200000
DTEND;TZID=America/Denver:20250328T210000
DTSTAMP:20260424T033907
CREATED:20250227T015450Z
LAST-MODIFIED:20250328T064110Z
UID:10005694-1743192000-1743195600@dev.utahrecovers.org
SUMMARY:Leather\, Fetish\, and Kink in Recovery CMA (In person)
DESCRIPTION:Contacts \n\nJames Jordan Greenwell\n\ncell: (435) 901-7678\nemail: greenwelljordan@gmail.com
URL:https://dev.utahrecovers.org/meeting/leather-fetish-and-kink-in-recovery-cma-in-person-43/
LOCATION:Utah Support Advocates for Recovery Awareness – USARA\, 180 E 2100 S #100\, Salt Lake City\, UT 84115\, USA\, SLC RCC-2-Suite 203-Suite 203 Group Room (40)
CATEGORIES:Salt Lake Recovery Community Center
END:VEVENT
BEGIN:VEVENT
DTSTART;TZID=America/Denver:20250329T080000
DTEND;TZID=America/Denver:20250329T090000
DTSTAMP:20260424T033907
CREATED:20250227T154235Z
LAST-MODIFIED:20250328T185209Z
UID:10005701-1743235200-1743238800@dev.utahrecovers.org
SUMMARY:Al-Anon (In person)
DESCRIPTION:
URL:https://dev.utahrecovers.org/meeting/al-anon-in-person-44/
LOCATION:Utah Support Advocates for Recovery Awareness – USARA – St. George\, 113 E 200 N\, Saint George\, UT\, United States
CATEGORIES:St George Recovery Community Center
GEO:37.111634;-113.581023
X-APPLE-STRUCTURED-LOCATION;VALUE=URI;X-ADDRESS=Utah Support Advocates for Recovery Awareness – USARA – St. George 113 E 200 N Saint George UT United States;X-APPLE-RADIUS=500;X-TITLE=113 E 200 N:geo:-113.581023,37.111634
END:VEVENT
BEGIN:VEVENT
DTSTART;TZID=America/Denver:20250329T083000
DTEND;TZID=America/Denver:20250329T093000
DTSTAMP:20260424T033907
CREATED:20250227T015450Z
LAST-MODIFIED:20250329T064111Z
UID:10005695-1743237000-1743240600@dev.utahrecovers.org
SUMMARY:Sexaholics Anonymous (Hybrid - join online or in person!)
DESCRIPTION:https://us02web.zoom.us/j/86238197798?pwd=OTA2ZmY5YUVzcURMRllId3JyRVliZz09
URL:https://dev.utahrecovers.org/meeting/sexaholics-anonymous-hybrid-join-online-or-in-person-84/
LOCATION:Utah Support Advocates for Recovery Awareness – USARA\, 180 E 2100 S #100\, Salt Lake City\, UT 84115\, USA\, SLC RCC-2-Suite 203-Suite 203 Group Room (40)
CATEGORIES:Salt Lake Recovery Community Center
END:VEVENT
BEGIN:VEVENT
DTSTART;TZID=America/Denver:20250329T083000
DTEND;TZID=America/Denver:20250329T093000
DTSTAMP:20260424T033907
CREATED:20250227T025432Z
LAST-MODIFIED:20250329T085209Z
UID:10005697-1743237000-1743240600@dev.utahrecovers.org
SUMMARY:Sexaholics Anonymous (Hybrid - join online or in person!)
DESCRIPTION:https://us02web.zoom.us/j/86238197798?pwd=OTA2ZmY5YUVzcURMRllId3JyRVliZz09
URL:https://dev.utahrecovers.org/meeting/sexaholics-anonymous-hybrid-join-online-or-in-person-85/
LOCATION:Utah Support Advocates for Recovery Awareness – USARA\, 180 E 2100 S\, Salt Lake City\, UT\, United States
CATEGORIES:Virtual Meetings
GEO:40.725365;-111.885934
X-APPLE-STRUCTURED-LOCATION;VALUE=URI;X-ADDRESS=Utah Support Advocates for Recovery Awareness – USARA 180 E 2100 S Salt Lake City UT United States;X-APPLE-RADIUS=500;X-TITLE=180 E 2100 S:geo:-111.885934,40.725365
END:VEVENT
BEGIN:VEVENT
DTSTART;TZID=America/Denver:20250329T093000
DTEND;TZID=America/Denver:20250329T110000
DTSTAMP:20260424T033907
CREATED:20250227T015504Z
LAST-MODIFIED:20250329T064111Z
UID:10005696-1743240600-1743246000@dev.utahrecovers.org
SUMMARY:SMART Recovery (Hybrid - join virtually or in person)
DESCRIPTION:https://smartrecovery.zoom.us/j/932119283 \nContacts \n\nJamiel\n\nemail: jamielk101@gmail.com
URL:https://dev.utahrecovers.org/meeting/smart-recovery-hybrid-join-virtually-or-in-person-166/
LOCATION:Utah Support Advocates for Recovery Awareness – USARA\, 180 E 2100 S #100\, Salt Lake City\, UT 84115\, USA\, SLC RCC-1-Suite 100-Suite 100 Group Room (50)
CATEGORIES:Salt Lake Recovery Community Center
END:VEVENT
BEGIN:VEVENT
DTSTART;TZID=America/Denver:20250329T093000
DTEND;TZID=America/Denver:20250329T110000
DTSTAMP:20260424T033907
CREATED:20250227T025432Z
LAST-MODIFIED:20250329T085209Z
UID:10005698-1743240600-1743246000@dev.utahrecovers.org
SUMMARY:SMART Recovery (Hybrid - join virtually or in person)
DESCRIPTION:https://smartrecovery.zoom.us/j/932119283 \nContacts \n\nJamiel\n\nemail: jamielk101@gmail.com
URL:https://dev.utahrecovers.org/meeting/smart-recovery-hybrid-join-virtually-or-in-person-167/
LOCATION:Utah Support Advocates for Recovery Awareness – USARA\, 180 E 2100 S\, Salt Lake City\, UT\, United States
CATEGORIES:Virtual Meetings
GEO:40.725365;-111.885934
X-APPLE-STRUCTURED-LOCATION;VALUE=URI;X-ADDRESS=Utah Support Advocates for Recovery Awareness – USARA 180 E 2100 S Salt Lake City UT United States;X-APPLE-RADIUS=500;X-TITLE=180 E 2100 S:geo:-111.885934,40.725365
END:VEVENT
BEGIN:VEVENT
DTSTART;TZID=America/Denver:20250329T170000
DTEND;TZID=America/Denver:20250329T180000
DTSTAMP:20260424T033907
CREATED:20250318T054209Z
LAST-MODIFIED:20250329T064111Z
UID:10005955-1743267600-1743271200@dev.utahrecovers.org
SUMMARY:Recovery Dharma (Hybrid - join virtually or in person!)
DESCRIPTION:https://us02web.zoom.us/j/2361179850?pwd=NXhUUDNsUUpWYTNxdkhIOUcwNEhSUT09
URL:https://dev.utahrecovers.org/meeting/recovery-dharma-hybrid-join-virtually-or-in-person-317/
LOCATION:Utah Support Advocates for Recovery Awareness – USARA\, 180 E 2100 S #100\, Salt Lake City\, UT 84115\, USA\, SLC RCC-1-Suite 100-Suite 100 Group Room (50)
CATEGORIES:Salt Lake Recovery Community Center
END:VEVENT
BEGIN:VEVENT
DTSTART;TZID=America/Denver:20250329T183000
DTEND;TZID=America/Denver:20250329T193000
DTSTAMP:20260424T033907
CREATED:20250313T214112Z
LAST-MODIFIED:20250329T224109Z
UID:10005900-1743273000-1743276600@dev.utahrecovers.org
SUMMARY:Psychedelics in Recovery
DESCRIPTION:
URL:https://dev.utahrecovers.org/meeting/psychedelics-in-recovery-3/
CATEGORIES:Provo Recovery Community Center
END:VEVENT
END:VCALENDAR