BEGIN:VCALENDAR
VERSION:2.0
PRODID:-//USARA - Utah Recovers - ECPv6.15.18//NONSGML v1.0//EN
CALSCALE:GREGORIAN
METHOD:PUBLISH
X-ORIGINAL-URL:https://dev.utahrecovers.org
X-WR-CALDESC:Events for USARA - Utah Recovers
REFRESH-INTERVAL;VALUE=DURATION:PT1H
X-Robots-Tag:noindex
X-PUBLISHED-TTL:PT1H
BEGIN:VTIMEZONE
TZID:America/Denver
BEGIN:DAYLIGHT
TZOFFSETFROM:-0700
TZOFFSETTO:-0600
TZNAME:MDT
DTSTART:20240310T090000
END:DAYLIGHT
BEGIN:STANDARD
TZOFFSETFROM:-0600
TZOFFSETTO:-0700
TZNAME:MST
DTSTART:20241103T080000
END:STANDARD
BEGIN:DAYLIGHT
TZOFFSETFROM:-0700
TZOFFSETTO:-0600
TZNAME:MDT
DTSTART:20250309T090000
END:DAYLIGHT
BEGIN:STANDARD
TZOFFSETFROM:-0600
TZOFFSETTO:-0700
TZNAME:MST
DTSTART:20251102T080000
END:STANDARD
BEGIN:DAYLIGHT
TZOFFSETFROM:-0700
TZOFFSETTO:-0600
TZNAME:MDT
DTSTART:20260308T090000
END:DAYLIGHT
BEGIN:STANDARD
TZOFFSETFROM:-0600
TZOFFSETTO:-0700
TZNAME:MST
DTSTART:20261101T080000
END:STANDARD
END:VTIMEZONE
BEGIN:VEVENT
DTSTART;TZID=America/Denver:20250513T170000
DTEND;TZID=America/Denver:20250513T180000
DTSTAMP:20260424T090042
CREATED:20250413T094359Z
LAST-MODIFIED:20250416T102253Z
UID:10006336-1747155600-1747159200@dev.utahrecovers.org
SUMMARY:Veterans Support Group (In person)
DESCRIPTION:
URL:https://dev.utahrecovers.org/meeting/veterans-support-group-in-person-47/
LOCATION:Utah Support Advocates for Recovery Awareness – USARA\, 180 E 2100 S #100\, Salt Lake City\, UT 84115\, USA\, SLC RCC-1-Suite 100-Suite 100 Group Room (50)
CATEGORIES:Salt Lake Recovery Community Center
END:VEVENT
BEGIN:VEVENT
DTSTART;TZID=America/Denver:20250513T170000
DTEND;TZID=America/Denver:20250513T183000
DTSTAMP:20260424T090042
CREATED:20250413T094359Z
LAST-MODIFIED:20250416T102253Z
UID:10006337-1747155600-1747161000@dev.utahrecovers.org
SUMMARY:Community Ear Acudetox Clinic (In person)
DESCRIPTION:
URL:https://dev.utahrecovers.org/meeting/community-ear-acudetox-clinic-in-person-48/
LOCATION:Utah Support Advocates for Recovery Awareness – USARA\, 180 E 2100 S #100\, Salt Lake City\, UT 84115\, USA\, SLC RCC-2-Suite 205-Suite 205 Conference Room (18)
CATEGORIES:Salt Lake Recovery Community Center
END:VEVENT
BEGIN:VEVENT
DTSTART;TZID=America/Denver:20250513T170000
DTEND;TZID=America/Denver:20250513T183000
DTSTAMP:20260424T090042
CREATED:20250413T232057Z
LAST-MODIFIED:20250416T234149Z
UID:10006346-1747155600-1747161000@dev.utahrecovers.org
SUMMARY:Active Recovery (In Person)
DESCRIPTION:
URL:https://dev.utahrecovers.org/meeting/active-recovery-in-person-93/
LOCATION:Utah Support Advocates for Recovery Awareness – USARA – Moab\, 23 S 100 W\, Moab\, UT\, United States
CATEGORIES:Moab Recovery Community Center
GEO:38.57309;-109.552616
X-APPLE-STRUCTURED-LOCATION;VALUE=URI;X-ADDRESS=Utah Support Advocates for Recovery Awareness – USARA – Moab 23 S 100 W Moab UT United States;X-APPLE-RADIUS=500;X-TITLE=23 S 100 W:geo:-109.552616,38.57309
END:VEVENT
BEGIN:VEVENT
DTSTART;TZID=America/Denver:20250513T180000
DTEND;TZID=America/Denver:20250513T190000
DTSTAMP:20260424T090042
CREATED:20250414T024157Z
LAST-MODIFIED:20250417T024148Z
UID:10006347-1747159200-1747162800@dev.utahrecovers.org
SUMMARY:Step Sisters AA Meeting (In person)
DESCRIPTION:Women’s Group
URL:https://dev.utahrecovers.org/meeting/step-sisters-aa-meeting-in-person-50/
LOCATION:Utah Support Advocates for Recovery Awareness – USARA – Price\, 91 E Main St\, Price\, UT\, United States
CATEGORIES:Price Recovery Community Center
GEO:39.348812;-110.851077
X-APPLE-STRUCTURED-LOCATION;VALUE=URI;X-ADDRESS=Utah Support Advocates for Recovery Awareness – USARA – Price 91 E Main St Price UT United States;X-APPLE-RADIUS=500;X-TITLE=91 E Main St:geo:-110.851077,39.348812
END:VEVENT
BEGIN:VEVENT
DTSTART;TZID=America/Denver:20250513T180000
DTEND;TZID=America/Denver:20250513T190000
DTSTAMP:20260424T090042
CREATED:20250414T202122Z
LAST-MODIFIED:20250416T202117Z
UID:10006359-1747159200-1747162800@dev.utahrecovers.org
SUMMARY:Living the Steps NA (In person)
DESCRIPTION:
URL:https://dev.utahrecovers.org/meeting/living-the-steps-na-in-person-50/
LOCATION:Utah Support Advocates for Recovery Awareness – USARA – St. George\, 113 E 200 N\, Saint George\, UT\, United States
CATEGORIES:St George Recovery Community Center
GEO:37.111634;-113.581023
X-APPLE-STRUCTURED-LOCATION;VALUE=URI;X-ADDRESS=Utah Support Advocates for Recovery Awareness – USARA – St. George 113 E 200 N Saint George UT United States;X-APPLE-RADIUS=500;X-TITLE=113 E 200 N:geo:-113.581023,37.111634
END:VEVENT
BEGIN:VEVENT
DTSTART;TZID=America/Denver:20250513T180000
DTEND;TZID=America/Denver:20250513T193000
DTSTAMP:20260424T090042
CREATED:20250414T095503Z
LAST-MODIFIED:20250416T102253Z
UID:10006349-1747159200-1747164600@dev.utahrecovers.org
SUMMARY:Hopeful Changes Women's Group (In person)
DESCRIPTION:Contacts \n\nMeg Kisselburg\n\ncell: (801) 652-4840\nemail: megk19@gmail.com
URL:https://dev.utahrecovers.org/meeting/hopeful-changes-womens-group-in-person-48/
LOCATION:Utah Support Advocates for Recovery Awareness – USARA\, 180 E 2100 S #100\, Salt Lake City\, UT 84115\, USA\, SLC RCC-1-Suite 100-Suite 100 Group Room (50)
CATEGORIES:Salt Lake Recovery Community Center
END:VEVENT
BEGIN:VEVENT
DTSTART;TZID=America/Denver:20250513T180000
DTEND;TZID=America/Denver:20250513T193000
DTSTAMP:20260424T090042
CREATED:20250414T105435Z
LAST-MODIFIED:20250416T114323Z
UID:10006354-1747159200-1747164600@dev.utahrecovers.org
SUMMARY:CRAFT Family Support Group (Virtual)
DESCRIPTION:
URL:https://dev.utahrecovers.org/meeting/craft-family-support-group-virtual-140/
LOCATION:https://us02web.zoom.us/j/86950545911?pwd=OFZGMlFiTWVkcHp2Yi8yQmVmSWhyUT09
CATEGORIES:Virtual Meetings
END:VEVENT
BEGIN:VEVENT
DTSTART;TZID=America/Denver:20250513T183000
DTEND;TZID=America/Denver:20250513T193000
DTSTAMP:20260424T090042
CREATED:20250414T095516Z
LAST-MODIFIED:20250416T102253Z
UID:10006350-1747161000-1747164600@dev.utahrecovers.org
SUMMARY:27 Links Re-Entry Men’s Support Group (In person)
DESCRIPTION:
URL:https://dev.utahrecovers.org/meeting/27-links-re-entry-mens-support-group-in-person-6/
LOCATION:Utah Support Advocates for Recovery Awareness – USARA\, 180 E 2100 S #100\, Salt Lake City\, UT 84115\, USA\, SLC RCC-2-Suite 203-Suite 203 Group Room (40)
CATEGORIES:Salt Lake Recovery Community Center
END:VEVENT
BEGIN:VEVENT
DTSTART;TZID=America/Denver:20250513T183000
DTEND;TZID=America/Denver:20250513T193000
DTSTAMP:20260424T090042
CREATED:20250414T105310Z
LAST-MODIFIED:20250416T105252Z
UID:10006352-1747161000-1747164600@dev.utahrecovers.org
SUMMARY:Crystal Meth Anonymous (In person)
DESCRIPTION:
URL:https://dev.utahrecovers.org/meeting/crystal-meth-anonymous-in-person-50/
LOCATION:Utah Support Advocates for Recovery Awareness – USARA – Ogden\, 893 24th St\, Ogden\, UT\, United States
CATEGORIES:Ogden Recovery Community Center
GEO:41.222498;-111.956726
X-APPLE-STRUCTURED-LOCATION;VALUE=URI;X-ADDRESS=Utah Support Advocates for Recovery Awareness – USARA – Ogden 893 24th St Ogden UT United States;X-APPLE-RADIUS=500;X-TITLE=893 24th St:geo:-111.956726,41.222498
END:VEVENT
BEGIN:VEVENT
DTSTART;TZID=America/Denver:20250513T190000
DTEND;TZID=America/Denver:20250513T203000
DTSTAMP:20260424T090042
CREATED:20250414T232024Z
LAST-MODIFIED:20250416T234122Z
UID:10006361-1747162800-1747168200@dev.utahrecovers.org
SUMMARY:CRAFT Family Support (In person)
DESCRIPTION:
URL:https://dev.utahrecovers.org/meeting/craft-family-support-in-person-105/
LOCATION:184 W 400 N\, Provo\, UT 84601\, USA\, Provo RCC-1-Suite B Group Room (30)
CATEGORIES:Provo Recovery Community Center
END:VEVENT
BEGIN:VEVENT
DTSTART;TZID=America/Denver:20250514T063000
DTEND;TZID=America/Denver:20250514T073000
DTSTAMP:20260424T090042
CREATED:20250414T105435Z
LAST-MODIFIED:20250416T114337Z
UID:10006355-1747204200-1747207800@dev.utahrecovers.org
SUMMARY:MAT Recovery Support Group (Virtual)
DESCRIPTION:Contacts
URL:https://dev.utahrecovers.org/meeting/mat-recovery-support-group-virtual-50/
LOCATION:https://us02web.zoom.us/j/81392387071?pwd=VkVkQ21GUXB6NEpsbTNmT3c4cytVZz09
CATEGORIES:Virtual Meetings
END:VEVENT
BEGIN:VEVENT
DTSTART;TZID=America/Denver:20250514T093000
DTEND;TZID=America/Denver:20250514T103000
DTSTAMP:20260424T090042
CREATED:20250414T105310Z
LAST-MODIFIED:20250416T105252Z
UID:10006353-1747215000-1747218600@dev.utahrecovers.org
SUMMARY:Coffee & Recovery - Ogden (Hybrid - join virtually or in person!)
DESCRIPTION:Join Zoom Meetinghttps://us02web.zoom.us/j/84527707707?pwd=pnsLRCwODPuOrO4Q3UnBjhYj64BvD2.1 (ID: 84527707707\, passcode: 642553) \nJoin by phone(US) +1 564-217-2000 (passcode: 642553) \nJoining instructions: https://www.google.com/url?q=https://applications.zoom.us/addon/invitation/detail?meetingUuid%3D8hALuLkfSs6VDECA569gnw%253D%253D%26signature%3D7b5ca8bc518361ef1ef93b4945bc4e702133503300216e7889ecc5c342f75ba0%26v%3D1&sa=D&source=calendar&usg=AOvVaw1HemuJZ5yvZTZ721h85OAP \nMeeting host: patrick.cox@myusara.com \nJoin Zoom Meeting: https://us02web.zoom.us/j/84527707707?pwd=pnsLRCwODPuOrO4Q3UnBjhYj64BvD2.1
URL:https://dev.utahrecovers.org/meeting/coffee-recovery-ogden-hybrid-join-virtually-or-in-person-69/
CATEGORIES:Ogden Recovery Community Center
END:VEVENT
BEGIN:VEVENT
DTSTART;TZID=America/Denver:20250514T093000
DTEND;TZID=America/Denver:20250514T103000
DTSTAMP:20260424T090042
CREATED:20250414T105435Z
LAST-MODIFIED:20250416T114337Z
UID:10006356-1747215000-1747218600@dev.utahrecovers.org
SUMMARY:Empowerment Exchange Book club (Hybrid - join online or in person)
DESCRIPTION:Join with Google Meet: https://meet.google.com/gku-iniz-fggOr dial: (US) +1 252-656-5357 PIN: 235894205#More phone numbers: https://tel.meet/gku-iniz-fgg?pin=5721326304142&hs=7 \nLearn more about Meet at: https://support.google.com/a/users/answer/9282720
URL:https://dev.utahrecovers.org/meeting/empowerment-exchange-book-club-hybrid-join-online-or-in-person-42/
LOCATION:Utah Support Advocates for Recovery Awareness – USARA – Moab\, 23 S 100 W\, Moab\, UT\, United States
CATEGORIES:Virtual Meetings
GEO:38.57309;-109.552616
X-APPLE-STRUCTURED-LOCATION;VALUE=URI;X-ADDRESS=Utah Support Advocates for Recovery Awareness – USARA – Moab 23 S 100 W Moab UT United States;X-APPLE-RADIUS=500;X-TITLE=23 S 100 W:geo:-109.552616,38.57309
END:VEVENT
BEGIN:VEVENT
DTSTART;TZID=America/Denver:20250514T093000
DTEND;TZID=America/Denver:20250514T103000
DTSTAMP:20260424T090042
CREATED:20250414T105435Z
LAST-MODIFIED:20250416T114337Z
UID:10006357-1747215000-1747218600@dev.utahrecovers.org
SUMMARY:Coffee & Recovery - Ogden (Hybrid - join virtually or in person!)
DESCRIPTION:Join Zoom Meetinghttps://us02web.zoom.us/j/84527707707?pwd=pnsLRCwODPuOrO4Q3UnBjhYj64BvD2.1 (ID: 84527707707\, passcode: 642553) \nJoin by phone(US) +1 564-217-2000 (passcode: 642553) \nJoining instructions: https://www.google.com/url?q=https://applications.zoom.us/addon/invitation/detail?meetingUuid%3D8hALuLkfSs6VDECA569gnw%253D%253D%26signature%3D7b5ca8bc518361ef1ef93b4945bc4e702133503300216e7889ecc5c342f75ba0%26v%3D1&sa=D&source=calendar&usg=AOvVaw1HemuJZ5yvZTZ721h85OAP \nMeeting host: patrick.cox@myusara.com \nJoin Zoom Meeting: https://us02web.zoom.us/j/84527707707?pwd=pnsLRCwODPuOrO4Q3UnBjhYj64BvD2.1
URL:https://dev.utahrecovers.org/meeting/coffee-recovery-ogden-hybrid-join-virtually-or-in-person-70/
LOCATION:Utah Support Advocates for Recovery Awareness – USARA – Ogden\, 893 24th St\, Ogden\, UT\, United States
CATEGORIES:Virtual Meetings
GEO:41.222498;-111.956726
X-APPLE-STRUCTURED-LOCATION;VALUE=URI;X-ADDRESS=Utah Support Advocates for Recovery Awareness – USARA – Ogden 893 24th St Ogden UT United States;X-APPLE-RADIUS=500;X-TITLE=893 24th St:geo:-111.956726,41.222498
END:VEVENT
BEGIN:VEVENT
DTSTART;TZID=America/Denver:20250514T093000
DTEND;TZID=America/Denver:20250514T103000
DTSTAMP:20260424T090042
CREATED:20250414T232050Z
LAST-MODIFIED:20250416T234149Z
UID:10006363-1747215000-1747218600@dev.utahrecovers.org
SUMMARY:Empowerment Exchange Book club (Hybrid - join online or in person)
DESCRIPTION:Join with Google Meet: https://meet.google.com/gku-iniz-fggOr dial: (US) +1 252-656-5357 PIN: 235894205#More phone numbers: https://tel.meet/gku-iniz-fgg?pin=5721326304142&hs=7 \nLearn more about Meet at: https://support.google.com/a/users/answer/9282720
URL:https://dev.utahrecovers.org/meeting/empowerment-exchange-book-club-hybrid-join-online-or-in-person-43/
LOCATION:Utah Support Advocates for Recovery Awareness – USARA – Moab\, 23 S 100 W\, Moab\, UT 84532\, USA\, Moab RCC-1-Group Room (20)
CATEGORIES:Moab Recovery Community Center
END:VEVENT
BEGIN:VEVENT
DTSTART;TZID=America/Denver:20250514T120000
DTEND;TZID=America/Denver:20250514T130000
DTSTAMP:20260424T090042
CREATED:20250414T024157Z
LAST-MODIFIED:20250417T024148Z
UID:10006348-1747224000-1747227600@dev.utahrecovers.org
SUMMARY:Wellness Wednesday (In person)
DESCRIPTION:
URL:https://dev.utahrecovers.org/meeting/wellness-wednesday-in-person-48/
LOCATION:Utah Support Advocates for Recovery Awareness – USARA – Price\, 91 E Main St\, Price\, UT\, United States
CATEGORIES:Price Recovery Community Center
GEO:39.348812;-110.851077
X-APPLE-STRUCTURED-LOCATION;VALUE=URI;X-ADDRESS=Utah Support Advocates for Recovery Awareness – USARA – Price 91 E Main St Price UT United States;X-APPLE-RADIUS=500;X-TITLE=91 E Main St:geo:-110.851077,39.348812
END:VEVENT
BEGIN:VEVENT
DTSTART;TZID=America/Denver:20250514T120000
DTEND;TZID=America/Denver:20250514T130000
DTSTAMP:20260424T090042
CREATED:20250414T095516Z
LAST-MODIFIED:20250416T102253Z
UID:10006351-1747224000-1747227600@dev.utahrecovers.org
SUMMARY:Recovery Dharma (Hybrid - join virtually or in person!)
DESCRIPTION:https://us02web.zoom.us/j/2361179850?pwd=NXhUUDNsUUpWYTNxdkhIOUcwNEhSUT09 \nContacts \n\nSteve Slater\n\nemail: slater.stevej@gmail.com
URL:https://dev.utahrecovers.org/meeting/recovery-dharma-hybrid-join-virtually-or-in-person-350/
LOCATION:Utah Support Advocates for Recovery Awareness – USARA\, 180 E 2100 S #100\, Salt Lake City\, UT 84115\, USA\, SLC RCC-1-Suite 100-Suite 100 Group Room (50)
CATEGORIES:Salt Lake Recovery Community Center
END:VEVENT
BEGIN:VEVENT
DTSTART;TZID=America/Denver:20250514T120000
DTEND;TZID=America/Denver:20250514T130000
DTSTAMP:20260424T090042
CREATED:20250414T105435Z
LAST-MODIFIED:20250416T114338Z
UID:10006358-1747224000-1747227600@dev.utahrecovers.org
SUMMARY:Recovery Dharma (Hybrid - join virtually or in person!)
DESCRIPTION:https://us02web.zoom.us/j/2361179850?pwd=NXhUUDNsUUpWYTNxdkhIOUcwNEhSUT09 \nContacts \n\nSteve\n\nemail: slater.stevej@gmail.com
URL:https://dev.utahrecovers.org/meeting/recovery-dharma-hybrid-join-virtually-or-in-person-351/
LOCATION:Utah Support Advocates for Recovery Awareness – USARA\, 180 E 2100 S\, Salt Lake City\, UT\, United States
CATEGORIES:Virtual Meetings
GEO:40.725365;-111.885934
X-APPLE-STRUCTURED-LOCATION;VALUE=URI;X-ADDRESS=Utah Support Advocates for Recovery Awareness – USARA 180 E 2100 S Salt Lake City UT United States;X-APPLE-RADIUS=500;X-TITLE=180 E 2100 S:geo:-111.885934,40.725365
END:VEVENT
BEGIN:VEVENT
DTSTART;TZID=America/Denver:20250514T120000
DTEND;TZID=America/Denver:20250514T130000
DTSTAMP:20260424T090042
CREATED:20250414T202134Z
LAST-MODIFIED:20250416T202117Z
UID:10006360-1747224000-1747227600@dev.utahrecovers.org
SUMMARY:AA Women's Meeting (In person)
DESCRIPTION:
URL:https://dev.utahrecovers.org/meeting/aa-womens-meeting-in-person-50/
LOCATION:Utah Support Advocates for Recovery Awareness – USARA – St. George\, 113 E 200 N\, Saint George\, UT\, United States
CATEGORIES:St George Recovery Community Center
GEO:37.111634;-113.581023
X-APPLE-STRUCTURED-LOCATION;VALUE=URI;X-ADDRESS=Utah Support Advocates for Recovery Awareness – USARA – St. George 113 E 200 N Saint George UT United States;X-APPLE-RADIUS=500;X-TITLE=113 E 200 N:geo:-113.581023,37.111634
END:VEVENT
BEGIN:VEVENT
DTSTART;TZID=America/Denver:20250514T120000
DTEND;TZID=America/Denver:20250514T130000
DTSTAMP:20260424T090042
CREATED:20250414T232024Z
LAST-MODIFIED:20250416T234122Z
UID:10006362-1747224000-1747227600@dev.utahrecovers.org
SUMMARY:Coffee and Recovery VIRTUAL
DESCRIPTION:Join with Google Meet: https://meet.google.com/gyf-tmsb-ikgOr dial: (US) +1 252-656-5154 PIN: 988388252#More phone numbers: https://tel.meet/gyf-tmsb-ikg?pin=7570382882570&hs=7 \nLearn more about Meet at: https://support.google.com/a/users/answer/9282720
URL:https://dev.utahrecovers.org/meeting/coffee-and-recovery-virtual-8/
CATEGORIES:Provo Recovery Community Center
END:VEVENT
BEGIN:VEVENT
DTSTART;TZID=America/Denver:20250514T171500
DTEND;TZID=America/Denver:20250514T181500
DTSTAMP:20260424T090042
CREATED:20250414T232050Z
LAST-MODIFIED:20250416T234149Z
UID:10006364-1747242900-1747246500@dev.utahrecovers.org
SUMMARY:Yoga (In person @ Wellness Collective)
DESCRIPTION:
URL:https://dev.utahrecovers.org/meeting/yoga-in-person-wellness-collective-50/
LOCATION:Wellness Collective\, 76 S 100 W\, Moab\, UT\, United States
CATEGORIES:Moab Recovery Community Center
GEO:38.572151;-109.552761
X-APPLE-STRUCTURED-LOCATION;VALUE=URI;X-ADDRESS=Wellness Collective 76 S 100 W Moab UT United States;X-APPLE-RADIUS=500;X-TITLE=76 S 100 W:geo:-109.552761,38.572151
END:VEVENT
BEGIN:VEVENT
DTSTART;TZID=America/Denver:20250514T180000
DTEND;TZID=America/Denver:20250514T193000
DTSTAMP:20260424T090042
CREATED:20250415T102255Z
LAST-MODIFIED:20250416T102308Z
UID:10006369-1747245600-1747251000@dev.utahrecovers.org
SUMMARY:CRAFT Family Support (In person)
DESCRIPTION:
URL:https://dev.utahrecovers.org/meeting/craft-family-support-in-person-106/
LOCATION:Utah Support Advocates for Recovery Awareness – USARA\, 180 E 2100 S #100\, Salt Lake City\, UT 84115\, USA\, SLC RCC-1-Suite 100-Suite 100 Group Room (50)
CATEGORIES:Salt Lake Recovery Community Center
END:VEVENT
BEGIN:VEVENT
DTSTART;TZID=America/Denver:20250514T180000
DTEND;TZID=America/Denver:20250514T193000
DTSTAMP:20260424T090042
CREATED:20250415T102255Z
LAST-MODIFIED:20250416T102308Z
UID:10006368-1747245600-1747251000@dev.utahrecovers.org
SUMMARY:SMART Recovery (Hybrid - join virtually or in person!)
DESCRIPTION:https://meet.google.com/eqj-itap-ibd \nContacts \n\nDeano\n\ncell: (801) 648-5442
URL:https://dev.utahrecovers.org/meeting/smart-recovery-hybrid-join-virtually-or-in-person-192/
LOCATION:Utah Support Advocates for Recovery Awareness – USARA\, 180 E 2100 S #100\, Salt Lake City\, UT 84115\, USA\, SLC RCC-2-Suite 203-Suite 203 Group Room (40)
CATEGORIES:Salt Lake Recovery Community Center
END:VEVENT
BEGIN:VEVENT
DTSTART;TZID=America/Denver:20250514T180000
DTEND;TZID=America/Denver:20250514T193000
DTSTAMP:20260424T090042
CREATED:20250415T105302Z
LAST-MODIFIED:20250416T105306Z
UID:10006374-1747245600-1747251000@dev.utahrecovers.org
SUMMARY:CRAFT Family Support (In person)
DESCRIPTION:Contact:Patrick Cox patrick.cox@myusara.com801-745-5578
URL:https://dev.utahrecovers.org/meeting/craft-family-support-in-person-107/
LOCATION:Utah Support Advocates for Recovery Awareness – USARA – Ogden\, 893 24th St\, Ogden\, UT\, United States
CATEGORIES:Ogden Recovery Community Center
GEO:41.222498;-111.956726
X-APPLE-STRUCTURED-LOCATION;VALUE=URI;X-ADDRESS=Utah Support Advocates for Recovery Awareness – USARA – Ogden 893 24th St Ogden UT United States;X-APPLE-RADIUS=500;X-TITLE=893 24th St:geo:-111.956726,41.222498
END:VEVENT
BEGIN:VEVENT
DTSTART;TZID=America/Denver:20250514T180000
DTEND;TZID=America/Denver:20250514T193000
DTSTAMP:20260424T090042
CREATED:20250415T112231Z
LAST-MODIFIED:20250416T114338Z
UID:10006377-1747245600-1747251000@dev.utahrecovers.org
SUMMARY:CRAFT un grupo de apoyo familiar en Espanol by LBHS (Hybrid - en persona o virtual!)
DESCRIPTION:
URL:https://dev.utahrecovers.org/meeting/craft-un-grupo-de-apoyo-familiar-en-espanol-by-lbhs-hybrid-en-persona-o-virtual-47/
LOCATION:https://us02web.zoom.us/j/84574681665
CATEGORIES:Virtual Meetings
END:VEVENT
BEGIN:VEVENT
DTSTART;TZID=America/Denver:20250514T180000
DTEND;TZID=America/Denver:20250514T193000
DTSTAMP:20260424T090042
CREATED:20250415T112232Z
LAST-MODIFIED:20250416T114338Z
UID:10006378-1747245600-1747251000@dev.utahrecovers.org
SUMMARY:CRAFT Family Support Group (Virtual)
DESCRIPTION:
URL:https://dev.utahrecovers.org/meeting/craft-family-support-group-virtual-141/
LOCATION:https://us02web.zoom.us/j/86950545911?pwd=OFZGMlFiTWVkcHp2Yi8yQmVmSWhyUT09
CATEGORIES:Virtual Meetings
END:VEVENT
BEGIN:VEVENT
DTSTART;TZID=America/Denver:20250514T180000
DTEND;TZID=America/Denver:20250514T193000
DTSTAMP:20260424T090042
CREATED:20250415T112232Z
LAST-MODIFIED:20250416T114338Z
UID:10006379-1747245600-1747251000@dev.utahrecovers.org
SUMMARY:SMART Recovery (Hybrid - join virtually or in person!)
DESCRIPTION:https://meet.google.com/eqj-itap-ibd \nContacts \n\nDeano\n\ncell: (801) 648-5442
URL:https://dev.utahrecovers.org/meeting/smart-recovery-hybrid-join-virtually-or-in-person-193/
LOCATION:Utah Support Advocates for Recovery Awareness – USARA\, 180 E 2100 S\, Salt Lake City\, UT\, United States
CATEGORIES:Virtual Meetings
GEO:40.725365;-111.885934
X-APPLE-STRUCTURED-LOCATION;VALUE=URI;X-ADDRESS=Utah Support Advocates for Recovery Awareness – USARA 180 E 2100 S Salt Lake City UT United States;X-APPLE-RADIUS=500;X-TITLE=180 E 2100 S:geo:-111.885934,40.725365
END:VEVENT
BEGIN:VEVENT
DTSTART;TZID=America/Denver:20250514T180000
DTEND;TZID=America/Denver:20250514T193000
DTSTAMP:20260424T090042
CREATED:20250415T202135Z
LAST-MODIFIED:20250416T202117Z
UID:10006385-1747245600-1747251000@dev.utahrecovers.org
SUMMARY:Emotional Well-Being Group (Spanish)
DESCRIPTION:IN-PERSONEmotional and mental health support group to recovery. This is a Spanish speaking meeting presented by Latino Behavioral Health.CONTACTLaticia (385) 400-4388
URL:https://dev.utahrecovers.org/meeting/emotional-well-being-group-spanish-15/
CATEGORIES:St George Recovery Community Center
END:VEVENT
BEGIN:VEVENT
DTSTART;TZID=America/Denver:20250514T193000
DTEND;TZID=America/Denver:20250514T210000
DTSTAMP:20260424T090042
CREATED:20250415T202119Z
LAST-MODIFIED:20250416T202117Z
UID:10006384-1747251000-1747256400@dev.utahrecovers.org
SUMMARY:Adult Children of Alcoholics & Dysfunctional Families (In person)
DESCRIPTION:12 step support meeting for individuals who grew up in alcoholic and/or dysfunctional families. \nContact \n\nRobert Hanson\n\nphone: (925) 286-4025
URL:https://dev.utahrecovers.org/meeting/adult-children-of-alcoholics-dysfunctional-families-in-person-49/
LOCATION:Utah Support Advocates for Recovery Awareness – USARA – St. George\, 113 E 200 N\, Saint George\, UT\, United States
CATEGORIES:St George Recovery Community Center
GEO:37.111634;-113.581023
X-APPLE-STRUCTURED-LOCATION;VALUE=URI;X-ADDRESS=Utah Support Advocates for Recovery Awareness – USARA – St. George 113 E 200 N Saint George UT United States;X-APPLE-RADIUS=500;X-TITLE=113 E 200 N:geo:-113.581023,37.111634
END:VEVENT
BEGIN:VEVENT
DTSTART;TZID=America/Denver:20250514T200000
DTEND;TZID=America/Denver:20250514T210000
DTSTAMP:20260424T090042
CREATED:20250415T102255Z
LAST-MODIFIED:20250416T102308Z
UID:10006371-1747252800-1747256400@dev.utahrecovers.org
SUMMARY:Addicts Fighting Back (In person)
DESCRIPTION:Contacts
URL:https://dev.utahrecovers.org/meeting/addicts-fighting-back-in-person-49/
LOCATION:Utah Support Advocates for Recovery Awareness – USARA\, 180 E 2100 S #100\, Salt Lake City\, UT 84115\, USA\, SLC RCC-1-Suite 100-Suite 100 Group Room (50)
CATEGORIES:Salt Lake Recovery Community Center
END:VEVENT
END:VCALENDAR