BEGIN:VCALENDAR
VERSION:2.0
PRODID:-//USARA - Utah Recovers - ECPv6.15.18//NONSGML v1.0//EN
CALSCALE:GREGORIAN
METHOD:PUBLISH
X-WR-CALNAME:USARA - Utah Recovers
X-ORIGINAL-URL:https://dev.utahrecovers.org
X-WR-CALDESC:Events for USARA - Utah Recovers
REFRESH-INTERVAL;VALUE=DURATION:PT1H
X-Robots-Tag:noindex
X-PUBLISHED-TTL:PT1H
BEGIN:VTIMEZONE
TZID:America/Denver
BEGIN:DAYLIGHT
TZOFFSETFROM:-0700
TZOFFSETTO:-0600
TZNAME:MDT
DTSTART:20250309T090000
END:DAYLIGHT
BEGIN:STANDARD
TZOFFSETFROM:-0600
TZOFFSETTO:-0700
TZNAME:MST
DTSTART:20251102T080000
END:STANDARD
BEGIN:DAYLIGHT
TZOFFSETFROM:-0700
TZOFFSETTO:-0600
TZNAME:MDT
DTSTART:20260308T090000
END:DAYLIGHT
BEGIN:STANDARD
TZOFFSETFROM:-0600
TZOFFSETTO:-0700
TZNAME:MST
DTSTART:20261101T080000
END:STANDARD
BEGIN:DAYLIGHT
TZOFFSETFROM:-0700
TZOFFSETTO:-0600
TZNAME:MDT
DTSTART:20270314T090000
END:DAYLIGHT
BEGIN:STANDARD
TZOFFSETFROM:-0600
TZOFFSETTO:-0700
TZNAME:MST
DTSTART:20271107T080000
END:STANDARD
END:VTIMEZONE
BEGIN:VEVENT
DTSTART;TZID=America/Denver:20260215T120000
DTEND;TZID=America/Denver:20260215T130000
DTSTAMP:20260423T165507
CREATED:20260119T185424Z
LAST-MODIFIED:20260119T185424Z
UID:10007031-1771156800-1771160400@dev.utahrecovers.org
SUMMARY:Recovery Dharma (Hybrid - join virtually or in person!)
DESCRIPTION:https://us02web.zoom.us/j/2361179850?pwd=NXhUUDNsUUpWYTNxdkhIOUcwNEhSUT09 \nContacts \n\nSteve Slater\n\nemail: slater.stevej@gmail.com
URL:https://dev.utahrecovers.org/meeting/recovery-dharma-hybrid-join-virtually-or-in-person-406/
LOCATION:Utah Support Advocates for Recovery Awareness – USARA\, 180 E 2100 S #100\, Salt Lake City\, UT 84115\, USA\, SLC RCC-1-Suite 100-Suite 100 Group Room (50)
CATEGORIES:Salt Lake Recovery Community Center
END:VEVENT
BEGIN:VEVENT
DTSTART;TZID=America/Denver:20260215T133000
DTEND;TZID=America/Denver:20260215T143000
DTSTAMP:20260423T165507
CREATED:20260119T185424Z
LAST-MODIFIED:20260119T185424Z
UID:10007032-1771162200-1771165800@dev.utahrecovers.org
SUMMARY:Clean\, Sober\, and Proud CMA - LGBTQ+ Focus (In person)
DESCRIPTION:Contacts \n\nBuzz T\n\ncell: (801) 664-5225\nemail: actalbotslc@gmail.com
URL:https://dev.utahrecovers.org/meeting/clean-sober-and-proud-cma-lgbtq-focus-in-person-58/
LOCATION:Utah Support Advocates for Recovery Awareness – USARA\, 180 E 2100 S #100\, Salt Lake City\, UT 84115\, USA\, SLC RCC-2-Suite 203-Suite 203 Group Room (40)
CATEGORIES:Salt Lake Recovery Community Center
END:VEVENT
BEGIN:VEVENT
DTSTART;TZID=America/Denver:20260215T160000
DTEND;TZID=America/Denver:20260215T170000
DTSTAMP:20260423T165507
CREATED:20260119T185424Z
LAST-MODIFIED:20260119T185424Z
UID:10007033-1771171200-1771174800@dev.utahrecovers.org
SUMMARY:CoDa for Addicts & Alcoholics (In person)
DESCRIPTION:
URL:https://dev.utahrecovers.org/meeting/coda-for-addicts-alcoholics-in-person-7/
LOCATION:Utah Support Advocates for Recovery Awareness – USARA\, 180 E 2100 S #100\, Salt Lake City\, UT 84115\, USA\, SLC RCC-1-Suite 100-Suite 100 Group Room (50)
CATEGORIES:Salt Lake Recovery Community Center
END:VEVENT
BEGIN:VEVENT
DTSTART;TZID=America/Denver:20260215T180000
DTEND;TZID=America/Denver:20260215T190000
DTSTAMP:20260423T165507
CREATED:20260119T185424Z
LAST-MODIFIED:20260119T185424Z
UID:10007034-1771178400-1771182000@dev.utahrecovers.org
SUMMARY:Sexaholics Anonymous (Hybrid - join virtually or in person!)
DESCRIPTION:https://zoom.us/j/608422086?pwd=Y1VmV2xsSWc4QVpaR3FHZDNOZnJsZz09
URL:https://dev.utahrecovers.org/meeting/sexaholics-anonymous-hybrid-join-virtually-or-in-person-76/
LOCATION:Utah Support Advocates for Recovery Awareness – USARA\, 180 E 2100 S #100\, Salt Lake City\, UT 84115\, USA\, SLC RCC-2-Suite 203-Suite 203 Group Room (40)
CATEGORIES:Salt Lake Recovery Community Center
END:VEVENT
BEGIN:VEVENT
DTSTART;TZID=America/Denver:20260216T170000
DTEND;TZID=America/Denver:20260216T180000
DTSTAMP:20260423T165507
CREATED:20260119T185425Z
LAST-MODIFIED:20260119T185425Z
UID:10007035-1771261200-1771264800@dev.utahrecovers.org
SUMMARY:Hopeful Changes Women's Book Study (In person)
DESCRIPTION:Currently reading: A Woman’s Way Through the Twelve Steps by Stephanie S Covington
URL:https://dev.utahrecovers.org/meeting/hopeful-changes-womens-book-study-in-person-17/
LOCATION:Utah Support Advocates for Recovery Awareness – USARA\, 180 E 2100 S #100\, Salt Lake City\, UT 84115\, USA\, SLC RCC-1-Suite 100-Suite 100 Group Room (50)
CATEGORIES:Salt Lake Recovery Community Center
END:VEVENT
BEGIN:VEVENT
DTSTART;TZID=America/Denver:20260216T174500
DTEND;TZID=America/Denver:20260216T184500
DTSTAMP:20260423T165507
CREATED:20260119T185425Z
LAST-MODIFIED:20260119T185425Z
UID:10007037-1771263900-1771267500@dev.utahrecovers.org
SUMMARY:The Young and Methless CMA (In person)
DESCRIPTION:
URL:https://dev.utahrecovers.org/meeting/the-young-and-methless-cma-in-person-30/
LOCATION:SLC RCC-2-Suite 203-Suite 203 Group Room (40)
CATEGORIES:Salt Lake Recovery Community Center
END:VEVENT
BEGIN:VEVENT
DTSTART;TZID=America/Denver:20260216T174500
DTEND;TZID=America/Denver:20260216T200000
DTSTAMP:20260423T165507
CREATED:20260119T185425Z
LAST-MODIFIED:20260119T185425Z
UID:10007036-1771263900-1771272000@dev.utahrecovers.org
SUMMARY:Guiding Good Choices (In person)
DESCRIPTION:
URL:https://dev.utahrecovers.org/meeting/guiding-good-choices-in-person-3/
LOCATION:Utah Support Advocates for Recovery Awareness – USARA\, 180 E 2100 S\, Salt Lake City\, UT\, United States
CATEGORIES:Salt Lake Recovery Community Center
GEO:40.725365;-111.885934
X-APPLE-STRUCTURED-LOCATION;VALUE=URI;X-ADDRESS=Utah Support Advocates for Recovery Awareness – USARA 180 E 2100 S Salt Lake City UT United States;X-APPLE-RADIUS=500;X-TITLE=180 E 2100 S:geo:-111.885934,40.725365
END:VEVENT
BEGIN:VEVENT
DTSTART;TZID=America/Denver:20260216T180000
DTEND;TZID=America/Denver:20260216T190000
DTSTAMP:20260423T165507
CREATED:20260119T185425Z
LAST-MODIFIED:20260119T185425Z
UID:10007038-1771264800-1771268400@dev.utahrecovers.org
SUMMARY:Recovery Dharma (In person)
DESCRIPTION:
URL:https://dev.utahrecovers.org/meeting/recovery-dharma-in-person-158/
LOCATION:Utah Support Advocates for Recovery Awareness – USARA\, 180 E 2100 S #100\, Salt Lake City\, UT 84115\, USA\, SLC RCC-1-Suite 100-Suite 100 Group Room (50)
CATEGORIES:Salt Lake Recovery Community Center
END:VEVENT
BEGIN:VEVENT
DTSTART;TZID=America/Denver:20260216T190000
DTEND;TZID=America/Denver:20260216T200000
DTSTAMP:20260423T165507
CREATED:20260119T185425Z
LAST-MODIFIED:20260119T185425Z
UID:10007039-1771268400-1771272000@dev.utahrecovers.org
SUMMARY:SLAA Keys to the Kingdom (Hybrid - join virtually or in person!)
DESCRIPTION:https://us06web.zoom.us/j/85794034807?pwd=URUt6a4WAEshIr7IKpYagkFvD9Aj6b.1
URL:https://dev.utahrecovers.org/meeting/slaa-keys-to-the-kingdom-hybrid-join-virtually-or-in-person-113/
LOCATION:Utah Support Advocates for Recovery Awareness – USARA\, 180 E 2100 S #100\, Salt Lake City\, UT 84115\, USA\, SLC RCC-2-Suite 203-Suite 203 Group Room (40)
CATEGORIES:Salt Lake Recovery Community Center
END:VEVENT
BEGIN:VEVENT
DTSTART;TZID=America/Denver:20260217T170000
DTEND;TZID=America/Denver:20260217T180000
DTSTAMP:20260423T165507
CREATED:20260119T185425Z
LAST-MODIFIED:20260119T185425Z
UID:10007040-1771347600-1771351200@dev.utahrecovers.org
SUMMARY:Veterans Support Group (In person)
DESCRIPTION:
URL:https://dev.utahrecovers.org/meeting/veterans-support-group-in-person-56/
LOCATION:Utah Support Advocates for Recovery Awareness – USARA\, 180 E 2100 S #100\, Salt Lake City\, UT 84115\, USA\, SLC RCC-1-Suite 100-Suite 100 Group Room (50)
CATEGORIES:Salt Lake Recovery Community Center
END:VEVENT
BEGIN:VEVENT
DTSTART;TZID=America/Denver:20260217T170000
DTEND;TZID=America/Denver:20260217T183000
DTSTAMP:20260423T165507
CREATED:20260119T185436Z
LAST-MODIFIED:20260119T185436Z
UID:10007041-1771347600-1771353000@dev.utahrecovers.org
SUMMARY:Community Ear Acudetox Clinic (In person)
DESCRIPTION:
URL:https://dev.utahrecovers.org/meeting/community-ear-acudetox-clinic-in-person-57/
LOCATION:Utah Support Advocates for Recovery Awareness – USARA\, 180 E 2100 S #100\, Salt Lake City\, UT 84115\, USA\, SLC RCC-2-Suite 205-Suite 205 Conference Room (18)
CATEGORIES:Salt Lake Recovery Community Center
END:VEVENT
BEGIN:VEVENT
DTSTART;TZID=America/Denver:20260217T180000
DTEND;TZID=America/Denver:20260217T193000
DTSTAMP:20260423T165507
CREATED:20260119T185436Z
LAST-MODIFIED:20260119T185436Z
UID:10007043-1771351200-1771356600@dev.utahrecovers.org
SUMMARY:Hopeful Changes Women's Group (In person)
DESCRIPTION:Contacts \n\nMeg Kisselburg\n\ncell: (801) 652-4840\nemail: megk19@gmail.com
URL:https://dev.utahrecovers.org/meeting/hopeful-changes-womens-group-in-person-57/
LOCATION:Utah Support Advocates for Recovery Awareness – USARA\, 180 E 2100 S #100\, Salt Lake City\, UT 84115\, USA\, SLC RCC-1-Suite 100-Suite 100 Group Room (50)
CATEGORIES:Salt Lake Recovery Community Center
END:VEVENT
BEGIN:VEVENT
DTSTART;TZID=America/Denver:20260217T193000
DTEND;TZID=America/Denver:20260217T203000
DTSTAMP:20260423T165507
CREATED:20260119T185436Z
LAST-MODIFIED:20260119T185436Z
UID:10007042-1771356600-1771360200@dev.utahrecovers.org
SUMMARY:CaliSober Recovery Meeting (In person)
DESCRIPTION:
URL:https://dev.utahrecovers.org/meeting/calisober-recovery-meeting-in-person-9/
LOCATION:Utah Support Advocates for Recovery Awareness – USARA\, 180 E 2100 S #100\, Salt Lake City\, UT 84115\, USA\, SLC RCC-1-Suite 100-Suite 100 Group Room (50)
CATEGORIES:Salt Lake Recovery Community Center
END:VEVENT
BEGIN:VEVENT
DTSTART;TZID=America/Denver:20260218T120000
DTEND;TZID=America/Denver:20260218T130000
DTSTAMP:20260423T165507
CREATED:20260119T185436Z
LAST-MODIFIED:20260119T185436Z
UID:10007044-1771416000-1771419600@dev.utahrecovers.org
SUMMARY:Recovery Dharma (Hybrid - join virtually or in person!)
DESCRIPTION:https://us02web.zoom.us/j/2361179850?pwd=NXhUUDNsUUpWYTNxdkhIOUcwNEhSUT09 \nContacts \n\nSteve Slater\n\nemail: slater.stevej@gmail.com
URL:https://dev.utahrecovers.org/meeting/recovery-dharma-hybrid-join-virtually-or-in-person-407/
LOCATION:Utah Support Advocates for Recovery Awareness – USARA\, 180 E 2100 S #100\, Salt Lake City\, UT 84115\, USA\, SLC RCC-1-Suite 100-Suite 100 Group Room (50)
CATEGORIES:Salt Lake Recovery Community Center
END:VEVENT
BEGIN:VEVENT
DTSTART;TZID=America/Denver:20260319T130000
DTEND;TZID=America/Denver:20260319T140000
DTSTAMP:20260423T165507
CREATED:20260319T194337Z
LAST-MODIFIED:20260319T194337Z
UID:10007045-1773925200-1773928800@dev.utahrecovers.org
SUMMARY:Hope Connection Women's Support Group (In person)
DESCRIPTION:All pathways support group for women
URL:https://dev.utahrecovers.org/meeting/hope-connection-womens-support-group-in-person-51/
LOCATION:Utah Support Advocates for Recovery Awareness – USARA – Ogden\, 893 24th St\, Ogden\, UT\, United States
GEO:41.222498;-111.956726
X-APPLE-STRUCTURED-LOCATION;VALUE=URI;X-ADDRESS=Utah Support Advocates for Recovery Awareness – USARA – Ogden 893 24th St Ogden UT United States;X-APPLE-RADIUS=500;X-TITLE=893 24th St:geo:-111.956726,41.222498
END:VEVENT
BEGIN:VEVENT
DTSTART;TZID=America/Denver:20260319T170000
DTEND;TZID=America/Denver:20260319T180000
DTSTAMP:20260423T165507
CREATED:20260319T194937Z
LAST-MODIFIED:20260319T210712Z
UID:10007090-1773939600-1773943200@dev.utahrecovers.org
SUMMARY:Without Embedded Meeting
DESCRIPTION:
URL:https://dev.utahrecovers.org/meeting/without-embedded-meeting/
END:VEVENT
BEGIN:VEVENT
DTSTART;TZID=America/Denver:20260319T180000
DTEND;TZID=America/Denver:20260319T190000
DTSTAMP:20260423T165507
CREATED:20260319T194937Z
LAST-MODIFIED:20260319T210712Z
UID:10007089-1773943200-1773946800@dev.utahrecovers.org
SUMMARY:With Embedded Meeting
DESCRIPTION:Join with Google Meet: https://meet.google.com/ftk-nvjw-epoOr dial: (US) +1 402-736-0111 PIN: 418573907#More phone numbers: https://tel.meet/ftk-nvjw-epo?pin=2404928605287&hs=7 \nLearn more about Meet at: https://support.google.com/a/users/answer/9282720
URL:https://dev.utahrecovers.org/meeting/with-embedded-meeting/
END:VEVENT
BEGIN:VEVENT
DTSTART;TZID=America/Denver:20260319T190000
DTEND;TZID=America/Denver:20260319T200000
DTSTAMP:20260423T165507
CREATED:20260319T194937Z
LAST-MODIFIED:20260319T210712Z
UID:10007091-1773946800-1773950400@dev.utahrecovers.org
SUMMARY:With Address
DESCRIPTION:
URL:https://dev.utahrecovers.org/meeting/with-address/
LOCATION:Tiki Multimedia\, 2201 S Main St W\, Bountiful\, UT\, United States
GEO:40.867104;-111.891892
X-APPLE-STRUCTURED-LOCATION;VALUE=URI;X-ADDRESS=Tiki Multimedia 2201 S Main St W Bountiful UT United States;X-APPLE-RADIUS=500;X-TITLE=2201 S Main St W:geo:-111.891892,40.867104
END:VEVENT
BEGIN:VEVENT
DTSTART;TZID=America/Denver:20260319T200000
DTEND;TZID=America/Denver:20260319T210000
DTSTAMP:20260423T165507
CREATED:20260319T210712Z
LAST-MODIFIED:20260319T210712Z
UID:10007092-1773950400-1773954000@dev.utahrecovers.org
SUMMARY:Meet link in description
DESCRIPTION:Video call link: https://meet.google.com/ftk-nvjw-epo
URL:https://dev.utahrecovers.org/meeting/meet-link-in-description/
END:VEVENT
END:VCALENDAR