BEGIN:VCALENDAR
VERSION:2.0
PRODID:-//USARA - Utah Recovers - ECPv6.15.18//NONSGML v1.0//EN
CALSCALE:GREGORIAN
METHOD:PUBLISH
X-ORIGINAL-URL:https://dev.utahrecovers.org
X-WR-CALDESC:Events for USARA - Utah Recovers
REFRESH-INTERVAL;VALUE=DURATION:PT1H
X-Robots-Tag:noindex
X-PUBLISHED-TTL:PT1H
BEGIN:VTIMEZONE
TZID:America/Denver
BEGIN:DAYLIGHT
TZOFFSETFROM:-0700
TZOFFSETTO:-0600
TZNAME:MDT
DTSTART:20240310T090000
END:DAYLIGHT
BEGIN:STANDARD
TZOFFSETFROM:-0600
TZOFFSETTO:-0700
TZNAME:MST
DTSTART:20241103T080000
END:STANDARD
BEGIN:DAYLIGHT
TZOFFSETFROM:-0700
TZOFFSETTO:-0600
TZNAME:MDT
DTSTART:20250309T090000
END:DAYLIGHT
BEGIN:STANDARD
TZOFFSETFROM:-0600
TZOFFSETTO:-0700
TZNAME:MST
DTSTART:20251102T080000
END:STANDARD
BEGIN:DAYLIGHT
TZOFFSETFROM:-0700
TZOFFSETTO:-0600
TZNAME:MDT
DTSTART:20260308T090000
END:DAYLIGHT
BEGIN:STANDARD
TZOFFSETFROM:-0600
TZOFFSETTO:-0700
TZNAME:MST
DTSTART:20261101T080000
END:STANDARD
END:VTIMEZONE
BEGIN:VEVENT
DTSTART;TZID=America/Denver:20250417T190000
DTEND;TZID=America/Denver:20250417T200000
DTSTAMP:20260425T101711
CREATED:20250319T094208Z
LAST-MODIFIED:20250416T105210Z
UID:10005990-1744916400-1744920000@dev.utahrecovers.org
SUMMARY:Sex Addicts Anonymous (In person)
DESCRIPTION:
URL:https://dev.utahrecovers.org/meeting/sex-addicts-anonymous-in-person-46/
LOCATION:Utah Support Advocates for Recovery Awareness – USARA – Ogden\, 893 24th St\, Ogden\, UT\, United States
CATEGORIES:Ogden Recovery Community Center
GEO:41.222498;-111.956726
X-APPLE-STRUCTURED-LOCATION;VALUE=URI;X-ADDRESS=Utah Support Advocates for Recovery Awareness – USARA – Ogden 893 24th St Ogden UT United States;X-APPLE-RADIUS=500;X-TITLE=893 24th St:geo:-111.956726,41.222498
END:VEVENT
BEGIN:VEVENT
DTSTART;TZID=America/Denver:20250418T073000
DTEND;TZID=America/Denver:20250418T090000
DTSTAMP:20260425T101711
CREATED:20250319T225252Z
LAST-MODIFIED:20250416T234109Z
UID:10006000-1744961400-1744966800@dev.utahrecovers.org
SUMMARY:Active Recovery (In person)
DESCRIPTION:
URL:https://dev.utahrecovers.org/meeting/active-recovery-in-person-86/
LOCATION:Utah Support Advocates for Recovery Awareness – USARA – Moab\, 23 S 100 W\, Moab\, UT\, United States
CATEGORIES:Moab Recovery Community Center
GEO:38.57309;-109.552616
X-APPLE-STRUCTURED-LOCATION;VALUE=URI;X-ADDRESS=Utah Support Advocates for Recovery Awareness – USARA – Moab 23 S 100 W Moab UT United States;X-APPLE-RADIUS=500;X-TITLE=23 S 100 W:geo:-109.552616,38.57309
END:VEVENT
BEGIN:VEVENT
DTSTART;TZID=America/Denver:20250418T100000
DTEND;TZID=America/Denver:20250418T110000
DTSTAMP:20260425T101711
CREATED:20250319T094209Z
LAST-MODIFIED:20250416T105211Z
UID:10005992-1744970400-1744974000@dev.utahrecovers.org
SUMMARY:SMART Recovery (In person)
DESCRIPTION:Self Management and Recovery Training \nContact USARA at (385) 263-1600
URL:https://dev.utahrecovers.org/meeting/smart-recovery-in-person-46/
LOCATION:Utah Support Advocates for Recovery Awareness – USARA – Ogden\, 893 24th St\, Ogden\, UT\, United States
CATEGORIES:Ogden Recovery Community Center
GEO:41.222498;-111.956726
X-APPLE-STRUCTURED-LOCATION;VALUE=URI;X-ADDRESS=Utah Support Advocates for Recovery Awareness – USARA – Ogden 893 24th St Ogden UT United States;X-APPLE-RADIUS=500;X-TITLE=893 24th St:geo:-111.956726,41.222498
END:VEVENT
BEGIN:VEVENT
DTSTART;TZID=America/Denver:20250418T100000
DTEND;TZID=America/Denver:20250418T110000
DTSTAMP:20260425T101711
CREATED:20250319T225252Z
LAST-MODIFIED:20250416T234110Z
UID:10006002-1744970400-1744974000@dev.utahrecovers.org
SUMMARY:Yoga (In person)
DESCRIPTION:
URL:https://dev.utahrecovers.org/meeting/yoga-in-person-46/
LOCATION:Utah Support Advocates for Recovery Awareness – USARA – Moab\, 23 S 100 W\, Moab\, UT\, United States
CATEGORIES:Moab Recovery Community Center
GEO:38.57309;-109.552616
X-APPLE-STRUCTURED-LOCATION;VALUE=URI;X-ADDRESS=Utah Support Advocates for Recovery Awareness – USARA – Moab 23 S 100 W Moab UT United States;X-APPLE-RADIUS=500;X-TITLE=23 S 100 W:geo:-109.552616,38.57309
END:VEVENT
BEGIN:VEVENT
DTSTART;TZID=America/Denver:20250418T110000
DTEND;TZID=America/Denver:20250418T120000
DTSTAMP:20260425T101711
CREATED:20250319T064346Z
LAST-MODIFIED:20250416T114126Z
UID:10005989-1744974000-1744977600@dev.utahrecovers.org
SUMMARY:Coffee & Recovery (Hybrid - join virtually or in person!)
DESCRIPTION:Join with Google Meet: https://meet.google.com/hrb-awdg-zmdOr dial: (US) +1 508-506-1551 PIN: 141472344#More phone numbers: https://tel.meet/hrb-awdg-zmd?pin=1300156360240&hs=7 \nLearn more about Meet at: https://support.google.com/a/users/answer/9282720
URL:https://dev.utahrecovers.org/meeting/coffee-recovery-hybrid-join-virtually-or-in-person-321/
LOCATION:Utah Support Advocates for Recovery Awareness – USARA – Moab\, 23 S 100 W\, Moab\, UT\, United States
CATEGORIES:Virtual Meetings
GEO:38.57309;-109.552616
X-APPLE-STRUCTURED-LOCATION;VALUE=URI;X-ADDRESS=Utah Support Advocates for Recovery Awareness – USARA – Moab 23 S 100 W Moab UT United States;X-APPLE-RADIUS=500;X-TITLE=23 S 100 W:geo:-109.552616,38.57309
END:VEVENT
BEGIN:VEVENT
DTSTART;TZID=America/Denver:20250418T110000
DTEND;TZID=America/Denver:20250418T120000
DTSTAMP:20260425T101711
CREATED:20250319T225252Z
LAST-MODIFIED:20250416T234110Z
UID:10006001-1744974000-1744977600@dev.utahrecovers.org
SUMMARY:Coffee & Recovery (Hybrid - join online or in person!)
DESCRIPTION:Join with Google Meet: https://meet.google.com/hrb-awdg-zmdOr dial: (US) +1 508-506-1551 PIN: 141472344#More phone numbers: https://tel.meet/hrb-awdg-zmd?pin=1300156360240&hs=7 \nLearn more about Meet at: https://support.google.com/a/users/answer/9282720
URL:https://dev.utahrecovers.org/meeting/coffee-recovery-hybrid-join-online-or-in-person-93/
LOCATION:Utah Support Advocates for Recovery Awareness – USARA – Moab\, 23 S 100 W\, Moab\, UT 84532\, USA\, Moab RCC-1-Group Room (20)
CATEGORIES:Moab Recovery Community Center
END:VEVENT
BEGIN:VEVENT
DTSTART;TZID=America/Denver:20250418T120000
DTEND;TZID=America/Denver:20250418T130000
DTSTAMP:20260425T101711
CREATED:20250319T054401Z
LAST-MODIFIED:20250416T102028Z
UID:10005985-1744977600-1744981200@dev.utahrecovers.org
SUMMARY:Recovery Dharma (Hybrid - join virtually or in person!)
DESCRIPTION:https://us02web.zoom.us/j/2361179850?pwd=NXhUUDNsUUpWYTNxdkhIOUcwNEhSUT09 \nContacts \n\nSteve Slater\n\nemail: slater.stevej@gmail.com
URL:https://dev.utahrecovers.org/meeting/recovery-dharma-hybrid-join-virtually-or-in-person-320/
LOCATION:Utah Support Advocates for Recovery Awareness – USARA\, 180 E 2100 S #100\, Salt Lake City\, UT 84115\, USA\, SLC RCC-1-Suite 100-Suite 100 Group Room (50)
CATEGORIES:Salt Lake Recovery Community Center
END:VEVENT
BEGIN:VEVENT
DTSTART;TZID=America/Denver:20250418T120000
DTEND;TZID=America/Denver:20250418T130000
DTSTAMP:20260425T101711
CREATED:20250319T064346Z
LAST-MODIFIED:20250416T114126Z
UID:10005988-1744977600-1744981200@dev.utahrecovers.org
SUMMARY:Recovery Dharma (Hybrid - join virtually or in person!)
DESCRIPTION:https://us02web.zoom.us/j/2361179850?pwd=NXhUUDNsUUpWYTNxdkhIOUcwNEhSUT09 \nContacts \n\nSteve\n\nemail: slater.stevej@gmail.com
URL:https://dev.utahrecovers.org/meeting/recovery-dharma-hybrid-join-virtually-or-in-person-321/
LOCATION:Utah Support Advocates for Recovery Awareness – USARA\, 180 E 2100 S\, Salt Lake City\, UT\, United States
CATEGORIES:Virtual Meetings
GEO:40.725365;-111.885934
X-APPLE-STRUCTURED-LOCATION;VALUE=URI;X-ADDRESS=Utah Support Advocates for Recovery Awareness – USARA 180 E 2100 S Salt Lake City UT United States;X-APPLE-RADIUS=500;X-TITLE=180 E 2100 S:geo:-111.885934,40.725365
END:VEVENT
BEGIN:VEVENT
DTSTART;TZID=America/Denver:20250418T180000
DTEND;TZID=America/Denver:20250418T190000
DTSTAMP:20260425T101711
CREATED:20250320T182137Z
LAST-MODIFIED:20250416T202009Z
UID:10006011-1744999200-1745002800@dev.utahrecovers.org
SUMMARY:Recovery Dharma (In person)
DESCRIPTION:A mindfulness-based addiction recovery community that practices and utilizes Buddhist philosophy as the foundation of the recovery process. \nContact \n\nJustin Ward\n\nphone: (801) 389-2715
URL:https://dev.utahrecovers.org/meeting/recovery-dharma-in-person-138/
LOCATION:Utah Support Advocates for Recovery Awareness – USARA – St. George\, 113 E 200 N\, Saint George\, UT\, United States
CATEGORIES:St George Recovery Community Center
GEO:37.111634;-113.581023
X-APPLE-STRUCTURED-LOCATION;VALUE=URI;X-ADDRESS=Utah Support Advocates for Recovery Awareness – USARA – St. George 113 E 200 N Saint George UT United States;X-APPLE-RADIUS=500;X-TITLE=113 E 200 N:geo:-113.581023,37.111634
END:VEVENT
BEGIN:VEVENT
DTSTART;TZID=America/Denver:20250418T190000
DTEND;TZID=America/Denver:20250418T200000
DTSTAMP:20260425T101711
CREATED:20250320T094210Z
LAST-MODIFIED:20250416T105211Z
UID:10006010-1745002800-1745006400@dev.utahrecovers.org
SUMMARY:Cocaine Anonymous Friday Night Few (In person)
DESCRIPTION:
URL:https://dev.utahrecovers.org/meeting/cocaine-anonymous-friday-night-few-in-person-46/
LOCATION:Utah Support Advocates for Recovery Awareness – USARA – Ogden\, 893 24th St\, Ogden\, UT\, United States
CATEGORIES:Ogden Recovery Community Center
GEO:41.222498;-111.956726
X-APPLE-STRUCTURED-LOCATION;VALUE=URI;X-ADDRESS=Utah Support Advocates for Recovery Awareness – USARA – Ogden 893 24th St Ogden UT United States;X-APPLE-RADIUS=500;X-TITLE=893 24th St:geo:-111.956726,41.222498
END:VEVENT
BEGIN:VEVENT
DTSTART;TZID=America/Denver:20250418T190000
DTEND;TZID=America/Denver:20250418T200000
DTSTAMP:20260425T101711
CREATED:20250325T062240Z
LAST-MODIFIED:20250416T102028Z
UID:10006062-1745002800-1745006400@dev.utahrecovers.org
SUMMARY:Young People in Recovery (In person)
DESCRIPTION:
URL:https://dev.utahrecovers.org/meeting/young-people-in-recovery-in-person-32/
LOCATION:SLC RCC-2-Suite 203-Suite 203 Group Room (40)
CATEGORIES:Salt Lake Recovery Community Center
END:VEVENT
BEGIN:VEVENT
DTSTART;TZID=America/Denver:20250418T200000
DTEND;TZID=America/Denver:20250418T210000
DTSTAMP:20260425T101711
CREATED:20250320T054351Z
LAST-MODIFIED:20250416T102028Z
UID:10006003-1745006400-1745010000@dev.utahrecovers.org
SUMMARY:Leather\, Fetish\, and Kink in Recovery CMA (In person)
DESCRIPTION:Contacts \n\nJames Jordan Greenwell\n\ncell: (435) 901-7678\nemail: greenwelljordan@gmail.com
URL:https://dev.utahrecovers.org/meeting/leather-fetish-and-kink-in-recovery-cma-in-person-46/
LOCATION:Utah Support Advocates for Recovery Awareness – USARA\, 180 E 2100 S #100\, Salt Lake City\, UT 84115\, USA\, SLC RCC-2-Suite 203-Suite 203 Group Room (40)
CATEGORIES:Salt Lake Recovery Community Center
END:VEVENT
BEGIN:VEVENT
DTSTART;TZID=America/Denver:20250419T080000
DTEND;TZID=America/Denver:20250419T090000
DTSTAMP:20260425T101711
CREATED:20250320T182137Z
LAST-MODIFIED:20250416T202009Z
UID:10006012-1745049600-1745053200@dev.utahrecovers.org
SUMMARY:Al-Anon (In person)
DESCRIPTION:
URL:https://dev.utahrecovers.org/meeting/al-anon-in-person-47/
LOCATION:Utah Support Advocates for Recovery Awareness – USARA – St. George\, 113 E 200 N\, Saint George\, UT\, United States
CATEGORIES:St George Recovery Community Center
GEO:37.111634;-113.581023
X-APPLE-STRUCTURED-LOCATION;VALUE=URI;X-ADDRESS=Utah Support Advocates for Recovery Awareness – USARA – St. George 113 E 200 N Saint George UT United States;X-APPLE-RADIUS=500;X-TITLE=113 E 200 N:geo:-113.581023,37.111634
END:VEVENT
BEGIN:VEVENT
DTSTART;TZID=America/Denver:20250419T083000
DTEND;TZID=America/Denver:20250419T093000
DTSTAMP:20260425T101711
CREATED:20250320T054405Z
LAST-MODIFIED:20250416T102028Z
UID:10006005-1745051400-1745055000@dev.utahrecovers.org
SUMMARY:Sexaholics Anonymous (Hybrid - join online or in person!)
DESCRIPTION:https://us02web.zoom.us/j/86238197798?pwd=OTA2ZmY5YUVzcURMRllId3JyRVliZz09
URL:https://dev.utahrecovers.org/meeting/sexaholics-anonymous-hybrid-join-online-or-in-person-90/
LOCATION:Utah Support Advocates for Recovery Awareness – USARA\, 180 E 2100 S #100\, Salt Lake City\, UT 84115\, USA\, SLC RCC-2-Suite 203-Suite 203 Group Room (40)
CATEGORIES:Salt Lake Recovery Community Center
END:VEVENT
BEGIN:VEVENT
DTSTART;TZID=America/Denver:20250419T083000
DTEND;TZID=America/Denver:20250419T093000
DTSTAMP:20260425T101711
CREATED:20250320T065433Z
LAST-MODIFIED:20250416T114126Z
UID:10006008-1745051400-1745055000@dev.utahrecovers.org
SUMMARY:Sexaholics Anonymous (Hybrid - join online or in person!)
DESCRIPTION:https://us02web.zoom.us/j/86238197798?pwd=OTA2ZmY5YUVzcURMRllId3JyRVliZz09
URL:https://dev.utahrecovers.org/meeting/sexaholics-anonymous-hybrid-join-online-or-in-person-91/
LOCATION:Utah Support Advocates for Recovery Awareness – USARA\, 180 E 2100 S\, Salt Lake City\, UT\, United States
CATEGORIES:Virtual Meetings
GEO:40.725365;-111.885934
X-APPLE-STRUCTURED-LOCATION;VALUE=URI;X-ADDRESS=Utah Support Advocates for Recovery Awareness – USARA 180 E 2100 S Salt Lake City UT United States;X-APPLE-RADIUS=500;X-TITLE=180 E 2100 S:geo:-111.885934,40.725365
END:VEVENT
BEGIN:VEVENT
DTSTART;TZID=America/Denver:20250419T093000
DTEND;TZID=America/Denver:20250419T110000
DTSTAMP:20260425T101711
CREATED:20250320T054405Z
LAST-MODIFIED:20250416T102028Z
UID:10006006-1745055000-1745060400@dev.utahrecovers.org
SUMMARY:SMART Recovery (Hybrid - join virtually or in person)
DESCRIPTION:https://smartrecovery.zoom.us/j/932119283 \nContacts \n\nJamiel\n\nemail: jamielk101@gmail.com
URL:https://dev.utahrecovers.org/meeting/smart-recovery-hybrid-join-virtually-or-in-person-178/
LOCATION:Utah Support Advocates for Recovery Awareness – USARA\, 180 E 2100 S #100\, Salt Lake City\, UT 84115\, USA\, SLC RCC-1-Suite 100-Suite 100 Group Room (50)
CATEGORIES:Salt Lake Recovery Community Center
END:VEVENT
BEGIN:VEVENT
DTSTART;TZID=America/Denver:20250419T093000
DTEND;TZID=America/Denver:20250419T110000
DTSTAMP:20260425T101711
CREATED:20250320T065433Z
LAST-MODIFIED:20250416T114126Z
UID:10006009-1745055000-1745060400@dev.utahrecovers.org
SUMMARY:SMART Recovery (Hybrid - join virtually or in person)
DESCRIPTION:https://smartrecovery.zoom.us/j/932119283 \nContacts \n\nJamiel\n\nemail: jamielk101@gmail.com
URL:https://dev.utahrecovers.org/meeting/smart-recovery-hybrid-join-virtually-or-in-person-179/
LOCATION:Utah Support Advocates for Recovery Awareness – USARA\, 180 E 2100 S\, Salt Lake City\, UT\, United States
CATEGORIES:Virtual Meetings
GEO:40.725365;-111.885934
X-APPLE-STRUCTURED-LOCATION;VALUE=URI;X-ADDRESS=Utah Support Advocates for Recovery Awareness – USARA 180 E 2100 S Salt Lake City UT United States;X-APPLE-RADIUS=500;X-TITLE=180 E 2100 S:geo:-111.885934,40.725365
END:VEVENT
BEGIN:VEVENT
DTSTART;TZID=America/Denver:20250419T110000
DTEND;TZID=America/Denver:20250419T160000
DTSTAMP:20260425T101711
CREATED:20250403T074243Z
LAST-MODIFIED:20250416T102029Z
UID:10006203-1745060400-1745078400@dev.utahrecovers.org
SUMMARY:Tatanka Warriors Outreach for Relatives (In person)
DESCRIPTION:
URL:https://dev.utahrecovers.org/meeting/tatanka-warriors-outreach-for-relatives-in-person/
LOCATION:Utah Support Advocates for Recovery Awareness – USARA\, 180 E 2100 S #100\, Salt Lake City\, UT 84115\, USA\, SLC RCC-1-Suite 100-Suite 100 Group Room (50)
CATEGORIES:Salt Lake Recovery Community Center
END:VEVENT
BEGIN:VEVENT
DTSTART;TZID=America/Denver:20250419T170000
DTEND;TZID=America/Denver:20250419T180000
DTSTAMP:20260425T101711
CREATED:20250320T054405Z
LAST-MODIFIED:20250416T102029Z
UID:10006007-1745082000-1745085600@dev.utahrecovers.org
SUMMARY:Recovery Dharma (Hybrid - join virtually or in person!)
DESCRIPTION:https://us02web.zoom.us/j/2361179850?pwd=NXhUUDNsUUpWYTNxdkhIOUcwNEhSUT09
URL:https://dev.utahrecovers.org/meeting/recovery-dharma-hybrid-join-virtually-or-in-person-322/
LOCATION:Utah Support Advocates for Recovery Awareness – USARA\, 180 E 2100 S #100\, Salt Lake City\, UT 84115\, USA\, SLC RCC-1-Suite 100-Suite 100 Group Room (50)
CATEGORIES:Salt Lake Recovery Community Center
END:VEVENT
BEGIN:VEVENT
DTSTART;TZID=America/Denver:20250419T183000
DTEND;TZID=America/Denver:20250419T193000
DTSTAMP:20260425T101711
CREATED:20250321T215226Z
LAST-MODIFIED:20250416T234109Z
UID:10006018-1745087400-1745091000@dev.utahrecovers.org
SUMMARY:Psychedelics in Recovery
DESCRIPTION:
URL:https://dev.utahrecovers.org/meeting/psychedelics-in-recovery-6/
CATEGORIES:Provo Recovery Community Center
END:VEVENT
BEGIN:VEVENT
DTSTART;TZID=America/Denver:20250420T100000
DTEND;TZID=America/Denver:20250420T110000
DTSTAMP:20260425T101711
CREATED:20250321T054352Z
LAST-MODIFIED:20250416T102029Z
UID:10006013-1745143200-1745146800@dev.utahrecovers.org
SUMMARY:Sunday Morning Big Book Study (Hybrid - join virtually or in person!)
DESCRIPTION:https://us02web.zoom.us/j/89418418350?pwd=Rm9PSExNU3BEbURuZ09EaUpvcUZtdz09
URL:https://dev.utahrecovers.org/meeting/sunday-morning-big-book-study-hybrid-join-virtually-or-in-person-92/
LOCATION:Utah Support Advocates for Recovery Awareness – USARA\, 180 E 2100 S #100\, Salt Lake City\, UT 84115\, USA\, SLC RCC-1-Suite 100-Suite 100 Group Room (50)
CATEGORIES:Salt Lake Recovery Community Center
END:VEVENT
BEGIN:VEVENT
DTSTART;TZID=America/Denver:20250420T100000
DTEND;TZID=America/Denver:20250420T110000
DTSTAMP:20260425T101711
CREATED:20250321T072231Z
LAST-MODIFIED:20250416T114126Z
UID:10006016-1745143200-1745146800@dev.utahrecovers.org
SUMMARY:Sunday Morning Big Book Study (Hybrid - join virtually or in person!)
DESCRIPTION:https://us02web.zoom.us/j/89418418350?pwd=Rm9PSExNU3BEbURuZ09EaUpvcUZtdz09 \nContacts \n\nChristy Rogers\n\ncell: (801) 244-7163 
URL:https://dev.utahrecovers.org/meeting/sunday-morning-big-book-study-hybrid-join-virtually-or-in-person-93/
LOCATION:Utah Support Advocates for Recovery Awareness – USARA\, 180 E 2100 S\, Salt Lake City\, UT\, United States
CATEGORIES:Virtual Meetings
GEO:40.725365;-111.885934
X-APPLE-STRUCTURED-LOCATION;VALUE=URI;X-ADDRESS=Utah Support Advocates for Recovery Awareness – USARA 180 E 2100 S Salt Lake City UT United States;X-APPLE-RADIUS=500;X-TITLE=180 E 2100 S:geo:-111.885934,40.725365
END:VEVENT
BEGIN:VEVENT
DTSTART;TZID=America/Denver:20250420T120000
DTEND;TZID=America/Denver:20250420T130000
DTSTAMP:20260425T101711
CREATED:20250321T054406Z
LAST-MODIFIED:20250416T102029Z
UID:10006014-1745150400-1745154000@dev.utahrecovers.org
SUMMARY:Recovery Dharma (Hybrid - join virtually or in person!)
DESCRIPTION:https://us02web.zoom.us/j/2361179850?pwd=NXhUUDNsUUpWYTNxdkhIOUcwNEhSUT09 \nContacts \n\nSteve Slater\n\nemail: slater.stevej@gmail.com
URL:https://dev.utahrecovers.org/meeting/recovery-dharma-hybrid-join-virtually-or-in-person-323/
LOCATION:Utah Support Advocates for Recovery Awareness – USARA\, 180 E 2100 S #100\, Salt Lake City\, UT 84115\, USA\, SLC RCC-1-Suite 100-Suite 100 Group Room (50)
CATEGORIES:Salt Lake Recovery Community Center
END:VEVENT
BEGIN:VEVENT
DTSTART;TZID=America/Denver:20250420T120000
DTEND;TZID=America/Denver:20250420T130000
DTSTAMP:20260425T101711
CREATED:20250321T072231Z
LAST-MODIFIED:20250416T114126Z
UID:10006017-1745150400-1745154000@dev.utahrecovers.org
SUMMARY:Recovery Dharma (Hybrid - join virtually or in person!)
DESCRIPTION:https://us02web.zoom.us/j/2361179850?pwd=NXhUUDNsUUpWYTNxdkhIOUcwNEhSUT09 \nContacts \n\nSteve\n\nemail: slater.stevej@gmail.com
URL:https://dev.utahrecovers.org/meeting/recovery-dharma-hybrid-join-virtually-or-in-person-324/
LOCATION:Utah Support Advocates for Recovery Awareness – USARA\, 180 E 2100 S\, Salt Lake City\, UT\, United States
CATEGORIES:Virtual Meetings
GEO:40.725365;-111.885934
X-APPLE-STRUCTURED-LOCATION;VALUE=URI;X-ADDRESS=Utah Support Advocates for Recovery Awareness – USARA 180 E 2100 S Salt Lake City UT United States;X-APPLE-RADIUS=500;X-TITLE=180 E 2100 S:geo:-111.885934,40.725365
END:VEVENT
BEGIN:VEVENT
DTSTART;TZID=America/Denver:20250420T133000
DTEND;TZID=America/Denver:20250420T143000
DTSTAMP:20260425T101711
CREATED:20250321T054406Z
LAST-MODIFIED:20250416T102029Z
UID:10006015-1745155800-1745159400@dev.utahrecovers.org
SUMMARY:Clean\, Sober\, and Proud CMA - LGBTQ+ Focus (In person)
DESCRIPTION:Contacts \n\nBuzz T\n\ncell: (801) 664-5225\nemail: actalbotslc@gmail.com
URL:https://dev.utahrecovers.org/meeting/clean-sober-and-proud-cma-lgbtq-focus-in-person-47/
LOCATION:Utah Support Advocates for Recovery Awareness – USARA\, 180 E 2100 S #100\, Salt Lake City\, UT 84115\, USA\, SLC RCC-2-Suite 203-Suite 203 Group Room (40)
CATEGORIES:Salt Lake Recovery Community Center
END:VEVENT
BEGIN:VEVENT
DTSTART;TZID=America/Denver:20250420T180000
DTEND;TZID=America/Denver:20250420T190000
DTSTAMP:20260425T101711
CREATED:20250322T014153Z
LAST-MODIFIED:20250417T024109Z
UID:10006019-1745172000-1745175600@dev.utahrecovers.org
SUMMARY:Narcotics Anonymous (In person
DESCRIPTION:
URL:https://dev.utahrecovers.org/meeting/narcotics-anonymous-in-person-47/
LOCATION:Utah Support Advocates for Recovery Awareness – USARA – Price\, 91 E Main St\, Price\, UT\, United States
CATEGORIES:Price Recovery Community Center
GEO:39.348812;-110.851077
X-APPLE-STRUCTURED-LOCATION;VALUE=URI;X-ADDRESS=Utah Support Advocates for Recovery Awareness – USARA – Price 91 E Main St Price UT United States;X-APPLE-RADIUS=500;X-TITLE=91 E Main St:geo:-110.851077,39.348812
END:VEVENT
BEGIN:VEVENT
DTSTART;TZID=America/Denver:20250420T180000
DTEND;TZID=America/Denver:20250420T190000
DTSTAMP:20260425T101711
CREATED:20250322T055453Z
LAST-MODIFIED:20250416T102044Z
UID:10006021-1745172000-1745175600@dev.utahrecovers.org
SUMMARY:Sexaholics Anonymous (Hybrid - join virtually or in person!)
DESCRIPTION:https://zoom.us/j/608422086?pwd=Y1VmV2xsSWc4QVpaR3FHZDNOZnJsZz09
URL:https://dev.utahrecovers.org/meeting/sexaholics-anonymous-hybrid-join-virtually-or-in-person-57/
LOCATION:Utah Support Advocates for Recovery Awareness – USARA\, 180 E 2100 S #100\, Salt Lake City\, UT 84115\, USA\, SLC RCC-2-Suite 203-Suite 203 Group Room (40)
CATEGORIES:Salt Lake Recovery Community Center
END:VEVENT
BEGIN:VEVENT
DTSTART;TZID=America/Denver:20250420T180000
DTEND;TZID=America/Denver:20250420T190000
DTSTAMP:20260425T101711
CREATED:20250322T074332Z
LAST-MODIFIED:20250416T114126Z
UID:10006024-1745172000-1745175600@dev.utahrecovers.org
SUMMARY:Sexaholics Anonymous (Hybrid - join virtually or in person!)
DESCRIPTION:https://us02web.zoom.us/j/86238197798?pwd=OTA2ZmY5YUVzcURMRllId3JyRVliZz09
URL:https://dev.utahrecovers.org/meeting/sexaholics-anonymous-hybrid-join-virtually-or-in-person-58/
LOCATION:Utah Support Advocates for Recovery Awareness – USARA\, 180 E 2100 S\, Salt Lake City\, UT\, United States
CATEGORIES:Virtual Meetings
GEO:40.725365;-111.885934
X-APPLE-STRUCTURED-LOCATION;VALUE=URI;X-ADDRESS=Utah Support Advocates for Recovery Awareness – USARA 180 E 2100 S Salt Lake City UT United States;X-APPLE-RADIUS=500;X-TITLE=180 E 2100 S:geo:-111.885934,40.725365
END:VEVENT
BEGIN:VEVENT
DTSTART;TZID=America/Denver:20250420T200000
DTEND;TZID=America/Denver:20250420T210000
DTSTAMP:20260425T101711
CREATED:20250322T184222Z
LAST-MODIFIED:20250416T202009Z
UID:10006027-1745179200-1745182800@dev.utahrecovers.org
SUMMARY:Joe & Charlie Discussion AA Group (In person)
DESCRIPTION:Open 12 step AA meeting focusing on the Joe & Charlie tapes\, Big Book Study \nContact \n\nJustin Ward\n\nphone: (801) 389-2715
URL:https://dev.utahrecovers.org/meeting/joe-charlie-discussion-aa-group-in-person-47/
LOCATION:Utah Support Advocates for Recovery Awareness – USARA – St. George\, 113 E 200 N\, Saint George\, UT\, United States
CATEGORIES:St George Recovery Community Center
GEO:37.111634;-113.581023
X-APPLE-STRUCTURED-LOCATION;VALUE=URI;X-ADDRESS=Utah Support Advocates for Recovery Awareness – USARA – St. George 113 E 200 N Saint George UT United States;X-APPLE-RADIUS=500;X-TITLE=113 E 200 N:geo:-113.581023,37.111634
END:VEVENT
BEGIN:VEVENT
DTSTART;TZID=America/Denver:20250421T110000
DTEND;TZID=America/Denver:20250421T120000
DTSTAMP:20260425T101711
CREATED:20250322T014153Z
LAST-MODIFIED:20250417T024109Z
UID:10006020-1745233200-1745236800@dev.utahrecovers.org
SUMMARY:Mental Health Monday (In Person)
DESCRIPTION:
URL:https://dev.utahrecovers.org/meeting/mental-health-monday-in-person-16/
LOCATION:91 E Main St\, Price\, UT\, United States
CATEGORIES:Price Recovery Community Center
GEO:39.567883;-110.650901
END:VEVENT
END:VCALENDAR