BEGIN:VCALENDAR
VERSION:2.0
PRODID:-//USARA - Utah Recovers - ECPv6.15.18//NONSGML v1.0//EN
CALSCALE:GREGORIAN
METHOD:PUBLISH
X-ORIGINAL-URL:https://dev.utahrecovers.org
X-WR-CALDESC:Events for USARA - Utah Recovers
REFRESH-INTERVAL;VALUE=DURATION:PT1H
X-Robots-Tag:noindex
X-PUBLISHED-TTL:PT1H
BEGIN:VTIMEZONE
TZID:America/Denver
BEGIN:DAYLIGHT
TZOFFSETFROM:-0700
TZOFFSETTO:-0600
TZNAME:MDT
DTSTART:20240310T090000
END:DAYLIGHT
BEGIN:STANDARD
TZOFFSETFROM:-0600
TZOFFSETTO:-0700
TZNAME:MST
DTSTART:20241103T080000
END:STANDARD
BEGIN:DAYLIGHT
TZOFFSETFROM:-0700
TZOFFSETTO:-0600
TZNAME:MDT
DTSTART:20250309T090000
END:DAYLIGHT
BEGIN:STANDARD
TZOFFSETFROM:-0600
TZOFFSETTO:-0700
TZNAME:MST
DTSTART:20251102T080000
END:STANDARD
BEGIN:DAYLIGHT
TZOFFSETFROM:-0700
TZOFFSETTO:-0600
TZNAME:MDT
DTSTART:20260308T090000
END:DAYLIGHT
BEGIN:STANDARD
TZOFFSETFROM:-0600
TZOFFSETTO:-0700
TZNAME:MST
DTSTART:20261101T080000
END:STANDARD
END:VTIMEZONE
BEGIN:VEVENT
DTSTART;TZID=America/Denver:20250428T190000
DTEND;TZID=America/Denver:20250428T200000
DTSTAMP:20260424T014254
CREATED:20250330T092227Z
LAST-MODIFIED:20250416T114209Z
UID:10006134-1745866800-1745870400@dev.utahrecovers.org
SUMMARY:SLAA Keys to the Kingdom (Hybrid - join virtually or in person!)
DESCRIPTION:https://us02web.zoom.us/j/85092306619?pwd=eXBTV0kyUGRDclNISkJZQVhwNXBLdz09 \nContacts \n\nRick\n\nemail: faklass@gmail.com
URL:https://dev.utahrecovers.org/meeting/slaa-keys-to-the-kingdom-hybrid-join-virtually-or-in-person-96/
LOCATION:Utah Support Advocates for Recovery Awareness – USARA\, 180 E 2100 S\, Salt Lake City\, UT\, United States
CATEGORIES:Virtual Meetings
GEO:40.725365;-111.885934
X-APPLE-STRUCTURED-LOCATION;VALUE=URI;X-ADDRESS=Utah Support Advocates for Recovery Awareness – USARA 180 E 2100 S Salt Lake City UT United States;X-APPLE-RADIUS=500;X-TITLE=180 E 2100 S:geo:-111.885934,40.725365
END:VEVENT
BEGIN:VEVENT
DTSTART;TZID=America/Denver:20250428T200000
DTEND;TZID=America/Denver:20250428T210000
DTSTAMP:20260424T014254
CREATED:20250330T192117Z
LAST-MODIFIED:20250416T202035Z
UID:10006139-1745870400-1745874000@dev.utahrecovers.org
SUMMARY:Eating Disordered Anonymous (In person)
DESCRIPTION:Eating Disordered Anonymous
URL:https://dev.utahrecovers.org/meeting/eating-disordered-anonymous-in-person-7/
LOCATION:Utah Support Advocates for Recovery Awareness – USARA – St. George\, 113 E 200 N\, Saint George\, UT\, United States
CATEGORIES:St George Recovery Community Center
GEO:37.111634;-113.581023
X-APPLE-STRUCTURED-LOCATION;VALUE=URI;X-ADDRESS=Utah Support Advocates for Recovery Awareness – USARA – St. George 113 E 200 N Saint George UT United States;X-APPLE-RADIUS=500;X-TITLE=113 E 200 N:geo:-113.581023,37.111634
END:VEVENT
BEGIN:VEVENT
DTSTART;TZID=America/Denver:20250429T090000
DTEND;TZID=America/Denver:20250429T100000
DTSTAMP:20260424T014254
CREATED:20250330T014150Z
LAST-MODIFIED:20250417T024122Z
UID:10006129-1745917200-1745920800@dev.utahrecovers.org
SUMMARY:Coffee & Recovery (Hybrid - join virtually or in person!)
DESCRIPTION:Join with Google Meet: https://meet.google.com/ydy-xvee-rqtOr dial: (US) +1 478-412-7414 PIN: 189703499#More phone numbers: https://tel.meet/ydy-xvee-rqt?pin=4876928882810&hs=7 \nLearn more about Meet at: https://support.google.com/a/users/answer/9282720
URL:https://dev.utahrecovers.org/meeting/coffee-recovery-hybrid-join-virtually-or-in-person-329/
LOCATION:Utah Support Advocates for Recovery Awareness – USARA – Price\, 91 E Main St\, Price\, UT\, United States
CATEGORIES:Price Recovery Community Center
GEO:39.348812;-110.851077
X-APPLE-STRUCTURED-LOCATION;VALUE=URI;X-ADDRESS=Utah Support Advocates for Recovery Awareness – USARA – Price 91 E Main St Price UT United States;X-APPLE-RADIUS=500;X-TITLE=91 E Main St:geo:-110.851077,39.348812
END:VEVENT
BEGIN:VEVENT
DTSTART;TZID=America/Denver:20250429T090000
DTEND;TZID=America/Denver:20250429T100000
DTSTAMP:20260424T014254
CREATED:20250330T092228Z
LAST-MODIFIED:20250416T114209Z
UID:10006136-1745917200-1745920800@dev.utahrecovers.org
SUMMARY:Coffee & Recovery (Hybrid - join virtually or in person!)
DESCRIPTION:Join with Google Meet: https://meet.google.com/ydy-xvee-rqtOr dial: (US) +1 478-412-7414 PIN: 189703499#More phone numbers: https://tel.meet/ydy-xvee-rqt?pin=4876928882810&hs=7 \nLearn more about Meet at: https://support.google.com/a/users/answer/9282720
URL:https://dev.utahrecovers.org/meeting/coffee-recovery-hybrid-join-virtually-or-in-person-330/
LOCATION:Utah Support Advocates for Recovery Awareness – USARA – Price\, 91 E Main St\, Price\, UT\, United States
CATEGORIES:Virtual Meetings
GEO:39.348812;-110.851077
X-APPLE-STRUCTURED-LOCATION;VALUE=URI;X-ADDRESS=Utah Support Advocates for Recovery Awareness – USARA – Price 91 E Main St Price UT United States;X-APPLE-RADIUS=500;X-TITLE=91 E Main St:geo:-110.851077,39.348812
END:VEVENT
BEGIN:VEVENT
DTSTART;TZID=America/Denver:20250429T100000
DTEND;TZID=America/Denver:20250429T160000
DTSTAMP:20260424T014254
CREATED:20250416T102128Z
LAST-MODIFIED:20250416T102128Z
UID:10006390-1745920800-1745942400@dev.utahrecovers.org
SUMMARY:Mental Health America (In person)
DESCRIPTION:
URL:https://dev.utahrecovers.org/meeting/mental-health-america-in-person-2/
LOCATION:Utah Support Advocates for Recovery Awareness – USARA\, 180 E 2100 S #100\, Salt Lake City\, UT 84115\, USA\, SLC RCC-1-Suite 100-Suite 100 Group Room (50)
CATEGORIES:Salt Lake Recovery Community Center
END:VEVENT
BEGIN:VEVENT
DTSTART;TZID=America/Denver:20250429T120000
DTEND;TZID=America/Denver:20250429T130000
DTSTAMP:20260424T014254
CREATED:20250330T192130Z
LAST-MODIFIED:20250416T202035Z
UID:10006140-1745928000-1745931600@dev.utahrecovers.org
SUMMARY:Recovery Dharma (In person)
DESCRIPTION:A mindfulness-based addiction recovery community that practices and utilizes Buddhist philosophy as the foundation of the recovery process. \nContact \n\nLana Rose Nelson\n\nphone: (435) 429-9454
URL:https://dev.utahrecovers.org/meeting/recovery-dharma-in-person-143/
LOCATION:Utah Support Advocates for Recovery Awareness – USARA – St. George\, 113 E 200 N\, Saint George\, UT\, United States
CATEGORIES:St George Recovery Community Center
GEO:37.111634;-113.581023
X-APPLE-STRUCTURED-LOCATION;VALUE=URI;X-ADDRESS=Utah Support Advocates for Recovery Awareness – USARA – St. George 113 E 200 N Saint George UT United States;X-APPLE-RADIUS=500;X-TITLE=113 E 200 N:geo:-113.581023,37.111634
END:VEVENT
BEGIN:VEVENT
DTSTART;TZID=America/Denver:20250429T170000
DTEND;TZID=America/Denver:20250429T180000
DTSTAMP:20260424T014254
CREATED:20250330T065507Z
LAST-MODIFIED:20250416T102128Z
UID:10006133-1745946000-1745949600@dev.utahrecovers.org
SUMMARY:Veterans Support Group (In person)
DESCRIPTION:
URL:https://dev.utahrecovers.org/meeting/veterans-support-group-in-person-45/
LOCATION:Utah Support Advocates for Recovery Awareness – USARA\, 180 E 2100 S #100\, Salt Lake City\, UT 84115\, USA\, SLC RCC-1-Suite 100-Suite 100 Group Room (50)
CATEGORIES:Salt Lake Recovery Community Center
END:VEVENT
BEGIN:VEVENT
DTSTART;TZID=America/Denver:20250429T170000
DTEND;TZID=America/Denver:20250429T183000
DTSTAMP:20260424T014254
CREATED:20250330T065507Z
LAST-MODIFIED:20250416T102128Z
UID:10006132-1745946000-1745951400@dev.utahrecovers.org
SUMMARY:Community Ear Acudetox Clinic (In person)
DESCRIPTION:
URL:https://dev.utahrecovers.org/meeting/community-ear-acudetox-clinic-in-person-46/
LOCATION:Utah Support Advocates for Recovery Awareness – USARA\, 180 E 2100 S #100\, Salt Lake City\, UT 84115\, USA\, SLC RCC-2-Suite 205-Suite 205 Conference Room (18)
CATEGORIES:Salt Lake Recovery Community Center
END:VEVENT
BEGIN:VEVENT
DTSTART;TZID=America/Denver:20250429T170000
DTEND;TZID=America/Denver:20250429T183000
DTSTAMP:20260424T014254
CREATED:20250330T232049Z
LAST-MODIFIED:20250416T234122Z
UID:10006141-1745946000-1745951400@dev.utahrecovers.org
SUMMARY:Active Recovery (In Person)
DESCRIPTION:
URL:https://dev.utahrecovers.org/meeting/active-recovery-in-person-89/
LOCATION:Utah Support Advocates for Recovery Awareness – USARA – Moab\, 23 S 100 W\, Moab\, UT\, United States
CATEGORIES:Moab Recovery Community Center
GEO:38.57309;-109.552616
X-APPLE-STRUCTURED-LOCATION;VALUE=URI;X-ADDRESS=Utah Support Advocates for Recovery Awareness – USARA – Moab 23 S 100 W Moab UT United States;X-APPLE-RADIUS=500;X-TITLE=23 S 100 W:geo:-109.552616,38.57309
END:VEVENT
BEGIN:VEVENT
DTSTART;TZID=America/Denver:20250429T180000
DTEND;TZID=America/Denver:20250429T190000
DTSTAMP:20260424T014254
CREATED:20250331T015249Z
LAST-MODIFIED:20250417T024122Z
UID:10006142-1745949600-1745953200@dev.utahrecovers.org
SUMMARY:Step Sisters AA Meeting (In person)
DESCRIPTION:Women’s Group
URL:https://dev.utahrecovers.org/meeting/step-sisters-aa-meeting-in-person-48/
LOCATION:Utah Support Advocates for Recovery Awareness – USARA – Price\, 91 E Main St\, Price\, UT\, United States
CATEGORIES:Price Recovery Community Center
GEO:39.348812;-110.851077
X-APPLE-STRUCTURED-LOCATION;VALUE=URI;X-ADDRESS=Utah Support Advocates for Recovery Awareness – USARA – Price 91 E Main St Price UT United States;X-APPLE-RADIUS=500;X-TITLE=91 E Main St:geo:-110.851077,39.348812
END:VEVENT
BEGIN:VEVENT
DTSTART;TZID=America/Denver:20250429T180000
DTEND;TZID=America/Denver:20250429T190000
DTSTAMP:20260424T014254
CREATED:20250331T192131Z
LAST-MODIFIED:20250416T202035Z
UID:10006154-1745949600-1745953200@dev.utahrecovers.org
SUMMARY:Living the Steps NA (In person)
DESCRIPTION:
URL:https://dev.utahrecovers.org/meeting/living-the-steps-na-in-person-48/
LOCATION:Utah Support Advocates for Recovery Awareness – USARA – St. George\, 113 E 200 N\, Saint George\, UT\, United States
CATEGORIES:St George Recovery Community Center
GEO:37.111634;-113.581023
X-APPLE-STRUCTURED-LOCATION;VALUE=URI;X-ADDRESS=Utah Support Advocates for Recovery Awareness – USARA – St. George 113 E 200 N Saint George UT United States;X-APPLE-RADIUS=500;X-TITLE=113 E 200 N:geo:-113.581023,37.111634
END:VEVENT
BEGIN:VEVENT
DTSTART;TZID=America/Denver:20250429T180000
DTEND;TZID=America/Denver:20250429T193000
DTSTAMP:20260424T014254
CREATED:20250331T065437Z
LAST-MODIFIED:20250416T102128Z
UID:10006144-1745949600-1745955000@dev.utahrecovers.org
SUMMARY:Hopeful Changes Women's Group (In person)
DESCRIPTION:Contacts \n\nMeg Kisselburg\n\ncell: (801) 652-4840\nemail: megk19@gmail.com
URL:https://dev.utahrecovers.org/meeting/hopeful-changes-womens-group-in-person-46/
LOCATION:Utah Support Advocates for Recovery Awareness – USARA\, 180 E 2100 S #100\, Salt Lake City\, UT 84115\, USA\, SLC RCC-1-Suite 100-Suite 100 Group Room (50)
CATEGORIES:Salt Lake Recovery Community Center
END:VEVENT
BEGIN:VEVENT
DTSTART;TZID=America/Denver:20250429T180000
DTEND;TZID=America/Denver:20250429T193000
DTSTAMP:20260424T014254
CREATED:20250331T092224Z
LAST-MODIFIED:20250416T114209Z
UID:10006147-1745949600-1745955000@dev.utahrecovers.org
SUMMARY:CRAFT Family Support Group (Virtual)
DESCRIPTION:
URL:https://dev.utahrecovers.org/meeting/craft-family-support-group-virtual-134/
LOCATION:https://us02web.zoom.us/j/86950545911?pwd=OFZGMlFiTWVkcHp2Yi8yQmVmSWhyUT09
CATEGORIES:Virtual Meetings
END:VEVENT
BEGIN:VEVENT
DTSTART;TZID=America/Denver:20250429T183000
DTEND;TZID=America/Denver:20250429T193000
DTSTAMP:20260424T014254
CREATED:20250331T095247Z
LAST-MODIFIED:20250416T105223Z
UID:10006152-1745951400-1745955000@dev.utahrecovers.org
SUMMARY:Crystal Meth Anonymous (In person)
DESCRIPTION:
URL:https://dev.utahrecovers.org/meeting/crystal-meth-anonymous-in-person-48/
LOCATION:Utah Support Advocates for Recovery Awareness – USARA – Ogden\, 893 24th St\, Ogden\, UT\, United States
CATEGORIES:Ogden Recovery Community Center
GEO:41.222498;-111.956726
X-APPLE-STRUCTURED-LOCATION;VALUE=URI;X-ADDRESS=Utah Support Advocates for Recovery Awareness – USARA – Ogden 893 24th St Ogden UT United States;X-APPLE-RADIUS=500;X-TITLE=893 24th St:geo:-111.956726,41.222498
END:VEVENT
BEGIN:VEVENT
DTSTART;TZID=America/Denver:20250429T183000
DTEND;TZID=America/Denver:20250429T193000
DTSTAMP:20260424T014254
CREATED:20250401T072243Z
LAST-MODIFIED:20250416T102128Z
UID:10006165-1745951400-1745955000@dev.utahrecovers.org
SUMMARY:27 Links Re-Entry Men’s Support Group (In person)
DESCRIPTION:
URL:https://dev.utahrecovers.org/meeting/27-links-re-entry-mens-support-group-in-person-4/
LOCATION:Utah Support Advocates for Recovery Awareness – USARA\, 180 E 2100 S #100\, Salt Lake City\, UT 84115\, USA\, SLC RCC-2-Suite 203-Suite 203 Group Room (40)
CATEGORIES:Salt Lake Recovery Community Center
END:VEVENT
BEGIN:VEVENT
DTSTART;TZID=America/Denver:20250429T190000
DTEND;TZID=America/Denver:20250429T203000
DTSTAMP:20260424T014254
CREATED:20250331T065449Z
LAST-MODIFIED:20250416T102128Z
UID:10006145-1745953200-1745958600@dev.utahrecovers.org
SUMMARY:Support Group for Survivors of Suicide Loss
DESCRIPTION:Contacts \n\nLacee Mortensen\n\ncell: (435) 669-3389\nemail: lacee.n.m@gmail.com
URL:https://dev.utahrecovers.org/meeting/support-group-for-survivors-of-suicide-loss-10/
LOCATION:SLC RCC-2-Suite 205-Suite 205 Conference Room (18)
CATEGORIES:Salt Lake Recovery Community Center
END:VEVENT
BEGIN:VEVENT
DTSTART;TZID=America/Denver:20250429T190000
DTEND;TZID=America/Denver:20250429T203000
DTSTAMP:20260424T014254
CREATED:20250331T225224Z
LAST-MODIFIED:20250416T234109Z
UID:10006156-1745953200-1745958600@dev.utahrecovers.org
SUMMARY:CRAFT Family Support (In person)
DESCRIPTION:
URL:https://dev.utahrecovers.org/meeting/craft-family-support-in-person-99/
LOCATION:184 W 400 N\, Provo\, UT 84601\, USA\, Provo RCC-1-Suite B Group Room (30)
CATEGORIES:Provo Recovery Community Center
END:VEVENT
BEGIN:VEVENT
DTSTART;TZID=America/Denver:20250430T063000
DTEND;TZID=America/Denver:20250430T073000
DTSTAMP:20260424T014254
CREATED:20250331T092224Z
LAST-MODIFIED:20250502T070934Z
UID:10006148-1745994600-1745998200@dev.utahrecovers.org
SUMMARY:MAT Recovery Support Group (#Virtual)
DESCRIPTION:Contacts
URL:https://dev.utahrecovers.org/meeting/mat-recovery-support-group-virtual-48/
LOCATION:https://us02web.zoom.us/j/81392387071?pwd=VkVkQ21GUXB6NEpsbTNmT3c4cytVZz09
CATEGORIES:Virtual Meetings
END:VEVENT
BEGIN:VEVENT
DTSTART;TZID=America/Denver:20250430T093000
DTEND;TZID=America/Denver:20250430T103000
DTSTAMP:20260424T014254
CREATED:20250331T092224Z
LAST-MODIFIED:20250416T114223Z
UID:10006149-1746005400-1746009000@dev.utahrecovers.org
SUMMARY:Empowerment Exchange Book club (Hybrid - join online or in person)
DESCRIPTION:Join with Google Meet: https://meet.google.com/gku-iniz-fggOr dial: (US) +1 252-656-5357 PIN: 235894205#More phone numbers: https://tel.meet/gku-iniz-fgg?pin=5721326304142&hs=7 \nLearn more about Meet at: https://support.google.com/a/users/answer/9282720
URL:https://dev.utahrecovers.org/meeting/empowerment-exchange-book-club-hybrid-join-online-or-in-person-38/
LOCATION:Utah Support Advocates for Recovery Awareness – USARA – Moab\, 23 S 100 W\, Moab\, UT\, United States
CATEGORIES:Virtual Meetings
GEO:38.57309;-109.552616
X-APPLE-STRUCTURED-LOCATION;VALUE=URI;X-ADDRESS=Utah Support Advocates for Recovery Awareness – USARA – Moab 23 S 100 W Moab UT United States;X-APPLE-RADIUS=500;X-TITLE=23 S 100 W:geo:-109.552616,38.57309
END:VEVENT
BEGIN:VEVENT
DTSTART;TZID=America/Denver:20250430T093000
DTEND;TZID=America/Denver:20250430T103000
DTSTAMP:20260424T014254
CREATED:20250331T092224Z
LAST-MODIFIED:20250416T114223Z
UID:10006150-1746005400-1746009000@dev.utahrecovers.org
SUMMARY:Coffee & Recovery - Ogden (Hybrid - join virtually or in person!)
DESCRIPTION:Join Zoom Meetinghttps://us02web.zoom.us/j/84527707707?pwd=pnsLRCwODPuOrO4Q3UnBjhYj64BvD2.1 (ID: 84527707707\, passcode: 642553) \nJoin by phone(US) +1 564-217-2000 (passcode: 642553) \nJoining instructions: https://www.google.com/url?q=https://applications.zoom.us/addon/invitation/detail?meetingUuid%3D8hALuLkfSs6VDECA569gnw%253D%253D%26signature%3D7b5ca8bc518361ef1ef93b4945bc4e702133503300216e7889ecc5c342f75ba0%26v%3D1&sa=D&source=calendar&usg=AOvVaw1HemuJZ5yvZTZ721h85OAP \nMeeting host: patrick.cox@myusara.com \nJoin Zoom Meeting: https://us02web.zoom.us/j/84527707707?pwd=pnsLRCwODPuOrO4Q3UnBjhYj64BvD2.1
URL:https://dev.utahrecovers.org/meeting/coffee-recovery-ogden-hybrid-join-virtually-or-in-person-65/
LOCATION:Utah Support Advocates for Recovery Awareness – USARA – Ogden\, 893 24th St\, Ogden\, UT\, United States
CATEGORIES:Virtual Meetings
GEO:41.222498;-111.956726
X-APPLE-STRUCTURED-LOCATION;VALUE=URI;X-ADDRESS=Utah Support Advocates for Recovery Awareness – USARA – Ogden 893 24th St Ogden UT United States;X-APPLE-RADIUS=500;X-TITLE=893 24th St:geo:-111.956726,41.222498
END:VEVENT
BEGIN:VEVENT
DTSTART;TZID=America/Denver:20250430T093000
DTEND;TZID=America/Denver:20250430T103000
DTSTAMP:20260424T014254
CREATED:20250331T095301Z
LAST-MODIFIED:20250416T105223Z
UID:10006153-1746005400-1746009000@dev.utahrecovers.org
SUMMARY:Coffee & Recovery - Ogden (Hybrid - join virtually or in person!)
DESCRIPTION:Join Zoom Meetinghttps://us02web.zoom.us/j/84527707707?pwd=pnsLRCwODPuOrO4Q3UnBjhYj64BvD2.1 (ID: 84527707707\, passcode: 642553) \nJoin by phone(US) +1 564-217-2000 (passcode: 642553) \nJoining instructions: https://www.google.com/url?q=https://applications.zoom.us/addon/invitation/detail?meetingUuid%3D8hALuLkfSs6VDECA569gnw%253D%253D%26signature%3D7b5ca8bc518361ef1ef93b4945bc4e702133503300216e7889ecc5c342f75ba0%26v%3D1&sa=D&source=calendar&usg=AOvVaw1HemuJZ5yvZTZ721h85OAP \nMeeting host: patrick.cox@myusara.com \nJoin Zoom Meeting: https://us02web.zoom.us/j/84527707707?pwd=pnsLRCwODPuOrO4Q3UnBjhYj64BvD2.1
URL:https://dev.utahrecovers.org/meeting/coffee-recovery-ogden-hybrid-join-virtually-or-in-person-66/
LOCATION:UT
CATEGORIES:Ogden Recovery Community Center
END:VEVENT
BEGIN:VEVENT
DTSTART;TZID=America/Denver:20250430T093000
DTEND;TZID=America/Denver:20250430T103000
DTSTAMP:20260424T014254
CREATED:20250331T232049Z
LAST-MODIFIED:20250416T234122Z
UID:10006158-1746005400-1746009000@dev.utahrecovers.org
SUMMARY:Empowerment Exchange Book club (Hybrid - join online or in person)
DESCRIPTION:Join with Google Meet: https://meet.google.com/gku-iniz-fggOr dial: (US) +1 252-656-5357 PIN: 235894205#More phone numbers: https://tel.meet/gku-iniz-fgg?pin=5721326304142&hs=7 \nLearn more about Meet at: https://support.google.com/a/users/answer/9282720
URL:https://dev.utahrecovers.org/meeting/empowerment-exchange-book-club-hybrid-join-online-or-in-person-39/
LOCATION:Utah Support Advocates for Recovery Awareness – USARA – Moab\, 23 S 100 W\, Moab\, UT 84532\, USA\, Moab RCC-1-Group Room (20)
CATEGORIES:Moab Recovery Community Center
END:VEVENT
BEGIN:VEVENT
DTSTART;TZID=America/Denver:20250430T120000
DTEND;TZID=America/Denver:20250430T130000
DTSTAMP:20260424T014254
CREATED:20250331T015249Z
LAST-MODIFIED:20250417T024122Z
UID:10006143-1746014400-1746018000@dev.utahrecovers.org
SUMMARY:Wellness Wednesday (In person)
DESCRIPTION:
URL:https://dev.utahrecovers.org/meeting/wellness-wednesday-in-person-46/
LOCATION:Utah Support Advocates for Recovery Awareness – USARA – Price\, 91 E Main St\, Price\, UT\, United States
CATEGORIES:Price Recovery Community Center
GEO:39.348812;-110.851077
X-APPLE-STRUCTURED-LOCATION;VALUE=URI;X-ADDRESS=Utah Support Advocates for Recovery Awareness – USARA – Price 91 E Main St Price UT United States;X-APPLE-RADIUS=500;X-TITLE=91 E Main St:geo:-110.851077,39.348812
END:VEVENT
BEGIN:VEVENT
DTSTART;TZID=America/Denver:20250430T120000
DTEND;TZID=America/Denver:20250430T130000
DTSTAMP:20260424T014254
CREATED:20250331T065449Z
LAST-MODIFIED:20250416T102141Z
UID:10006146-1746014400-1746018000@dev.utahrecovers.org
SUMMARY:Recovery Dharma (Hybrid - join virtually or in person!)
DESCRIPTION:https://us02web.zoom.us/j/2361179850?pwd=NXhUUDNsUUpWYTNxdkhIOUcwNEhSUT09 \nContacts \n\nSteve Slater\n\nemail: slater.stevej@gmail.com
URL:https://dev.utahrecovers.org/meeting/recovery-dharma-hybrid-join-virtually-or-in-person-334/
LOCATION:Utah Support Advocates for Recovery Awareness – USARA\, 180 E 2100 S #100\, Salt Lake City\, UT 84115\, USA\, SLC RCC-1-Suite 100-Suite 100 Group Room (50)
CATEGORIES:Salt Lake Recovery Community Center
END:VEVENT
BEGIN:VEVENT
DTSTART;TZID=America/Denver:20250430T120000
DTEND;TZID=America/Denver:20250430T130000
DTSTAMP:20260424T014254
CREATED:20250331T092224Z
LAST-MODIFIED:20250416T114223Z
UID:10006151-1746014400-1746018000@dev.utahrecovers.org
SUMMARY:Recovery Dharma (Hybrid - join virtually or in person!)
DESCRIPTION:https://us02web.zoom.us/j/2361179850?pwd=NXhUUDNsUUpWYTNxdkhIOUcwNEhSUT09 \nContacts \n\nSteve\n\nemail: slater.stevej@gmail.com
URL:https://dev.utahrecovers.org/meeting/recovery-dharma-hybrid-join-virtually-or-in-person-335/
LOCATION:Utah Support Advocates for Recovery Awareness – USARA\, 180 E 2100 S\, Salt Lake City\, UT\, United States
CATEGORIES:Virtual Meetings
GEO:40.725365;-111.885934
X-APPLE-STRUCTURED-LOCATION;VALUE=URI;X-ADDRESS=Utah Support Advocates for Recovery Awareness – USARA 180 E 2100 S Salt Lake City UT United States;X-APPLE-RADIUS=500;X-TITLE=180 E 2100 S:geo:-111.885934,40.725365
END:VEVENT
BEGIN:VEVENT
DTSTART;TZID=America/Denver:20250430T120000
DTEND;TZID=America/Denver:20250430T130000
DTSTAMP:20260424T014254
CREATED:20250331T192132Z
LAST-MODIFIED:20250416T202035Z
UID:10006155-1746014400-1746018000@dev.utahrecovers.org
SUMMARY:AA Women's Meeting (In person)
DESCRIPTION:
URL:https://dev.utahrecovers.org/meeting/aa-womens-meeting-in-person-48/
LOCATION:Utah Support Advocates for Recovery Awareness – USARA – St. George\, 113 E 200 N\, Saint George\, UT\, United States
CATEGORIES:St George Recovery Community Center
GEO:37.111634;-113.581023
X-APPLE-STRUCTURED-LOCATION;VALUE=URI;X-ADDRESS=Utah Support Advocates for Recovery Awareness – USARA – St. George 113 E 200 N Saint George UT United States;X-APPLE-RADIUS=500;X-TITLE=113 E 200 N:geo:-113.581023,37.111634
END:VEVENT
BEGIN:VEVENT
DTSTART;TZID=America/Denver:20250430T120000
DTEND;TZID=America/Denver:20250430T130000
DTSTAMP:20260424T014254
CREATED:20250331T225236Z
LAST-MODIFIED:20250416T234109Z
UID:10006157-1746014400-1746018000@dev.utahrecovers.org
SUMMARY:Coffee and Recovery VIRTUAL
DESCRIPTION:Join with Google Meet: https://meet.google.com/gyf-tmsb-ikgOr dial: (US) +1 252-656-5154 PIN: 988388252#More phone numbers: https://tel.meet/gyf-tmsb-ikg?pin=7570382882570&hs=7 \nLearn more about Meet at: https://support.google.com/a/users/answer/9282720
URL:https://dev.utahrecovers.org/meeting/coffee-and-recovery-virtual-6/
LOCATION:UT
CATEGORIES:Provo Recovery Community Center
END:VEVENT
BEGIN:VEVENT
DTSTART;TZID=America/Denver:20250430T171500
DTEND;TZID=America/Denver:20250430T181500
DTSTAMP:20260424T014254
CREATED:20250331T232049Z
LAST-MODIFIED:20250416T234122Z
UID:10006159-1746033300-1746036900@dev.utahrecovers.org
SUMMARY:Yoga (In person @ Wellness Collective)
DESCRIPTION:
URL:https://dev.utahrecovers.org/meeting/yoga-in-person-wellness-collective-48/
LOCATION:Wellness Collective\, 76 S 100 W\, Moab\, UT\, United States
CATEGORIES:Moab Recovery Community Center
GEO:38.572151;-109.552761
X-APPLE-STRUCTURED-LOCATION;VALUE=URI;X-ADDRESS=Wellness Collective 76 S 100 W Moab UT United States;X-APPLE-RADIUS=500;X-TITLE=76 S 100 W:geo:-109.552761,38.572151
END:VEVENT
BEGIN:VEVENT
DTSTART;TZID=America/Denver:20250430T180000
DTEND;TZID=America/Denver:20250430T193000
DTSTAMP:20260424T014254
CREATED:20250401T072256Z
LAST-MODIFIED:20250416T102141Z
UID:10006168-1746036000-1746041400@dev.utahrecovers.org
SUMMARY:CRAFT Family Support (In person)
DESCRIPTION:
URL:https://dev.utahrecovers.org/meeting/craft-family-support-in-person-100/
LOCATION:Utah Support Advocates for Recovery Awareness – USARA\, 180 E 2100 S #100\, Salt Lake City\, UT 84115\, USA\, SLC RCC-1-Suite 100-Suite 100 Group Room (50)
CATEGORIES:Salt Lake Recovery Community Center
END:VEVENT
BEGIN:VEVENT
DTSTART;TZID=America/Denver:20250430T180000
DTEND;TZID=America/Denver:20250430T193000
DTSTAMP:20260424T014254
CREATED:20250401T072257Z
LAST-MODIFIED:20250416T102141Z
UID:10006169-1746036000-1746041400@dev.utahrecovers.org
SUMMARY:SMART Recovery (Hybrid - join virtually or in person!)
DESCRIPTION:https://meet.google.com/eqj-itap-ibd \nContacts \n\nDeano\n\ncell: (801) 648-5442
URL:https://dev.utahrecovers.org/meeting/smart-recovery-hybrid-join-virtually-or-in-person-184/
LOCATION:Utah Support Advocates for Recovery Awareness – USARA\, 180 E 2100 S #100\, Salt Lake City\, UT 84115\, USA\, SLC RCC-2-Suite 203-Suite 203 Group Room (40)
CATEGORIES:Salt Lake Recovery Community Center
END:VEVENT
END:VCALENDAR