BEGIN:VCALENDAR
VERSION:2.0
PRODID:-//USARA - Utah Recovers - ECPv6.15.18//NONSGML v1.0//EN
CALSCALE:GREGORIAN
METHOD:PUBLISH
X-WR-CALNAME:USARA - Utah Recovers
X-ORIGINAL-URL:https://dev.utahrecovers.org
X-WR-CALDESC:Events for USARA - Utah Recovers
REFRESH-INTERVAL;VALUE=DURATION:PT1H
X-Robots-Tag:noindex
X-PUBLISHED-TTL:PT1H
BEGIN:VTIMEZONE
TZID:America/Denver
BEGIN:DAYLIGHT
TZOFFSETFROM:-0700
TZOFFSETTO:-0600
TZNAME:MDT
DTSTART:20240310T090000
END:DAYLIGHT
BEGIN:STANDARD
TZOFFSETFROM:-0600
TZOFFSETTO:-0700
TZNAME:MST
DTSTART:20241103T080000
END:STANDARD
BEGIN:DAYLIGHT
TZOFFSETFROM:-0700
TZOFFSETTO:-0600
TZNAME:MDT
DTSTART:20250309T090000
END:DAYLIGHT
BEGIN:STANDARD
TZOFFSETFROM:-0600
TZOFFSETTO:-0700
TZNAME:MST
DTSTART:20251102T080000
END:STANDARD
BEGIN:DAYLIGHT
TZOFFSETFROM:-0700
TZOFFSETTO:-0600
TZNAME:MDT
DTSTART:20260308T090000
END:DAYLIGHT
BEGIN:STANDARD
TZOFFSETFROM:-0600
TZOFFSETTO:-0700
TZNAME:MST
DTSTART:20261101T080000
END:STANDARD
END:VTIMEZONE
BEGIN:VEVENT
DTSTART;TZID=America/Denver:20250507T180000
DTEND;TZID=America/Denver:20250507T193000
DTSTAMP:20260425T043418
CREATED:20250408T102222Z
LAST-MODIFIED:20250416T114256Z
UID:10006272-1746640800-1746646200@dev.utahrecovers.org
SUMMARY:CRAFT Family Support Group (Virtual)
DESCRIPTION:
URL:https://dev.utahrecovers.org/meeting/craft-family-support-group-virtual-138/
LOCATION:https://us02web.zoom.us/j/86950545911?pwd=OFZGMlFiTWVkcHp2Yi8yQmVmSWhyUT09
CATEGORIES:Virtual Meetings
END:VEVENT
BEGIN:VEVENT
DTSTART;TZID=America/Denver:20250507T180000
DTEND;TZID=America/Denver:20250507T193000
DTSTAMP:20260425T043418
CREATED:20250408T102222Z
LAST-MODIFIED:20250416T114308Z
UID:10006273-1746640800-1746646200@dev.utahrecovers.org
SUMMARY:SMART Recovery (Hybrid - join virtually or in person!)
DESCRIPTION:https://meet.google.com/eqj-itap-ibd \nContacts \n\nDeano\n\ncell: (801) 648-5442
URL:https://dev.utahrecovers.org/meeting/smart-recovery-hybrid-join-virtually-or-in-person-189/
LOCATION:Utah Support Advocates for Recovery Awareness – USARA\, 180 E 2100 S\, Salt Lake City\, UT\, United States
CATEGORIES:Virtual Meetings
GEO:40.725365;-111.885934
X-APPLE-STRUCTURED-LOCATION;VALUE=URI;X-ADDRESS=Utah Support Advocates for Recovery Awareness – USARA 180 E 2100 S Salt Lake City UT United States;X-APPLE-RADIUS=500;X-TITLE=180 E 2100 S:geo:-111.885934,40.725365
END:VEVENT
BEGIN:VEVENT
DTSTART;TZID=America/Denver:20250507T180000
DTEND;TZID=America/Denver:20250507T193000
DTSTAMP:20260425T043418
CREATED:20250408T092300Z
LAST-MODIFIED:20250416T102225Z
UID:10006264-1746640800-1746646200@dev.utahrecovers.org
SUMMARY:SMART Recovery (Hybrid - join virtually or in person!)
DESCRIPTION:https://meet.google.com/eqj-itap-ibd \nContacts \n\nDeano\n\ncell: (801) 648-5442
URL:https://dev.utahrecovers.org/meeting/smart-recovery-hybrid-join-virtually-or-in-person-188/
LOCATION:Utah Support Advocates for Recovery Awareness – USARA\, 180 E 2100 S #100\, Salt Lake City\, UT 84115\, USA\, SLC RCC-2-Suite 203-Suite 203 Group Room (40)
CATEGORIES:Salt Lake Recovery Community Center
END:VEVENT
BEGIN:VEVENT
DTSTART;TZID=America/Denver:20250507T180000
DTEND;TZID=America/Denver:20250507T193000
DTSTAMP:20260425T043418
CREATED:20250408T092300Z
LAST-MODIFIED:20250416T102225Z
UID:10006265-1746640800-1746646200@dev.utahrecovers.org
SUMMARY:CRAFT Family Support (In person)
DESCRIPTION:
URL:https://dev.utahrecovers.org/meeting/craft-family-support-in-person-102/
LOCATION:Utah Support Advocates for Recovery Awareness – USARA\, 180 E 2100 S #100\, Salt Lake City\, UT 84115\, USA\, SLC RCC-1-Suite 100-Suite 100 Group Room (50)
CATEGORIES:Salt Lake Recovery Community Center
END:VEVENT
BEGIN:VEVENT
DTSTART;TZID=America/Denver:20250507T171500
DTEND;TZID=America/Denver:20250507T181500
DTSTAMP:20260425T043418
CREATED:20250407T232114Z
LAST-MODIFIED:20250416T234136Z
UID:10006261-1746638100-1746641700@dev.utahrecovers.org
SUMMARY:Yoga (In person @ Wellness Collective)
DESCRIPTION:
URL:https://dev.utahrecovers.org/meeting/yoga-in-person-wellness-collective-49/
LOCATION:Wellness Collective\, 76 S 100 W\, Moab\, UT\, United States
CATEGORIES:Moab Recovery Community Center
GEO:38.572151;-109.552761
X-APPLE-STRUCTURED-LOCATION;VALUE=URI;X-ADDRESS=Wellness Collective 76 S 100 W Moab UT United States;X-APPLE-RADIUS=500;X-TITLE=76 S 100 W:geo:-109.552761,38.572151
END:VEVENT
BEGIN:VEVENT
DTSTART;TZID=America/Denver:20250507T120000
DTEND;TZID=America/Denver:20250507T130000
DTSTAMP:20260425T043418
CREATED:20250408T225222Z
LAST-MODIFIED:20250416T234122Z
UID:10006285-1746619200-1746622800@dev.utahrecovers.org
SUMMARY:Coffee and Recovery VIRTUAL
DESCRIPTION:Join with Google Meet: https://meet.google.com/gyf-tmsb-ikgOr dial: (US) +1 252-656-5154 PIN: 988388252#More phone numbers: https://tel.meet/gyf-tmsb-ikg?pin=7570382882570&hs=7 \nLearn more about Meet at: https://support.google.com/a/users/answer/9282720
URL:https://dev.utahrecovers.org/meeting/coffee-and-recovery-virtual-7/
CATEGORIES:Provo Recovery Community Center
END:VEVENT
BEGIN:VEVENT
DTSTART;TZID=America/Denver:20250507T120000
DTEND;TZID=America/Denver:20250507T130000
DTSTAMP:20260425T043418
CREATED:20250407T194231Z
LAST-MODIFIED:20250416T202102Z
UID:10006259-1746619200-1746622800@dev.utahrecovers.org
SUMMARY:AA Women's Meeting (In person)
DESCRIPTION:
URL:https://dev.utahrecovers.org/meeting/aa-womens-meeting-in-person-49/
LOCATION:Utah Support Advocates for Recovery Awareness – USARA – St. George\, 113 E 200 N\, Saint George\, UT\, United States
CATEGORIES:St George Recovery Community Center
GEO:37.111634;-113.581023
X-APPLE-STRUCTURED-LOCATION;VALUE=URI;X-ADDRESS=Utah Support Advocates for Recovery Awareness – USARA – St. George 113 E 200 N Saint George UT United States;X-APPLE-RADIUS=500;X-TITLE=113 E 200 N:geo:-113.581023,37.111634
END:VEVENT
BEGIN:VEVENT
DTSTART;TZID=America/Denver:20250507T120000
DTEND;TZID=America/Denver:20250507T130000
DTSTAMP:20260425T043418
CREATED:20250407T095437Z
LAST-MODIFIED:20250416T114256Z
UID:10006255-1746619200-1746622800@dev.utahrecovers.org
SUMMARY:Recovery Dharma (Hybrid - join virtually or in person!)
DESCRIPTION:https://us02web.zoom.us/j/2361179850?pwd=NXhUUDNsUUpWYTNxdkhIOUcwNEhSUT09 \nContacts \n\nSteve\n\nemail: slater.stevej@gmail.com
URL:https://dev.utahrecovers.org/meeting/recovery-dharma-hybrid-join-virtually-or-in-person-343/
LOCATION:Utah Support Advocates for Recovery Awareness – USARA\, 180 E 2100 S\, Salt Lake City\, UT\, United States
CATEGORIES:Virtual Meetings
GEO:40.725365;-111.885934
X-APPLE-STRUCTURED-LOCATION;VALUE=URI;X-ADDRESS=Utah Support Advocates for Recovery Awareness – USARA 180 E 2100 S Salt Lake City UT United States;X-APPLE-RADIUS=500;X-TITLE=180 E 2100 S:geo:-111.885934,40.725365
END:VEVENT
BEGIN:VEVENT
DTSTART;TZID=America/Denver:20250507T120000
DTEND;TZID=America/Denver:20250507T130000
DTSTAMP:20260425T043418
CREATED:20250407T085517Z
LAST-MODIFIED:20250416T102225Z
UID:10006250-1746619200-1746622800@dev.utahrecovers.org
SUMMARY:Recovery Dharma (Hybrid - join virtually or in person!)
DESCRIPTION:https://us02web.zoom.us/j/2361179850?pwd=NXhUUDNsUUpWYTNxdkhIOUcwNEhSUT09 \nContacts \n\nSteve Slater\n\nemail: slater.stevej@gmail.com
URL:https://dev.utahrecovers.org/meeting/recovery-dharma-hybrid-join-virtually-or-in-person-342/
LOCATION:Utah Support Advocates for Recovery Awareness – USARA\, 180 E 2100 S #100\, Salt Lake City\, UT 84115\, USA\, SLC RCC-1-Suite 100-Suite 100 Group Room (50)
CATEGORIES:Salt Lake Recovery Community Center
END:VEVENT
BEGIN:VEVENT
DTSTART;TZID=America/Denver:20250507T120000
DTEND;TZID=America/Denver:20250507T130000
DTSTAMP:20260425T043418
CREATED:20250407T022101Z
LAST-MODIFIED:20250417T024136Z
UID:10006247-1746619200-1746622800@dev.utahrecovers.org
SUMMARY:Wellness Wednesday (In person)
DESCRIPTION:
URL:https://dev.utahrecovers.org/meeting/wellness-wednesday-in-person-47/
LOCATION:Utah Support Advocates for Recovery Awareness – USARA – Price\, 91 E Main St\, Price\, UT\, United States
CATEGORIES:Price Recovery Community Center
GEO:39.348812;-110.851077
X-APPLE-STRUCTURED-LOCATION;VALUE=URI;X-ADDRESS=Utah Support Advocates for Recovery Awareness – USARA – Price 91 E Main St Price UT United States;X-APPLE-RADIUS=500;X-TITLE=91 E Main St:geo:-110.851077,39.348812
END:VEVENT
BEGIN:VEVENT
DTSTART;TZID=America/Denver:20250507T093000
DTEND;TZID=America/Denver:20250507T103000
DTSTAMP:20260425T043418
CREATED:20250407T232114Z
LAST-MODIFIED:20250416T234136Z
UID:10006260-1746610200-1746613800@dev.utahrecovers.org
SUMMARY:Empowerment Exchange Book club (Hybrid - join online or in person)
DESCRIPTION:Join with Google Meet: https://meet.google.com/gku-iniz-fggOr dial: (US) +1 252-656-5357 PIN: 235894205#More phone numbers: https://tel.meet/gku-iniz-fgg?pin=5721326304142&hs=7 \nLearn more about Meet at: https://support.google.com/a/users/answer/9282720
URL:https://dev.utahrecovers.org/meeting/empowerment-exchange-book-club-hybrid-join-online-or-in-person-41/
LOCATION:Utah Support Advocates for Recovery Awareness – USARA – Moab\, 23 S 100 W\, Moab\, UT 84532\, USA\, Moab RCC-1-Group Room (20)
CATEGORIES:Moab Recovery Community Center
END:VEVENT
BEGIN:VEVENT
DTSTART;TZID=America/Denver:20250507T093000
DTEND;TZID=America/Denver:20250507T103000
DTSTAMP:20260425T043418
CREATED:20250407T104207Z
LAST-MODIFIED:20250416T105238Z
UID:10006257-1746610200-1746613800@dev.utahrecovers.org
SUMMARY:Coffee & Recovery - Ogden (Hybrid - join virtually or in person!)
DESCRIPTION:Join Zoom Meetinghttps://us02web.zoom.us/j/84527707707?pwd=pnsLRCwODPuOrO4Q3UnBjhYj64BvD2.1 (ID: 84527707707\, passcode: 642553) \nJoin by phone(US) +1 564-217-2000 (passcode: 642553) \nJoining instructions: https://www.google.com/url?q=https://applications.zoom.us/addon/invitation/detail?meetingUuid%3D8hALuLkfSs6VDECA569gnw%253D%253D%26signature%3D7b5ca8bc518361ef1ef93b4945bc4e702133503300216e7889ecc5c342f75ba0%26v%3D1&sa=D&source=calendar&usg=AOvVaw1HemuJZ5yvZTZ721h85OAP \nMeeting host: patrick.cox@myusara.com \nJoin Zoom Meeting: https://us02web.zoom.us/j/84527707707?pwd=pnsLRCwODPuOrO4Q3UnBjhYj64BvD2.1
URL:https://dev.utahrecovers.org/meeting/coffee-recovery-ogden-hybrid-join-virtually-or-in-person-68/
CATEGORIES:Ogden Recovery Community Center
END:VEVENT
BEGIN:VEVENT
DTSTART;TZID=America/Denver:20250507T093000
DTEND;TZID=America/Denver:20250507T103000
DTSTAMP:20260425T043418
CREATED:20250407T095437Z
LAST-MODIFIED:20250416T114256Z
UID:10006253-1746610200-1746613800@dev.utahrecovers.org
SUMMARY:Empowerment Exchange Book club (Hybrid - join online or in person)
DESCRIPTION:Join with Google Meet: https://meet.google.com/gku-iniz-fggOr dial: (US) +1 252-656-5357 PIN: 235894205#More phone numbers: https://tel.meet/gku-iniz-fgg?pin=5721326304142&hs=7 \nLearn more about Meet at: https://support.google.com/a/users/answer/9282720
URL:https://dev.utahrecovers.org/meeting/empowerment-exchange-book-club-hybrid-join-online-or-in-person-40/
LOCATION:Utah Support Advocates for Recovery Awareness – USARA – Moab\, 23 S 100 W\, Moab\, UT\, United States
CATEGORIES:Virtual Meetings
GEO:38.57309;-109.552616
X-APPLE-STRUCTURED-LOCATION;VALUE=URI;X-ADDRESS=Utah Support Advocates for Recovery Awareness – USARA – Moab 23 S 100 W Moab UT United States;X-APPLE-RADIUS=500;X-TITLE=23 S 100 W:geo:-109.552616,38.57309
END:VEVENT
BEGIN:VEVENT
DTSTART;TZID=America/Denver:20250507T093000
DTEND;TZID=America/Denver:20250507T103000
DTSTAMP:20260425T043418
CREATED:20250407T095437Z
LAST-MODIFIED:20250416T114255Z
UID:10006254-1746610200-1746613800@dev.utahrecovers.org
SUMMARY:Coffee & Recovery - Ogden (Hybrid - join virtually or in person!)
DESCRIPTION:Join Zoom Meetinghttps://us02web.zoom.us/j/84527707707?pwd=pnsLRCwODPuOrO4Q3UnBjhYj64BvD2.1 (ID: 84527707707\, passcode: 642553) \nJoin by phone(US) +1 564-217-2000 (passcode: 642553) \nJoining instructions: https://www.google.com/url?q=https://applications.zoom.us/addon/invitation/detail?meetingUuid%3D8hALuLkfSs6VDECA569gnw%253D%253D%26signature%3D7b5ca8bc518361ef1ef93b4945bc4e702133503300216e7889ecc5c342f75ba0%26v%3D1&sa=D&source=calendar&usg=AOvVaw1HemuJZ5yvZTZ721h85OAP \nMeeting host: patrick.cox@myusara.com \nJoin Zoom Meeting: https://us02web.zoom.us/j/84527707707?pwd=pnsLRCwODPuOrO4Q3UnBjhYj64BvD2.1
URL:https://dev.utahrecovers.org/meeting/coffee-recovery-ogden-hybrid-join-virtually-or-in-person-67/
LOCATION:Utah Support Advocates for Recovery Awareness – USARA – Ogden\, 893 24th St\, Ogden\, UT\, United States
CATEGORIES:Virtual Meetings
GEO:41.222498;-111.956726
X-APPLE-STRUCTURED-LOCATION;VALUE=URI;X-ADDRESS=Utah Support Advocates for Recovery Awareness – USARA – Ogden 893 24th St Ogden UT United States;X-APPLE-RADIUS=500;X-TITLE=893 24th St:geo:-111.956726,41.222498
END:VEVENT
BEGIN:VEVENT
DTSTART;TZID=America/Denver:20250507T063000
DTEND;TZID=America/Denver:20250507T073000
DTSTAMP:20260425T043418
CREATED:20250407T095437Z
LAST-MODIFIED:20250507T160347Z
UID:10006252-1746599400-1746603000@dev.utahrecovers.org
SUMMARY:MAT Recovery Support Group (#Virtual)
DESCRIPTION:Contacts
URL:https://dev.utahrecovers.org/meeting/mat-recovery-support-group-virtual-49/
LOCATION:https://us02web.zoom.us/j/81392387071?pwd=VkVkQ21GUXB6NEpsbTNmT3c4cytVZz09
CATEGORIES:Virtual Meetings
END:VEVENT
BEGIN:VEVENT
DTSTART;TZID=America/Denver:20250506T190000
DTEND;TZID=America/Denver:20250506T203000
DTSTAMP:20260425T043418
CREATED:20250408T225222Z
LAST-MODIFIED:20250416T234122Z
UID:10006284-1746558000-1746563400@dev.utahrecovers.org
SUMMARY:CRAFT Family Support (In person)
DESCRIPTION:
URL:https://dev.utahrecovers.org/meeting/craft-family-support-in-person-104/
LOCATION:184 W 400 N\, Provo\, UT 84601\, USA\, Provo RCC-1-Suite B Group Room (30)
CATEGORIES:Provo Recovery Community Center
END:VEVENT
BEGIN:VEVENT
DTSTART;TZID=America/Denver:20250506T183000
DTEND;TZID=America/Denver:20250506T193000
DTSTAMP:20260425T043418
CREATED:20250407T104207Z
LAST-MODIFIED:20250416T105238Z
UID:10006256-1746556200-1746559800@dev.utahrecovers.org
SUMMARY:Crystal Meth Anonymous (In person)
DESCRIPTION:
URL:https://dev.utahrecovers.org/meeting/crystal-meth-anonymous-in-person-49/
LOCATION:Utah Support Advocates for Recovery Awareness – USARA – Ogden\, 893 24th St\, Ogden\, UT\, United States
CATEGORIES:Ogden Recovery Community Center
GEO:41.222498;-111.956726
X-APPLE-STRUCTURED-LOCATION;VALUE=URI;X-ADDRESS=Utah Support Advocates for Recovery Awareness – USARA – Ogden 893 24th St Ogden UT United States;X-APPLE-RADIUS=500;X-TITLE=893 24th St:geo:-111.956726,41.222498
END:VEVENT
BEGIN:VEVENT
DTSTART;TZID=America/Denver:20250506T183000
DTEND;TZID=America/Denver:20250506T193000
DTSTAMP:20260425T043418
CREATED:20250407T085517Z
LAST-MODIFIED:20250416T102210Z
UID:10006249-1746556200-1746559800@dev.utahrecovers.org
SUMMARY:27 Links Re-Entry Men’s Support Group (In person)
DESCRIPTION:
URL:https://dev.utahrecovers.org/meeting/27-links-re-entry-mens-support-group-in-person-5/
LOCATION:Utah Support Advocates for Recovery Awareness – USARA\, 180 E 2100 S #100\, Salt Lake City\, UT 84115\, USA\, SLC RCC-2-Suite 203-Suite 203 Group Room (40)
CATEGORIES:Salt Lake Recovery Community Center
END:VEVENT
BEGIN:VEVENT
DTSTART;TZID=America/Denver:20250506T180000
DTEND;TZID=America/Denver:20250506T193000
DTSTAMP:20260425T043418
CREATED:20250407T095437Z
LAST-MODIFIED:20250416T114255Z
UID:10006251-1746554400-1746559800@dev.utahrecovers.org
SUMMARY:CRAFT Family Support Group (Virtual)
DESCRIPTION:
URL:https://dev.utahrecovers.org/meeting/craft-family-support-group-virtual-137/
LOCATION:https://us02web.zoom.us/j/86950545911?pwd=OFZGMlFiTWVkcHp2Yi8yQmVmSWhyUT09
CATEGORIES:Virtual Meetings
END:VEVENT
BEGIN:VEVENT
DTSTART;TZID=America/Denver:20250506T180000
DTEND;TZID=America/Denver:20250506T193000
DTSTAMP:20260425T043418
CREATED:20250407T085517Z
LAST-MODIFIED:20250416T102210Z
UID:10006248-1746554400-1746559800@dev.utahrecovers.org
SUMMARY:Hopeful Changes Women's Group (In person)
DESCRIPTION:Contacts \n\nMeg Kisselburg\n\ncell: (801) 652-4840\nemail: megk19@gmail.com
URL:https://dev.utahrecovers.org/meeting/hopeful-changes-womens-group-in-person-47/
LOCATION:Utah Support Advocates for Recovery Awareness – USARA\, 180 E 2100 S #100\, Salt Lake City\, UT 84115\, USA\, SLC RCC-1-Suite 100-Suite 100 Group Room (50)
CATEGORIES:Salt Lake Recovery Community Center
END:VEVENT
BEGIN:VEVENT
DTSTART;TZID=America/Denver:20250506T180000
DTEND;TZID=America/Denver:20250506T190000
DTSTAMP:20260425T043418
CREATED:20250407T194231Z
LAST-MODIFIED:20250416T202102Z
UID:10006258-1746554400-1746558000@dev.utahrecovers.org
SUMMARY:Living the Steps NA (In person)
DESCRIPTION:
URL:https://dev.utahrecovers.org/meeting/living-the-steps-na-in-person-49/
LOCATION:Utah Support Advocates for Recovery Awareness – USARA – St. George\, 113 E 200 N\, Saint George\, UT\, United States
CATEGORIES:St George Recovery Community Center
GEO:37.111634;-113.581023
X-APPLE-STRUCTURED-LOCATION;VALUE=URI;X-ADDRESS=Utah Support Advocates for Recovery Awareness – USARA – St. George 113 E 200 N Saint George UT United States;X-APPLE-RADIUS=500;X-TITLE=113 E 200 N:geo:-113.581023,37.111634
END:VEVENT
BEGIN:VEVENT
DTSTART;TZID=America/Denver:20250506T180000
DTEND;TZID=America/Denver:20250506T190000
DTSTAMP:20260425T043418
CREATED:20250407T022100Z
LAST-MODIFIED:20250417T024136Z
UID:10006246-1746554400-1746558000@dev.utahrecovers.org
SUMMARY:Step Sisters AA Meeting (In person)
DESCRIPTION:Women’s Group
URL:https://dev.utahrecovers.org/meeting/step-sisters-aa-meeting-in-person-49/
LOCATION:Utah Support Advocates for Recovery Awareness – USARA – Price\, 91 E Main St\, Price\, UT\, United States
CATEGORIES:Price Recovery Community Center
GEO:39.348812;-110.851077
X-APPLE-STRUCTURED-LOCATION;VALUE=URI;X-ADDRESS=Utah Support Advocates for Recovery Awareness – USARA – Price 91 E Main St Price UT United States;X-APPLE-RADIUS=500;X-TITLE=91 E Main St:geo:-110.851077,39.348812
END:VEVENT
BEGIN:VEVENT
DTSTART;TZID=America/Denver:20250506T170000
DTEND;TZID=America/Denver:20250506T183000
DTSTAMP:20260425T043418
CREATED:20250406T232057Z
LAST-MODIFIED:20250416T234136Z
UID:10006245-1746550800-1746556200@dev.utahrecovers.org
SUMMARY:Active Recovery (In Person)
DESCRIPTION:
URL:https://dev.utahrecovers.org/meeting/active-recovery-in-person-91/
LOCATION:Utah Support Advocates for Recovery Awareness – USARA – Moab\, 23 S 100 W\, Moab\, UT\, United States
CATEGORIES:Moab Recovery Community Center
GEO:38.57309;-109.552616
X-APPLE-STRUCTURED-LOCATION;VALUE=URI;X-ADDRESS=Utah Support Advocates for Recovery Awareness – USARA – Moab 23 S 100 W Moab UT United States;X-APPLE-RADIUS=500;X-TITLE=23 S 100 W:geo:-109.552616,38.57309
END:VEVENT
BEGIN:VEVENT
DTSTART;TZID=America/Denver:20250506T170000
DTEND;TZID=America/Denver:20250506T183000
DTSTAMP:20260425T043418
CREATED:20250406T084415Z
LAST-MODIFIED:20250416T102210Z
UID:10006237-1746550800-1746556200@dev.utahrecovers.org
SUMMARY:Community Ear Acudetox Clinic (In person)
DESCRIPTION:
URL:https://dev.utahrecovers.org/meeting/community-ear-acudetox-clinic-in-person-47/
LOCATION:Utah Support Advocates for Recovery Awareness – USARA\, 180 E 2100 S #100\, Salt Lake City\, UT 84115\, USA\, SLC RCC-2-Suite 205-Suite 205 Conference Room (18)
CATEGORIES:Salt Lake Recovery Community Center
END:VEVENT
BEGIN:VEVENT
DTSTART;TZID=America/Denver:20250506T170000
DTEND;TZID=America/Denver:20250506T180000
DTSTAMP:20260425T043418
CREATED:20250406T084415Z
LAST-MODIFIED:20250416T102209Z
UID:10006236-1746550800-1746554400@dev.utahrecovers.org
SUMMARY:Veterans Support Group (In person)
DESCRIPTION:
URL:https://dev.utahrecovers.org/meeting/veterans-support-group-in-person-46/
LOCATION:Utah Support Advocates for Recovery Awareness – USARA\, 180 E 2100 S #100\, Salt Lake City\, UT 84115\, USA\, SLC RCC-1-Suite 100-Suite 100 Group Room (50)
CATEGORIES:Salt Lake Recovery Community Center
END:VEVENT
BEGIN:VEVENT
DTSTART;TZID=America/Denver:20250506T120000
DTEND;TZID=America/Denver:20250506T130000
DTSTAMP:20260425T043418
CREATED:20250406T194237Z
LAST-MODIFIED:20250416T202049Z
UID:10006244-1746532800-1746536400@dev.utahrecovers.org
SUMMARY:Recovery Dharma (In person)
DESCRIPTION:A mindfulness-based addiction recovery community that practices and utilizes Buddhist philosophy as the foundation of the recovery process. \nContact \n\nLana Rose Nelson\n\nphone: (435) 429-9454
URL:https://dev.utahrecovers.org/meeting/recovery-dharma-in-person-146/
LOCATION:Utah Support Advocates for Recovery Awareness – USARA – St. George\, 113 E 200 N\, Saint George\, UT\, United States
CATEGORIES:St George Recovery Community Center
GEO:37.111634;-113.581023
X-APPLE-STRUCTURED-LOCATION;VALUE=URI;X-ADDRESS=Utah Support Advocates for Recovery Awareness – USARA – St. George 113 E 200 N Saint George UT United States;X-APPLE-RADIUS=500;X-TITLE=113 E 200 N:geo:-113.581023,37.111634
END:VEVENT
BEGIN:VEVENT
DTSTART;TZID=America/Denver:20250506T100000
DTEND;TZID=America/Denver:20250506T160000
DTSTAMP:20260425T043418
CREATED:20250416T102209Z
LAST-MODIFIED:20250416T102209Z
UID:10006391-1746525600-1746547200@dev.utahrecovers.org
SUMMARY:Mental Health America (In person)
DESCRIPTION:
URL:https://dev.utahrecovers.org/meeting/mental-health-america-in-person-3/
LOCATION:Utah Support Advocates for Recovery Awareness – USARA\, 180 E 2100 S #100\, Salt Lake City\, UT 84115\, USA\, SLC RCC-1-Suite 100-Suite 100 Group Room (50)
CATEGORIES:Salt Lake Recovery Community Center
END:VEVENT
BEGIN:VEVENT
DTSTART;TZID=America/Denver:20250506T090000
DTEND;TZID=America/Denver:20250506T100000
DTSTAMP:20260425T043418
CREATED:20250406T095450Z
LAST-MODIFIED:20250416T114255Z
UID:10006240-1746522000-1746525600@dev.utahrecovers.org
SUMMARY:Coffee & Recovery (Hybrid - join virtually or in person!)
DESCRIPTION:Join with Google Meet: https://meet.google.com/ydy-xvee-rqtOr dial: (US) +1 478-412-7414 PIN: 189703499#More phone numbers: https://tel.meet/ydy-xvee-rqt?pin=4876928882810&hs=7 \nLearn more about Meet at: https://support.google.com/a/users/answer/9282720
URL:https://dev.utahrecovers.org/meeting/coffee-recovery-hybrid-join-virtually-or-in-person-336/
LOCATION:Utah Support Advocates for Recovery Awareness – USARA – Price\, 91 E Main St\, Price\, UT\, United States
CATEGORIES:Virtual Meetings
GEO:39.348812;-110.851077
X-APPLE-STRUCTURED-LOCATION;VALUE=URI;X-ADDRESS=Utah Support Advocates for Recovery Awareness – USARA – Price 91 E Main St Price UT United States;X-APPLE-RADIUS=500;X-TITLE=91 E Main St:geo:-110.851077,39.348812
END:VEVENT
BEGIN:VEVENT
DTSTART;TZID=America/Denver:20250506T090000
DTEND;TZID=America/Denver:20250506T100000
DTSTAMP:20260425T043418
CREATED:20250406T022049Z
LAST-MODIFIED:20250417T024136Z
UID:10006233-1746522000-1746525600@dev.utahrecovers.org
SUMMARY:Coffee & Recovery (Hybrid - join virtually or in person!)
DESCRIPTION:Join with Google Meet: https://meet.google.com/ydy-xvee-rqtOr dial: (US) +1 478-412-7414 PIN: 189703499#More phone numbers: https://tel.meet/ydy-xvee-rqt?pin=4876928882810&hs=7 \nLearn more about Meet at: https://support.google.com/a/users/answer/9282720
URL:https://dev.utahrecovers.org/meeting/coffee-recovery-hybrid-join-virtually-or-in-person-335/
LOCATION:Utah Support Advocates for Recovery Awareness – USARA – Price\, 91 E Main St\, Price\, UT\, United States
CATEGORIES:Price Recovery Community Center
GEO:39.348812;-110.851077
X-APPLE-STRUCTURED-LOCATION;VALUE=URI;X-ADDRESS=Utah Support Advocates for Recovery Awareness – USARA – Price 91 E Main St Price UT United States;X-APPLE-RADIUS=500;X-TITLE=91 E Main St:geo:-110.851077,39.348812
END:VEVENT
BEGIN:VEVENT
DTSTART;TZID=America/Denver:20250505T200000
DTEND;TZID=America/Denver:20250505T210000
DTSTAMP:20260425T043418
CREATED:20250406T194222Z
LAST-MODIFIED:20250416T202049Z
UID:10006243-1746475200-1746478800@dev.utahrecovers.org
SUMMARY:Eating Disordered Anonymous (In person)
DESCRIPTION:Eating Disordered Anonymous
URL:https://dev.utahrecovers.org/meeting/eating-disordered-anonymous-in-person-8/
LOCATION:Utah Support Advocates for Recovery Awareness – USARA – St. George\, 113 E 200 N\, Saint George\, UT\, United States
CATEGORIES:St George Recovery Community Center
GEO:37.111634;-113.581023
X-APPLE-STRUCTURED-LOCATION;VALUE=URI;X-ADDRESS=Utah Support Advocates for Recovery Awareness – USARA – St. George 113 E 200 N Saint George UT United States;X-APPLE-RADIUS=500;X-TITLE=113 E 200 N:geo:-113.581023,37.111634
END:VEVENT
END:VCALENDAR