BEGIN:VCALENDAR
VERSION:2.0
PRODID:-//USARA - Utah Recovers - ECPv6.15.18//NONSGML v1.0//EN
CALSCALE:GREGORIAN
METHOD:PUBLISH
X-WR-CALNAME:USARA - Utah Recovers
X-ORIGINAL-URL:https://dev.utahrecovers.org
X-WR-CALDESC:Events for USARA - Utah Recovers
REFRESH-INTERVAL;VALUE=DURATION:PT1H
X-Robots-Tag:noindex
X-PUBLISHED-TTL:PT1H
BEGIN:VTIMEZONE
TZID:America/Denver
BEGIN:DAYLIGHT
TZOFFSETFROM:-0700
TZOFFSETTO:-0600
TZNAME:MDT
DTSTART:20240310T090000
END:DAYLIGHT
BEGIN:STANDARD
TZOFFSETFROM:-0600
TZOFFSETTO:-0700
TZNAME:MST
DTSTART:20241103T080000
END:STANDARD
BEGIN:DAYLIGHT
TZOFFSETFROM:-0700
TZOFFSETTO:-0600
TZNAME:MDT
DTSTART:20250309T090000
END:DAYLIGHT
BEGIN:STANDARD
TZOFFSETFROM:-0600
TZOFFSETTO:-0700
TZNAME:MST
DTSTART:20251102T080000
END:STANDARD
BEGIN:DAYLIGHT
TZOFFSETFROM:-0700
TZOFFSETTO:-0600
TZNAME:MDT
DTSTART:20260308T090000
END:DAYLIGHT
BEGIN:STANDARD
TZOFFSETFROM:-0600
TZOFFSETTO:-0700
TZNAME:MST
DTSTART:20261101T080000
END:STANDARD
END:VTIMEZONE
BEGIN:VEVENT
DTSTART;TZID=America/Denver:20250426T083000
DTEND;TZID=America/Denver:20250426T093000
DTSTAMP:20260425T072411
CREATED:20250327T082230Z
LAST-MODIFIED:20250416T114208Z
UID:10006106-1745656200-1745659800@dev.utahrecovers.org
SUMMARY:Sexaholics Anonymous (Hybrid - join online or in person!)
DESCRIPTION:https://us02web.zoom.us/j/86238197798?pwd=OTA2ZmY5YUVzcURMRllId3JyRVliZz09
URL:https://dev.utahrecovers.org/meeting/sexaholics-anonymous-hybrid-join-online-or-in-person-93/
LOCATION:Utah Support Advocates for Recovery Awareness – USARA\, 180 E 2100 S\, Salt Lake City\, UT\, United States
CATEGORIES:Virtual Meetings
GEO:40.725365;-111.885934
X-APPLE-STRUCTURED-LOCATION;VALUE=URI;X-ADDRESS=Utah Support Advocates for Recovery Awareness – USARA 180 E 2100 S Salt Lake City UT United States;X-APPLE-RADIUS=500;X-TITLE=180 E 2100 S:geo:-111.885934,40.725365
END:VEVENT
BEGIN:VEVENT
DTSTART;TZID=America/Denver:20250426T083000
DTEND;TZID=America/Denver:20250426T093000
DTSTAMP:20260425T072412
CREATED:20250327T064353Z
LAST-MODIFIED:20250416T102114Z
UID:10006104-1745656200-1745659800@dev.utahrecovers.org
SUMMARY:Sexaholics Anonymous (Hybrid - join online or in person!)
DESCRIPTION:https://us02web.zoom.us/j/86238197798?pwd=OTA2ZmY5YUVzcURMRllId3JyRVliZz09
URL:https://dev.utahrecovers.org/meeting/sexaholics-anonymous-hybrid-join-online-or-in-person-92/
LOCATION:Utah Support Advocates for Recovery Awareness – USARA\, 180 E 2100 S #100\, Salt Lake City\, UT 84115\, USA\, SLC RCC-2-Suite 203-Suite 203 Group Room (40)
CATEGORIES:Salt Lake Recovery Community Center
END:VEVENT
BEGIN:VEVENT
DTSTART;TZID=America/Denver:20250426T080000
DTEND;TZID=America/Denver:20250426T090000
DTSTAMP:20260425T072412
CREATED:20250327T184229Z
LAST-MODIFIED:20250416T202035Z
UID:10006110-1745654400-1745658000@dev.utahrecovers.org
SUMMARY:Al-Anon (In person)
DESCRIPTION:
URL:https://dev.utahrecovers.org/meeting/al-anon-in-person-48/
LOCATION:Utah Support Advocates for Recovery Awareness – USARA – St. George\, 113 E 200 N\, Saint George\, UT\, United States
CATEGORIES:St George Recovery Community Center
GEO:37.111634;-113.581023
X-APPLE-STRUCTURED-LOCATION;VALUE=URI;X-ADDRESS=Utah Support Advocates for Recovery Awareness – USARA – St. George 113 E 200 N Saint George UT United States;X-APPLE-RADIUS=500;X-TITLE=113 E 200 N:geo:-113.581023,37.111634
END:VEVENT
BEGIN:VEVENT
DTSTART;TZID=America/Denver:20250425T200000
DTEND;TZID=America/Denver:20250425T210000
DTSTAMP:20260425T072412
CREATED:20250327T064341Z
LAST-MODIFIED:20250416T102114Z
UID:10006101-1745611200-1745614800@dev.utahrecovers.org
SUMMARY:Leather\, Fetish\, and Kink in Recovery CMA (In person)
DESCRIPTION:Contacts \n\nJames Jordan Greenwell\n\ncell: (435) 901-7678\nemail: greenwelljordan@gmail.com
URL:https://dev.utahrecovers.org/meeting/leather-fetish-and-kink-in-recovery-cma-in-person-47/
LOCATION:Utah Support Advocates for Recovery Awareness – USARA\, 180 E 2100 S #100\, Salt Lake City\, UT 84115\, USA\, SLC RCC-2-Suite 203-Suite 203 Group Room (40)
CATEGORIES:Salt Lake Recovery Community Center
END:VEVENT
BEGIN:VEVENT
DTSTART;TZID=America/Denver:20250425T190000
DTEND;TZID=America/Denver:20250425T210000
DTSTAMP:20260425T072412
CREATED:20250327T064353Z
LAST-MODIFIED:20250416T102114Z
UID:10006102-1745607600-1745614800@dev.utahrecovers.org
SUMMARY:YPR Bingo Night (In person)
DESCRIPTION:
URL:https://dev.utahrecovers.org/meeting/ypr-bingo-night-in-person/
LOCATION:Utah Support Advocates for Recovery Awareness – USARA\, 180 E 2100 S #100\, Salt Lake City\, UT 84115\, USA\, SLC RCC-1-Suite 100-Suite 100 Group Room (50)
CATEGORIES:Salt Lake Recovery Community Center
END:VEVENT
BEGIN:VEVENT
DTSTART;TZID=America/Denver:20250425T190000
DTEND;TZID=America/Denver:20250425T200000
DTSTAMP:20260425T072412
CREATED:20250327T095304Z
LAST-MODIFIED:20250416T105223Z
UID:10006108-1745607600-1745611200@dev.utahrecovers.org
SUMMARY:Cocaine Anonymous Friday Night Few (In person)
DESCRIPTION:
URL:https://dev.utahrecovers.org/meeting/cocaine-anonymous-friday-night-few-in-person-47/
LOCATION:Utah Support Advocates for Recovery Awareness – USARA – Ogden\, 893 24th St\, Ogden\, UT\, United States
CATEGORIES:Ogden Recovery Community Center
GEO:41.222498;-111.956726
X-APPLE-STRUCTURED-LOCATION;VALUE=URI;X-ADDRESS=Utah Support Advocates for Recovery Awareness – USARA – Ogden 893 24th St Ogden UT United States;X-APPLE-RADIUS=500;X-TITLE=893 24th St:geo:-111.956726,41.222498
END:VEVENT
BEGIN:VEVENT
DTSTART;TZID=America/Denver:20250425T180000
DTEND;TZID=America/Denver:20250425T190000
DTSTAMP:20260425T072412
CREATED:20250327T184229Z
LAST-MODIFIED:20250416T202034Z
UID:10006109-1745604000-1745607600@dev.utahrecovers.org
SUMMARY:Recovery Dharma (In person)
DESCRIPTION:A mindfulness-based addiction recovery community that practices and utilizes Buddhist philosophy as the foundation of the recovery process. \nContact \n\nJustin Ward\n\nphone: (801) 389-2715
URL:https://dev.utahrecovers.org/meeting/recovery-dharma-in-person-141/
LOCATION:Utah Support Advocates for Recovery Awareness – USARA – St. George\, 113 E 200 N\, Saint George\, UT\, United States
CATEGORIES:St George Recovery Community Center
GEO:37.111634;-113.581023
X-APPLE-STRUCTURED-LOCATION;VALUE=URI;X-ADDRESS=Utah Support Advocates for Recovery Awareness – USARA – St. George 113 E 200 N Saint George UT United States;X-APPLE-RADIUS=500;X-TITLE=113 E 200 N:geo:-113.581023,37.111634
END:VEVENT
BEGIN:VEVENT
DTSTART;TZID=America/Denver:20250425T120000
DTEND;TZID=America/Denver:20250425T130000
DTSTAMP:20260425T072412
CREATED:20250326T082254Z
LAST-MODIFIED:20250416T114155Z
UID:10006089-1745582400-1745586000@dev.utahrecovers.org
SUMMARY:Recovery Dharma (Hybrid - join virtually or in person!)
DESCRIPTION:https://us02web.zoom.us/j/2361179850?pwd=NXhUUDNsUUpWYTNxdkhIOUcwNEhSUT09 \nContacts \n\nSteve\n\nemail: slater.stevej@gmail.com
URL:https://dev.utahrecovers.org/meeting/recovery-dharma-hybrid-join-virtually-or-in-person-329/
LOCATION:Utah Support Advocates for Recovery Awareness – USARA\, 180 E 2100 S\, Salt Lake City\, UT\, United States
CATEGORIES:Virtual Meetings
GEO:40.725365;-111.885934
X-APPLE-STRUCTURED-LOCATION;VALUE=URI;X-ADDRESS=Utah Support Advocates for Recovery Awareness – USARA 180 E 2100 S Salt Lake City UT United States;X-APPLE-RADIUS=500;X-TITLE=180 E 2100 S:geo:-111.885934,40.725365
END:VEVENT
BEGIN:VEVENT
DTSTART;TZID=America/Denver:20250425T120000
DTEND;TZID=America/Denver:20250425T130000
DTSTAMP:20260425T072412
CREATED:20250326T064406Z
LAST-MODIFIED:20250416T102114Z
UID:10006086-1745582400-1745586000@dev.utahrecovers.org
SUMMARY:Recovery Dharma (Hybrid - join virtually or in person!)
DESCRIPTION:https://us02web.zoom.us/j/2361179850?pwd=NXhUUDNsUUpWYTNxdkhIOUcwNEhSUT09 \nContacts \n\nSteve Slater\n\nemail: slater.stevej@gmail.com
URL:https://dev.utahrecovers.org/meeting/recovery-dharma-hybrid-join-virtually-or-in-person-328/
LOCATION:Utah Support Advocates for Recovery Awareness – USARA\, 180 E 2100 S #100\, Salt Lake City\, UT 84115\, USA\, SLC RCC-1-Suite 100-Suite 100 Group Room (50)
CATEGORIES:Salt Lake Recovery Community Center
END:VEVENT
BEGIN:VEVENT
DTSTART;TZID=America/Denver:20250425T110000
DTEND;TZID=America/Denver:20250425T120000
DTSTAMP:20260425T072412
CREATED:20250326T232052Z
LAST-MODIFIED:20250416T234121Z
UID:10006099-1745578800-1745582400@dev.utahrecovers.org
SUMMARY:Coffee & Recovery (Hybrid - join online or in person!)
DESCRIPTION:Join with Google Meet: https://meet.google.com/hrb-awdg-zmdOr dial: (US) +1 508-506-1551 PIN: 141472344#More phone numbers: https://tel.meet/hrb-awdg-zmd?pin=1300156360240&hs=7 \nLearn more about Meet at: https://support.google.com/a/users/answer/9282720
URL:https://dev.utahrecovers.org/meeting/coffee-recovery-hybrid-join-online-or-in-person-95/
LOCATION:Utah Support Advocates for Recovery Awareness – USARA – Moab\, 23 S 100 W\, Moab\, UT 84532\, USA\, Moab RCC-1-Group Room (20)
CATEGORIES:Moab Recovery Community Center
END:VEVENT
BEGIN:VEVENT
DTSTART;TZID=America/Denver:20250425T110000
DTEND;TZID=America/Denver:20250425T120000
DTSTAMP:20260425T072412
CREATED:20250326T082254Z
LAST-MODIFIED:20250416T114155Z
UID:10006090-1745578800-1745582400@dev.utahrecovers.org
SUMMARY:Coffee & Recovery (Hybrid - join virtually or in person!)
DESCRIPTION:Join with Google Meet: https://meet.google.com/hrb-awdg-zmdOr dial: (US) +1 508-506-1551 PIN: 141472344#More phone numbers: https://tel.meet/hrb-awdg-zmd?pin=1300156360240&hs=7 \nLearn more about Meet at: https://support.google.com/a/users/answer/9282720
URL:https://dev.utahrecovers.org/meeting/coffee-recovery-hybrid-join-virtually-or-in-person-327/
LOCATION:Utah Support Advocates for Recovery Awareness – USARA – Moab\, 23 S 100 W\, Moab\, UT\, United States
CATEGORIES:Virtual Meetings
GEO:38.57309;-109.552616
X-APPLE-STRUCTURED-LOCATION;VALUE=URI;X-ADDRESS=Utah Support Advocates for Recovery Awareness – USARA – Moab 23 S 100 W Moab UT United States;X-APPLE-RADIUS=500;X-TITLE=23 S 100 W:geo:-109.552616,38.57309
END:VEVENT
BEGIN:VEVENT
DTSTART;TZID=America/Denver:20250425T100000
DTEND;TZID=America/Denver:20250425T110000
DTSTAMP:20260425T072412
CREATED:20250326T232052Z
LAST-MODIFIED:20250416T234121Z
UID:10006100-1745575200-1745578800@dev.utahrecovers.org
SUMMARY:Yoga (In person)
DESCRIPTION:
URL:https://dev.utahrecovers.org/meeting/yoga-in-person-47/
LOCATION:Utah Support Advocates for Recovery Awareness – USARA – Moab\, 23 S 100 W\, Moab\, UT\, United States
CATEGORIES:Moab Recovery Community Center
GEO:38.57309;-109.552616
X-APPLE-STRUCTURED-LOCATION;VALUE=URI;X-ADDRESS=Utah Support Advocates for Recovery Awareness – USARA – Moab 23 S 100 W Moab UT United States;X-APPLE-RADIUS=500;X-TITLE=23 S 100 W:geo:-109.552616,38.57309
END:VEVENT
BEGIN:VEVENT
DTSTART;TZID=America/Denver:20250425T100000
DTEND;TZID=America/Denver:20250425T110000
DTSTAMP:20260425T072412
CREATED:20250326T095308Z
LAST-MODIFIED:20250416T105223Z
UID:10006092-1745575200-1745578800@dev.utahrecovers.org
SUMMARY:SMART Recovery (In person)
DESCRIPTION:Self Management and Recovery Training \nContact USARA at (385) 263-1600
URL:https://dev.utahrecovers.org/meeting/smart-recovery-in-person-47/
LOCATION:Utah Support Advocates for Recovery Awareness – USARA – Ogden\, 893 24th St\, Ogden\, UT\, United States
CATEGORIES:Ogden Recovery Community Center
GEO:41.222498;-111.956726
X-APPLE-STRUCTURED-LOCATION;VALUE=URI;X-ADDRESS=Utah Support Advocates for Recovery Awareness – USARA – Ogden 893 24th St Ogden UT United States;X-APPLE-RADIUS=500;X-TITLE=893 24th St:geo:-111.956726,41.222498
END:VEVENT
BEGIN:VEVENT
DTSTART;TZID=America/Denver:20250425T073000
DTEND;TZID=America/Denver:20250425T090000
DTSTAMP:20260425T072412
CREATED:20250326T232052Z
LAST-MODIFIED:20250416T234121Z
UID:10006098-1745566200-1745571600@dev.utahrecovers.org
SUMMARY:Active Recovery (In person)
DESCRIPTION:
URL:https://dev.utahrecovers.org/meeting/active-recovery-in-person-88/
LOCATION:Utah Support Advocates for Recovery Awareness – USARA – Moab\, 23 S 100 W\, Moab\, UT\, United States
CATEGORIES:Moab Recovery Community Center
GEO:38.57309;-109.552616
X-APPLE-STRUCTURED-LOCATION;VALUE=URI;X-ADDRESS=Utah Support Advocates for Recovery Awareness – USARA – Moab 23 S 100 W Moab UT United States;X-APPLE-RADIUS=500;X-TITLE=23 S 100 W:geo:-109.552616,38.57309
END:VEVENT
BEGIN:VEVENT
DTSTART;TZID=America/Denver:20250424T190000
DTEND;TZID=America/Denver:20250424T200000
DTSTAMP:20260425T072412
CREATED:20250326T095308Z
LAST-MODIFIED:20250416T105223Z
UID:10006091-1745521200-1745524800@dev.utahrecovers.org
SUMMARY:Sex Addicts Anonymous (In person)
DESCRIPTION:
URL:https://dev.utahrecovers.org/meeting/sex-addicts-anonymous-in-person-47/
LOCATION:Utah Support Advocates for Recovery Awareness – USARA – Ogden\, 893 24th St\, Ogden\, UT\, United States
CATEGORIES:Ogden Recovery Community Center
GEO:41.222498;-111.956726
X-APPLE-STRUCTURED-LOCATION;VALUE=URI;X-ADDRESS=Utah Support Advocates for Recovery Awareness – USARA – Ogden 893 24th St Ogden UT United States;X-APPLE-RADIUS=500;X-TITLE=893 24th St:geo:-111.956726,41.222498
END:VEVENT
BEGIN:VEVENT
DTSTART;TZID=America/Denver:20250424T190000
DTEND;TZID=America/Denver:20250424T200000
DTSTAMP:20260425T072412
CREATED:20250326T064406Z
LAST-MODIFIED:20250416T102100Z
UID:10006084-1745521200-1745524800@dev.utahrecovers.org
SUMMARY:Sexaholics Anonymous (In person)
DESCRIPTION:Contacts \n\nJerred\n\njerredburton@gmail.com
URL:https://dev.utahrecovers.org/meeting/sexaholics-anonymous-in-person-47/
LOCATION:Utah Support Advocates for Recovery Awareness – USARA\, 180 E 2100 S #100\, Salt Lake City\, UT 84115\, USA\, SLC RCC-2-Suite 203-Suite 203 Group Room (40)
CATEGORIES:Salt Lake Recovery Community Center
END:VEVENT
BEGIN:VEVENT
DTSTART;TZID=America/Denver:20250424T183000
DTEND;TZID=America/Denver:20250424T193000
DTSTAMP:20260425T072412
CREATED:20250326T184233Z
LAST-MODIFIED:20250416T202023Z
UID:10006094-1745519400-1745523000@dev.utahrecovers.org
SUMMARY:Double Winners Men's Meeting (In person
DESCRIPTION:
URL:https://dev.utahrecovers.org/meeting/double-winners-mens-meeting-in-person-47/
LOCATION:Utah Support Advocates for Recovery Awareness – USARA – St. George\, 113 E 200 N\, Saint George\, UT\, United States
CATEGORIES:St George Recovery Community Center
GEO:37.111634;-113.581023
X-APPLE-STRUCTURED-LOCATION;VALUE=URI;X-ADDRESS=Utah Support Advocates for Recovery Awareness – USARA – St. George 113 E 200 N Saint George UT United States;X-APPLE-RADIUS=500;X-TITLE=113 E 200 N:geo:-113.581023,37.111634
END:VEVENT
BEGIN:VEVENT
DTSTART;TZID=America/Denver:20250424T183000
DTEND;TZID=America/Denver:20250424T193000
DTSTAMP:20260425T072412
CREATED:20250326T064406Z
LAST-MODIFIED:20250416T102100Z
UID:10006083-1745519400-1745523000@dev.utahrecovers.org
SUMMARY:AA Solution Group (In person)
DESCRIPTION:Contacts \n\nAbbey P\n\ncell: (435) 659-0826\nemail: abbeyroadnelson@gmail.com\n\n\nJason\n\nemail: pritchardjasonr@gmail.com
URL:https://dev.utahrecovers.org/meeting/aa-solution-group-in-person-47/
LOCATION:Utah Support Advocates for Recovery Awareness – USARA\, 180 E 2100 S #100\, Salt Lake City\, UT 84115\, USA\, SLC RCC-1-Suite 100-Suite 100 Group Room (50)
CATEGORIES:Salt Lake Recovery Community Center
END:VEVENT
BEGIN:VEVENT
DTSTART;TZID=America/Denver:20250424T180000
DTEND;TZID=America/Denver:20250424T193000
DTSTAMP:20260425T072412
CREATED:20250326T082254Z
LAST-MODIFIED:20250416T114155Z
UID:10006088-1745517600-1745523000@dev.utahrecovers.org
SUMMARY:CRAFT Family Support Group (Virtual)
DESCRIPTION:
URL:https://dev.utahrecovers.org/meeting/craft-family-support-group-virtual-133/
LOCATION:https://us02web.zoom.us/j/86950545911?pwd=OFZGMlFiTWVkcHp2Yi8yQmVmSWhyUT09
CATEGORIES:Virtual Meetings
END:VEVENT
BEGIN:VEVENT
DTSTART;TZID=America/Denver:20250424T180000
DTEND;TZID=America/Denver:20250424T190000
DTSTAMP:20260425T072412
CREATED:20250326T222036Z
LAST-MODIFIED:20250416T234109Z
UID:10006097-1745517600-1745521200@dev.utahrecovers.org
SUMMARY:LGBTQ Support Group
DESCRIPTION:
URL:https://dev.utahrecovers.org/meeting/lgbtq-support-group-4/
CATEGORIES:Provo Recovery Community Center
END:VEVENT
BEGIN:VEVENT
DTSTART;TZID=America/Denver:20250424T180000
DTEND;TZID=America/Denver:20250424T190000
DTSTAMP:20260425T072412
CREATED:20250326T184232Z
LAST-MODIFIED:20250416T202023Z
UID:10006093-1745517600-1745521200@dev.utahrecovers.org
SUMMARY:AA Tolerance Group (In person)
DESCRIPTION:Closed 12 step AA meeting (must identify as an Alcoholic to attend)
URL:https://dev.utahrecovers.org/meeting/aa-tolerance-group-in-person-47/
LOCATION:Utah Support Advocates for Recovery Awareness – USARA – St. George\, 113 E 200 N\, Saint George\, UT\, United States
CATEGORIES:St George Recovery Community Center
GEO:37.111634;-113.581023
X-APPLE-STRUCTURED-LOCATION;VALUE=URI;X-ADDRESS=Utah Support Advocates for Recovery Awareness – USARA – St. George 113 E 200 N Saint George UT United States;X-APPLE-RADIUS=500;X-TITLE=113 E 200 N:geo:-113.581023,37.111634
END:VEVENT
BEGIN:VEVENT
DTSTART;TZID=America/Denver:20250424T180000
DTEND;TZID=America/Denver:20250424T190000
DTSTAMP:20260425T072412
CREATED:20250326T082254Z
LAST-MODIFIED:20250416T114155Z
UID:10006087-1745517600-1745521200@dev.utahrecovers.org
SUMMARY:SMART Recovery (Virtual)
DESCRIPTION:For more information\, visit: https://meetings.smartrecovery.org/meetings/7920/
URL:https://dev.utahrecovers.org/meeting/smart-recovery-virtual-11/
LOCATION:https://smartrecovery.zoom.us/j/96174767538
CATEGORIES:Virtual Meetings
END:VEVENT
BEGIN:VEVENT
DTSTART;TZID=America/Denver:20250424T180000
DTEND;TZID=America/Denver:20250424T190000
DTSTAMP:20260425T072412
CREATED:20250326T064406Z
LAST-MODIFIED:20250416T102100Z
UID:10006085-1745517600-1745521200@dev.utahrecovers.org
SUMMARY:Treatment Court Alumni Group (In person)
DESCRIPTION:
URL:https://dev.utahrecovers.org/meeting/treatment-court-alumni-group-in-person-18/
LOCATION:Utah Support Advocates for Recovery Awareness – USARA\, 180 E 2100 S #100\, Salt Lake City\, UT 84115\, USA\, SLC RCC-2-Suite 203-Suite 203 Group Room (40)
CATEGORIES:Salt Lake Recovery Community Center
END:VEVENT
BEGIN:VEVENT
DTSTART;TZID=America/Denver:20250424T173000
DTEND;TZID=America/Denver:20250424T183000
DTSTAMP:20260425T072412
CREATED:20250325T082253Z
LAST-MODIFIED:20250416T114155Z
UID:10006075-1745515800-1745519400@dev.utahrecovers.org
SUMMARY:Psychedelics in Recovery (Hybrid - join virtually or in person!)
DESCRIPTION:https://us06web.zoom.us/j/86332491277?pwd=53DYFwemMM16J1zhZSYaRi8qMlbFHH.1 \nMeeting ID: 863 3249 1277Passcode: 144990
URL:https://dev.utahrecovers.org/meeting/psychedelics-in-recovery-hybrid-join-virtually-or-in-person-34/
LOCATION:Utah Support Advocates for Recovery Awareness – USARA\, 180 E 2100 S\, Salt Lake City\, UT\, United States
CATEGORIES:Virtual Meetings
GEO:40.725365;-111.885934
X-APPLE-STRUCTURED-LOCATION;VALUE=URI;X-ADDRESS=Utah Support Advocates for Recovery Awareness – USARA 180 E 2100 S Salt Lake City UT United States;X-APPLE-RADIUS=500;X-TITLE=180 E 2100 S:geo:-111.885934,40.725365
END:VEVENT
BEGIN:VEVENT
DTSTART;TZID=America/Denver:20250424T173000
DTEND;TZID=America/Denver:20250424T183000
DTSTAMP:20260425T072412
CREATED:20250325T062311Z
LAST-MODIFIED:20250416T102100Z
UID:10006069-1745515800-1745519400@dev.utahrecovers.org
SUMMARY:Psychedelics in Recovery (Hybrid - join virtually or in person!)
DESCRIPTION:https://us06web.zoom.us/j/86332491277?pwd=53DYFwemMM16J1zhZSYaRi8qMlbFHH.1 \nMeeting ID: 863 3249 1277Passcode: 144990
URL:https://dev.utahrecovers.org/meeting/psychedelics-in-recovery-hybrid-join-virtually-or-in-person-33/
LOCATION:Utah Support Advocates for Recovery Awareness – USARA\, 180 E 2100 S #100\, Salt Lake City\, UT 84115\, USA\, SLC RCC-1-Suite 100-Suite 100 Group Room (50)
CATEGORIES:Salt Lake Recovery Community Center
END:VEVENT
BEGIN:VEVENT
DTSTART;TZID=America/Denver:20250424T171500
DTEND;TZID=America/Denver:20250424T181500
DTSTAMP:20260425T072412
CREATED:20250325T184232Z
LAST-MODIFIED:20250416T202023Z
UID:10006081-1745514900-1745518500@dev.utahrecovers.org
SUMMARY:All Recovery (In person)
DESCRIPTION:An all pathways meeting
URL:https://dev.utahrecovers.org/meeting/all-recovery-in-person-14/
CATEGORIES:St George Recovery Community Center
END:VEVENT
BEGIN:VEVENT
DTSTART;TZID=America/Denver:20250424T130000
DTEND;TZID=America/Denver:20250424T140000
DTSTAMP:20260425T072412
CREATED:20250325T095305Z
LAST-MODIFIED:20250416T105223Z
UID:10006077-1745499600-1745503200@dev.utahrecovers.org
SUMMARY:Hope Connection Women's Support Group (In person)
DESCRIPTION:All pathways support group for women
URL:https://dev.utahrecovers.org/meeting/hope-connection-womens-support-group-in-person-47/
LOCATION:Utah Support Advocates for Recovery Awareness – USARA – Ogden\, 893 24th St\, Ogden\, UT\, United States
CATEGORIES:Ogden Recovery Community Center
GEO:41.222498;-111.956726
X-APPLE-STRUCTURED-LOCATION;VALUE=URI;X-ADDRESS=Utah Support Advocates for Recovery Awareness – USARA – Ogden 893 24th St Ogden UT United States;X-APPLE-RADIUS=500;X-TITLE=893 24th St:geo:-111.956726,41.222498
END:VEVENT
BEGIN:VEVENT
DTSTART;TZID=America/Denver:20250424T110000
DTEND;TZID=America/Denver:20250424T120000
DTSTAMP:20260425T072412
CREATED:20250325T184232Z
LAST-MODIFIED:20250416T202023Z
UID:10006080-1745492400-1745496000@dev.utahrecovers.org
SUMMARY:Thursday EDA (In person)
DESCRIPTION:Eating Disordered Anonymous
URL:https://dev.utahrecovers.org/meeting/thursday-eda-in-person-45/
LOCATION:Utah Support Advocates for Recovery Awareness – USARA – St. George\, 113 E 200 N\, Saint George\, UT\, United States
CATEGORIES:St George Recovery Community Center
GEO:37.111634;-113.581023
X-APPLE-STRUCTURED-LOCATION;VALUE=URI;X-ADDRESS=Utah Support Advocates for Recovery Awareness – USARA – St. George 113 E 200 N Saint George UT United States;X-APPLE-RADIUS=500;X-TITLE=113 E 200 N:geo:-113.581023,37.111634
END:VEVENT
BEGIN:VEVENT
DTSTART;TZID=America/Denver:20250424T093000
DTEND;TZID=America/Denver:20250424T163000
DTSTAMP:20260425T072412
CREATED:20250325T062311Z
LAST-MODIFIED:20250416T102059Z
UID:10006068-1745487000-1745512200@dev.utahrecovers.org
SUMMARY:Clean Slate - Fingerprints (In person)
DESCRIPTION:
URL:https://dev.utahrecovers.org/meeting/clean-slate-fingerprints-in-person-47/
LOCATION:SLC RCC-1-Suite 100-Suite 100 Group Room (50)
CATEGORIES:Salt Lake Recovery Community Center
END:VEVENT
BEGIN:VEVENT
DTSTART;TZID=America/Denver:20250424T090000
DTEND;TZID=America/Denver:20250424T100000
DTSTAMP:20260425T072412
CREATED:20250325T082252Z
LAST-MODIFIED:20250416T114154Z
UID:10006074-1745485200-1745488800@dev.utahrecovers.org
SUMMARY:Coffee & Recovery (Hybrid - join virtually or in person!)
DESCRIPTION:Join with Google Meet: https://meet.google.com/ydy-xvee-rqtOr dial: (US) +1 478-412-7414 PIN: 189703499#More phone numbers: https://tel.meet/ydy-xvee-rqt?pin=4876928882810&hs=7 \nLearn more about Meet at: https://support.google.com/a/users/answer/9282720
URL:https://dev.utahrecovers.org/meeting/coffee-recovery-hybrid-join-virtually-or-in-person-326/
LOCATION:Utah Support Advocates for Recovery Awareness – USARA – Price\, 91 E Main St\, Price\, UT\, United States
CATEGORIES:Virtual Meetings
GEO:39.348812;-110.851077
X-APPLE-STRUCTURED-LOCATION;VALUE=URI;X-ADDRESS=Utah Support Advocates for Recovery Awareness – USARA – Price 91 E Main St Price UT United States;X-APPLE-RADIUS=500;X-TITLE=91 E Main St:geo:-110.851077,39.348812
END:VEVENT
END:VCALENDAR