BEGIN:VCALENDAR
VERSION:2.0
PRODID:-//USARA - Utah Recovers - ECPv6.15.18//NONSGML v1.0//EN
CALSCALE:GREGORIAN
METHOD:PUBLISH
X-ORIGINAL-URL:https://dev.utahrecovers.org
X-WR-CALDESC:Events for USARA - Utah Recovers
REFRESH-INTERVAL;VALUE=DURATION:PT1H
X-Robots-Tag:noindex
X-PUBLISHED-TTL:PT1H
BEGIN:VTIMEZONE
TZID:America/Denver
BEGIN:DAYLIGHT
TZOFFSETFROM:-0700
TZOFFSETTO:-0600
TZNAME:MDT
DTSTART:20250309T090000
END:DAYLIGHT
BEGIN:STANDARD
TZOFFSETFROM:-0600
TZOFFSETTO:-0700
TZNAME:MST
DTSTART:20251102T080000
END:STANDARD
BEGIN:DAYLIGHT
TZOFFSETFROM:-0700
TZOFFSETTO:-0600
TZNAME:MDT
DTSTART:20260308T090000
END:DAYLIGHT
BEGIN:STANDARD
TZOFFSETFROM:-0600
TZOFFSETTO:-0700
TZNAME:MST
DTSTART:20261101T080000
END:STANDARD
BEGIN:DAYLIGHT
TZOFFSETFROM:-0700
TZOFFSETTO:-0600
TZNAME:MDT
DTSTART:20270314T090000
END:DAYLIGHT
BEGIN:STANDARD
TZOFFSETFROM:-0600
TZOFFSETTO:-0700
TZNAME:MST
DTSTART:20271107T080000
END:STANDARD
END:VTIMEZONE
BEGIN:VEVENT
DTSTART;TZID=America/Denver:20260130T120000
DTEND;TZID=America/Denver:20260130T130000
DTSTAMP:20260423T125010
CREATED:20260119T185256Z
LAST-MODIFIED:20260119T185256Z
UID:10006965-1769774400-1769778000@dev.utahrecovers.org
SUMMARY:Recovery Dharma (Hybrid - join virtually or in person!)
DESCRIPTION:https://us02web.zoom.us/j/2361179850?pwd=NXhUUDNsUUpWYTNxdkhIOUcwNEhSUT09 \nContacts \n\nSteve Slater\n\nemail: slater.stevej@gmail.com
URL:https://dev.utahrecovers.org/meeting/recovery-dharma-hybrid-join-virtually-or-in-person-396/
LOCATION:Utah Support Advocates for Recovery Awareness – USARA\, 180 E 2100 S #100\, Salt Lake City\, UT 84115\, USA\, SLC RCC-1-Suite 100-Suite 100 Group Room (50)
CATEGORIES:Salt Lake Recovery Community Center
END:VEVENT
BEGIN:VEVENT
DTSTART;TZID=America/Denver:20260130T173000
DTEND;TZID=America/Denver:20260130T183000
DTSTAMP:20260423T125010
CREATED:20260119T185256Z
LAST-MODIFIED:20260119T185256Z
UID:10006966-1769794200-1769797800@dev.utahrecovers.org
SUMMARY:Psychedelics in Recovery (Hybrid - join virtually or in person!)
DESCRIPTION:https://us06web.zoom.us/j/86332491277?pwd=53DYFwemMM16J1zhZSYaRi8qMlbFHH.1 \nMeeting ID: 863 3249 1277Passcode: 144990
URL:https://dev.utahrecovers.org/meeting/psychedelics-in-recovery-hybrid-join-virtually-or-in-person-53/
LOCATION:Utah Support Advocates for Recovery Awareness – USARA\, 180 E 2100 S #100\, Salt Lake City\, UT 84115\, USA\, SLC RCC-2-Suite 205-Suite 205 Conference Room (18)
CATEGORIES:Salt Lake Recovery Community Center
END:VEVENT
BEGIN:VEVENT
DTSTART;TZID=America/Denver:20260130T190000
DTEND;TZID=America/Denver:20260130T210000
DTSTAMP:20260423T125010
CREATED:20260119T185256Z
LAST-MODIFIED:20260119T185256Z
UID:10006967-1769799600-1769806800@dev.utahrecovers.org
SUMMARY:YPR Bingo Night (In person)
DESCRIPTION:
URL:https://dev.utahrecovers.org/meeting/ypr-bingo-night-in-person-3/
LOCATION:Utah Support Advocates for Recovery Awareness – USARA\, 180 E 2100 S #100\, Salt Lake City\, UT 84115\, USA\, SLC RCC-1-Suite 100-Suite 100 Group Room (50)
CATEGORIES:Salt Lake Recovery Community Center
END:VEVENT
BEGIN:VEVENT
DTSTART;TZID=America/Denver:20260130T200000
DTEND;TZID=America/Denver:20260130T210000
DTSTAMP:20260423T125010
CREATED:20260119T185256Z
LAST-MODIFIED:20260119T185256Z
UID:10006968-1769803200-1769806800@dev.utahrecovers.org
SUMMARY:Leather\, Fetish\, and Kink in Recovery CMA (In person)
DESCRIPTION:Contacts \n\nJames Jordan Greenwell\n\ncell: (435) 901-7678\nemail: greenwelljordan@gmail.com
URL:https://dev.utahrecovers.org/meeting/leather-fetish-and-kink-in-recovery-cma-in-person-56/
LOCATION:Utah Support Advocates for Recovery Awareness – USARA\, 180 E 2100 S #100\, Salt Lake City\, UT 84115\, USA\, SLC RCC-2-Suite 203-Suite 203 Group Room (40)
CATEGORIES:Salt Lake Recovery Community Center
END:VEVENT
BEGIN:VEVENT
DTSTART;TZID=America/Denver:20260131T083000
DTEND;TZID=America/Denver:20260131T093000
DTSTAMP:20260423T125010
CREATED:20260119T185256Z
LAST-MODIFIED:20260119T185256Z
UID:10006969-1769848200-1769851800@dev.utahrecovers.org
SUMMARY:Sexaholics Anonymous (Hybrid - join online or in person!)
DESCRIPTION:https://us02web.zoom.us/j/86238197798?pwd=OTA2ZmY5YUVzcURMRllId3JyRVliZz09
URL:https://dev.utahrecovers.org/meeting/sexaholics-anonymous-hybrid-join-online-or-in-person-108/
LOCATION:Utah Support Advocates for Recovery Awareness – USARA\, 180 E 2100 S #100\, Salt Lake City\, UT 84115\, USA\, SLC RCC-2-Suite 203-Suite 203 Group Room (40)
CATEGORIES:Salt Lake Recovery Community Center
END:VEVENT
BEGIN:VEVENT
DTSTART;TZID=America/Denver:20260131T093000
DTEND;TZID=America/Denver:20260131T110000
DTSTAMP:20260423T125010
CREATED:20260119T185256Z
LAST-MODIFIED:20260119T185256Z
UID:10006970-1769851800-1769857200@dev.utahrecovers.org
SUMMARY:SMART Recovery (Hybrid - join virtually or in person)
DESCRIPTION:https://smartrecovery.zoom.us/j/932119283 \nContacts \n\nJamiel\n\nemail: jamielk101@gmail.com
URL:https://dev.utahrecovers.org/meeting/smart-recovery-hybrid-join-virtually-or-in-person-216/
LOCATION:Utah Support Advocates for Recovery Awareness – USARA\, 180 E 2100 S #100\, Salt Lake City\, UT 84115\, USA\, SLC RCC-1-Suite 100-Suite 100 Group Room (50)
CATEGORIES:Salt Lake Recovery Community Center
END:VEVENT
BEGIN:VEVENT
DTSTART;TZID=America/Denver:20260131T170000
DTEND;TZID=America/Denver:20260131T180000
DTSTAMP:20260423T125010
CREATED:20260119T185307Z
LAST-MODIFIED:20260119T185307Z
UID:10006971-1769878800-1769882400@dev.utahrecovers.org
SUMMARY:Recovery Dharma (Hybrid - join virtually or in person!)
DESCRIPTION:https://us02web.zoom.us/j/2361179850?pwd=NXhUUDNsUUpWYTNxdkhIOUcwNEhSUT09
URL:https://dev.utahrecovers.org/meeting/recovery-dharma-hybrid-join-virtually-or-in-person-397/
LOCATION:Utah Support Advocates for Recovery Awareness – USARA\, 180 E 2100 S #100\, Salt Lake City\, UT 84115\, USA\, SLC RCC-1-Suite 100-Suite 100 Group Room (50)
CATEGORIES:Salt Lake Recovery Community Center
END:VEVENT
BEGIN:VEVENT
DTSTART;TZID=America/Denver:20260201T100000
DTEND;TZID=America/Denver:20260201T110000
DTSTAMP:20260423T125010
CREATED:20260119T185307Z
LAST-MODIFIED:20260119T185307Z
UID:10006972-1769940000-1769943600@dev.utahrecovers.org
SUMMARY:Sunday Morning Big Book Study (Hybrid - join virtually or in person!)
DESCRIPTION:https://us02web.zoom.us/j/89418418350?pwd=Rm9PSExNU3BEbURuZ09EaUpvcUZtdz09
URL:https://dev.utahrecovers.org/meeting/sunday-morning-big-book-study-hybrid-join-virtually-or-in-person-110/
LOCATION:Utah Support Advocates for Recovery Awareness – USARA\, 180 E 2100 S #100\, Salt Lake City\, UT 84115\, USA\, SLC RCC-1-Suite 100-Suite 100 Group Room (50)
CATEGORIES:Salt Lake Recovery Community Center
END:VEVENT
BEGIN:VEVENT
DTSTART;TZID=America/Denver:20260201T120000
DTEND;TZID=America/Denver:20260201T130000
DTSTAMP:20260423T125010
CREATED:20260119T185307Z
LAST-MODIFIED:20260119T185307Z
UID:10006973-1769947200-1769950800@dev.utahrecovers.org
SUMMARY:Recovery Dharma (Hybrid - join virtually or in person!)
DESCRIPTION:https://us02web.zoom.us/j/2361179850?pwd=NXhUUDNsUUpWYTNxdkhIOUcwNEhSUT09 \nContacts \n\nSteve Slater\n\nemail: slater.stevej@gmail.com
URL:https://dev.utahrecovers.org/meeting/recovery-dharma-hybrid-join-virtually-or-in-person-398/
LOCATION:Utah Support Advocates for Recovery Awareness – USARA\, 180 E 2100 S #100\, Salt Lake City\, UT 84115\, USA\, SLC RCC-1-Suite 100-Suite 100 Group Room (50)
CATEGORIES:Salt Lake Recovery Community Center
END:VEVENT
BEGIN:VEVENT
DTSTART;TZID=America/Denver:20260201T133000
DTEND;TZID=America/Denver:20260201T143000
DTSTAMP:20260423T125010
CREATED:20260119T185308Z
LAST-MODIFIED:20260119T185308Z
UID:10006974-1769952600-1769956200@dev.utahrecovers.org
SUMMARY:Clean\, Sober\, and Proud CMA - LGBTQ+ Focus (In person)
DESCRIPTION:Contacts \n\nBuzz T\n\ncell: (801) 664-5225\nemail: actalbotslc@gmail.com
URL:https://dev.utahrecovers.org/meeting/clean-sober-and-proud-cma-lgbtq-focus-in-person-56/
LOCATION:Utah Support Advocates for Recovery Awareness – USARA\, 180 E 2100 S #100\, Salt Lake City\, UT 84115\, USA\, SLC RCC-2-Suite 203-Suite 203 Group Room (40)
CATEGORIES:Salt Lake Recovery Community Center
END:VEVENT
BEGIN:VEVENT
DTSTART;TZID=America/Denver:20260201T160000
DTEND;TZID=America/Denver:20260201T170000
DTSTAMP:20260423T125010
CREATED:20260119T185308Z
LAST-MODIFIED:20260119T185308Z
UID:10006975-1769961600-1769965200@dev.utahrecovers.org
SUMMARY:CoDa for Addicts & Alcoholics (In person)
DESCRIPTION:
URL:https://dev.utahrecovers.org/meeting/coda-for-addicts-alcoholics-in-person-5/
LOCATION:Utah Support Advocates for Recovery Awareness – USARA\, 180 E 2100 S #100\, Salt Lake City\, UT 84115\, USA\, SLC RCC-1-Suite 100-Suite 100 Group Room (50)
CATEGORIES:Salt Lake Recovery Community Center
END:VEVENT
BEGIN:VEVENT
DTSTART;TZID=America/Denver:20260201T180000
DTEND;TZID=America/Denver:20260201T190000
DTSTAMP:20260423T125010
CREATED:20260119T185308Z
LAST-MODIFIED:20260119T185308Z
UID:10006976-1769968800-1769972400@dev.utahrecovers.org
SUMMARY:Sexaholics Anonymous (Hybrid - join virtually or in person!)
DESCRIPTION:https://zoom.us/j/608422086?pwd=Y1VmV2xsSWc4QVpaR3FHZDNOZnJsZz09
URL:https://dev.utahrecovers.org/meeting/sexaholics-anonymous-hybrid-join-virtually-or-in-person-74/
LOCATION:Utah Support Advocates for Recovery Awareness – USARA\, 180 E 2100 S #100\, Salt Lake City\, UT 84115\, USA\, SLC RCC-2-Suite 203-Suite 203 Group Room (40)
CATEGORIES:Salt Lake Recovery Community Center
END:VEVENT
BEGIN:VEVENT
DTSTART;TZID=America/Denver:20260202T170000
DTEND;TZID=America/Denver:20260202T180000
DTSTAMP:20260423T125010
CREATED:20260115T161949Z
LAST-MODIFIED:20260115T161949Z
UID:10006910-1770051600-1770055200@dev.utahrecovers.org
SUMMARY:Introduction to CRAFT Family Support (Virtual)
DESCRIPTION:Learn more about our Family Support Program before joining a weekly group! Register here: https://forms.gle/XVFb2o7W283AaC5B8
URL:https://dev.utahrecovers.org/meeting/introduction-to-craft-family-support-virtual-61/
END:VEVENT
BEGIN:VEVENT
DTSTART;TZID=America/Denver:20260202T170000
DTEND;TZID=America/Denver:20260202T180000
DTSTAMP:20260423T125010
CREATED:20260119T185308Z
LAST-MODIFIED:20260119T185308Z
UID:10006980-1770051600-1770055200@dev.utahrecovers.org
SUMMARY:Hopeful Changes Women's Book Study (In person)
DESCRIPTION:Currently reading: A Woman’s Way Through the Twelve Steps by Stephanie S Covington
URL:https://dev.utahrecovers.org/meeting/hopeful-changes-womens-book-study-in-person-15/
LOCATION:Utah Support Advocates for Recovery Awareness – USARA\, 180 E 2100 S #100\, Salt Lake City\, UT 84115\, USA\, SLC RCC-1-Suite 100-Suite 100 Group Room (50)
CATEGORIES:Salt Lake Recovery Community Center
END:VEVENT
BEGIN:VEVENT
DTSTART;TZID=America/Denver:20260202T174500
DTEND;TZID=America/Denver:20260202T184500
DTSTAMP:20260423T125010
CREATED:20260119T185308Z
LAST-MODIFIED:20260119T185308Z
UID:10006977-1770054300-1770057900@dev.utahrecovers.org
SUMMARY:The Young and Methless CMA (In person)
DESCRIPTION:
URL:https://dev.utahrecovers.org/meeting/the-young-and-methless-cma-in-person-28/
LOCATION:SLC RCC-2-Suite 203-Suite 203 Group Room (40)
CATEGORIES:Salt Lake Recovery Community Center
END:VEVENT
BEGIN:VEVENT
DTSTART;TZID=America/Denver:20260202T174500
DTEND;TZID=America/Denver:20260202T200000
DTSTAMP:20260423T125010
CREATED:20260119T185319Z
LAST-MODIFIED:20260119T185319Z
UID:10006981-1770054300-1770062400@dev.utahrecovers.org
SUMMARY:Guiding Good Choices (In person)
DESCRIPTION:
URL:https://dev.utahrecovers.org/meeting/guiding-good-choices-in-person/
LOCATION:Utah Support Advocates for Recovery Awareness – USARA\, 180 E 2100 S\, Salt Lake City\, UT\, United States
CATEGORIES:Salt Lake Recovery Community Center
GEO:40.725365;-111.885934
X-APPLE-STRUCTURED-LOCATION;VALUE=URI;X-ADDRESS=Utah Support Advocates for Recovery Awareness – USARA 180 E 2100 S Salt Lake City UT United States;X-APPLE-RADIUS=500;X-TITLE=180 E 2100 S:geo:-111.885934,40.725365
END:VEVENT
BEGIN:VEVENT
DTSTART;TZID=America/Denver:20260202T180000
DTEND;TZID=America/Denver:20260202T190000
DTSTAMP:20260423T125010
CREATED:20260119T185308Z
LAST-MODIFIED:20260119T185308Z
UID:10006979-1770055200-1770058800@dev.utahrecovers.org
SUMMARY:Recovery Dharma (In person)
DESCRIPTION:
URL:https://dev.utahrecovers.org/meeting/recovery-dharma-in-person-156/
LOCATION:Utah Support Advocates for Recovery Awareness – USARA\, 180 E 2100 S #100\, Salt Lake City\, UT 84115\, USA\, SLC RCC-1-Suite 100-Suite 100 Group Room (50)
CATEGORIES:Salt Lake Recovery Community Center
END:VEVENT
BEGIN:VEVENT
DTSTART;TZID=America/Denver:20260202T190000
DTEND;TZID=America/Denver:20260202T200000
DTSTAMP:20260423T125010
CREATED:20260119T185308Z
LAST-MODIFIED:20260119T185308Z
UID:10006978-1770058800-1770062400@dev.utahrecovers.org
SUMMARY:SLAA Keys to the Kingdom (Hybrid - join virtually or in person!)
DESCRIPTION:https://us06web.zoom.us/j/85794034807?pwd=URUt6a4WAEshIr7IKpYagkFvD9Aj6b.1
URL:https://dev.utahrecovers.org/meeting/slaa-keys-to-the-kingdom-hybrid-join-virtually-or-in-person-111/
LOCATION:Utah Support Advocates for Recovery Awareness – USARA\, 180 E 2100 S #100\, Salt Lake City\, UT 84115\, USA\, SLC RCC-2-Suite 203-Suite 203 Group Room (40)
CATEGORIES:Salt Lake Recovery Community Center
END:VEVENT
BEGIN:VEVENT
DTSTART;TZID=America/Denver:20260203T170000
DTEND;TZID=America/Denver:20260203T180000
DTSTAMP:20260423T125010
CREATED:20260119T185320Z
LAST-MODIFIED:20260119T185320Z
UID:10006983-1770138000-1770141600@dev.utahrecovers.org
SUMMARY:Veterans Support Group (In person)
DESCRIPTION:
URL:https://dev.utahrecovers.org/meeting/veterans-support-group-in-person-54/
LOCATION:Utah Support Advocates for Recovery Awareness – USARA\, 180 E 2100 S #100\, Salt Lake City\, UT 84115\, USA\, SLC RCC-1-Suite 100-Suite 100 Group Room (50)
CATEGORIES:Salt Lake Recovery Community Center
END:VEVENT
BEGIN:VEVENT
DTSTART;TZID=America/Denver:20260203T170000
DTEND;TZID=America/Denver:20260203T183000
DTSTAMP:20260423T125010
CREATED:20260119T185319Z
LAST-MODIFIED:20260119T185319Z
UID:10006982-1770138000-1770143400@dev.utahrecovers.org
SUMMARY:Community Ear Acudetox Clinic (In person)
DESCRIPTION:
URL:https://dev.utahrecovers.org/meeting/community-ear-acudetox-clinic-in-person-55/
LOCATION:Utah Support Advocates for Recovery Awareness – USARA\, 180 E 2100 S #100\, Salt Lake City\, UT 84115\, USA\, SLC RCC-2-Suite 205-Suite 205 Conference Room (18)
CATEGORIES:Salt Lake Recovery Community Center
END:VEVENT
BEGIN:VEVENT
DTSTART;TZID=America/Denver:20260203T180000
DTEND;TZID=America/Denver:20260203T193000
DTSTAMP:20260423T125010
CREATED:20260115T161949Z
LAST-MODIFIED:20260115T161949Z
UID:10006911-1770141600-1770147000@dev.utahrecovers.org
SUMMARY:CRAFT Family Support Group (Virtual)
DESCRIPTION: Register here: https://forms.gle/XVFb2o7W283AaC5B8
URL:https://dev.utahrecovers.org/meeting/craft-family-support-group-virtual-171/
END:VEVENT
BEGIN:VEVENT
DTSTART;TZID=America/Denver:20260203T180000
DTEND;TZID=America/Denver:20260203T193000
DTSTAMP:20260423T125010
CREATED:20260119T185320Z
LAST-MODIFIED:20260119T185320Z
UID:10006985-1770141600-1770147000@dev.utahrecovers.org
SUMMARY:Hopeful Changes Women's Group (In person)
DESCRIPTION:Contacts \n\nMeg Kisselburg\n\ncell: (801) 652-4840\nemail: megk19@gmail.com
URL:https://dev.utahrecovers.org/meeting/hopeful-changes-womens-group-in-person-55/
LOCATION:Utah Support Advocates for Recovery Awareness – USARA\, 180 E 2100 S #100\, Salt Lake City\, UT 84115\, USA\, SLC RCC-1-Suite 100-Suite 100 Group Room (50)
CATEGORIES:Salt Lake Recovery Community Center
END:VEVENT
BEGIN:VEVENT
DTSTART;TZID=America/Denver:20260203T193000
DTEND;TZID=America/Denver:20260203T203000
DTSTAMP:20260423T125010
CREATED:20260119T185320Z
LAST-MODIFIED:20260119T185320Z
UID:10006984-1770147000-1770150600@dev.utahrecovers.org
SUMMARY:CaliSober Recovery Meeting (In person)
DESCRIPTION:
URL:https://dev.utahrecovers.org/meeting/calisober-recovery-meeting-in-person-7/
LOCATION:Utah Support Advocates for Recovery Awareness – USARA\, 180 E 2100 S #100\, Salt Lake City\, UT 84115\, USA\, SLC RCC-1-Suite 100-Suite 100 Group Room (50)
CATEGORIES:Salt Lake Recovery Community Center
END:VEVENT
BEGIN:VEVENT
DTSTART;TZID=America/Denver:20260204T063000
DTEND;TZID=America/Denver:20260204T073000
DTSTAMP:20260423T125010
CREATED:20260115T161949Z
LAST-MODIFIED:20260115T161949Z
UID:10006912-1770186600-1770190200@dev.utahrecovers.org
SUMMARY:MAT Recovery Support Group (Virtual)
DESCRIPTION:
URL:https://dev.utahrecovers.org/meeting/mat-recovery-support-group-virtual-61/
LOCATION:https://us02web.zoom.us/j/81392387071?pwd=VkVkQ21GUXB6NEpsbTNmT3c4cytVZz09
END:VEVENT
BEGIN:VEVENT
DTSTART;TZID=America/Denver:20260204T120000
DTEND;TZID=America/Denver:20260204T130000
DTSTAMP:20260423T125010
CREATED:20260119T185320Z
LAST-MODIFIED:20260119T185320Z
UID:10006986-1770206400-1770210000@dev.utahrecovers.org
SUMMARY:Recovery Dharma (Hybrid - join virtually or in person!)
DESCRIPTION:https://us02web.zoom.us/j/2361179850?pwd=NXhUUDNsUUpWYTNxdkhIOUcwNEhSUT09 \nContacts \n\nSteve Slater\n\nemail: slater.stevej@gmail.com
URL:https://dev.utahrecovers.org/meeting/recovery-dharma-hybrid-join-virtually-or-in-person-399/
LOCATION:Utah Support Advocates for Recovery Awareness – USARA\, 180 E 2100 S #100\, Salt Lake City\, UT 84115\, USA\, SLC RCC-1-Suite 100-Suite 100 Group Room (50)
CATEGORIES:Salt Lake Recovery Community Center
END:VEVENT
BEGIN:VEVENT
DTSTART;TZID=America/Denver:20260204T180000
DTEND;TZID=America/Denver:20260204T193000
DTSTAMP:20260423T125010
CREATED:20260119T185320Z
LAST-MODIFIED:20260119T185320Z
UID:10006987-1770228000-1770233400@dev.utahrecovers.org
SUMMARY:CRAFT Family Support (In person)
DESCRIPTION:
URL:https://dev.utahrecovers.org/meeting/craft-family-support-in-person-115/
LOCATION:Utah Support Advocates for Recovery Awareness – USARA\, 180 E 2100 S #100\, Salt Lake City\, UT 84115\, USA\, SLC RCC-1-Suite 100-Suite 100 Group Room (50)
CATEGORIES:Salt Lake Recovery Community Center
END:VEVENT
BEGIN:VEVENT
DTSTART;TZID=America/Denver:20260204T180000
DTEND;TZID=America/Denver:20260204T193000
DTSTAMP:20260423T125010
CREATED:20260119T185320Z
LAST-MODIFIED:20260119T185320Z
UID:10006988-1770228000-1770233400@dev.utahrecovers.org
SUMMARY:SMART Recovery (Hybrid - join virtually or in person!)
DESCRIPTION:https://meet.google.com/eqj-itap-ibd \nContacts \n\nDeano\n\ncell: (801) 648-5442
URL:https://dev.utahrecovers.org/meeting/smart-recovery-hybrid-join-virtually-or-in-person-217/
LOCATION:Utah Support Advocates for Recovery Awareness – USARA\, 180 E 2100 S #100\, Salt Lake City\, UT 84115\, USA\, SLC RCC-2-Suite 203-Suite 203 Group Room (40)
CATEGORIES:Salt Lake Recovery Community Center
END:VEVENT
BEGIN:VEVENT
DTSTART;TZID=America/Denver:20260204T200000
DTEND;TZID=America/Denver:20260204T210000
DTSTAMP:20260423T125010
CREATED:20260119T185320Z
LAST-MODIFIED:20260119T185320Z
UID:10006989-1770235200-1770238800@dev.utahrecovers.org
SUMMARY:Addicts Fighting Back (In person)
DESCRIPTION:Contacts
URL:https://dev.utahrecovers.org/meeting/addicts-fighting-back-in-person-57/
LOCATION:Utah Support Advocates for Recovery Awareness – USARA\, 180 E 2100 S #100\, Salt Lake City\, UT 84115\, USA\, SLC RCC-1-Suite 100-Suite 100 Group Room (50)
CATEGORIES:Salt Lake Recovery Community Center
END:VEVENT
BEGIN:VEVENT
DTSTART;TZID=America/Denver:20260205T093000
DTEND;TZID=America/Denver:20260205T163000
DTSTAMP:20260423T125010
CREATED:20260119T185320Z
LAST-MODIFIED:20260119T185320Z
UID:10006990-1770283800-1770309000@dev.utahrecovers.org
SUMMARY:Clean Slate - Fingerprints (In person)
DESCRIPTION:
URL:https://dev.utahrecovers.org/meeting/clean-slate-fingerprints-in-person-59/
LOCATION:SLC RCC-1-Suite 100-Suite 100 Group Room (50)
CATEGORIES:Salt Lake Recovery Community Center
END:VEVENT
BEGIN:VEVENT
DTSTART;TZID=America/Denver:20260205T170000
DTEND;TZID=America/Denver:20260205T183000
DTSTAMP:20260423T125010
CREATED:20260119T185333Z
LAST-MODIFIED:20260119T185333Z
UID:10006992-1770310800-1770316200@dev.utahrecovers.org
SUMMARY:Clean Slate Utah & SJ Quinney College of Law Expungement Clinic (In person)
DESCRIPTION:
URL:https://dev.utahrecovers.org/meeting/clean-slate-utah-sj-quinney-college-of-law-expungement-clinic-in-person/
LOCATION:Utah Support Advocates for Recovery Awareness – USARA\, 180 E 2100 S #100\, Salt Lake City\, UT 84115\, USA\, SLC RCC-2-Suite 203-Suite 203 Group Room (40)
CATEGORIES:Salt Lake Recovery Community Center
END:VEVENT
END:VCALENDAR