BEGIN:VCALENDAR
VERSION:2.0
PRODID:-//USARA - Utah Recovers - ECPv6.15.18//NONSGML v1.0//EN
CALSCALE:GREGORIAN
METHOD:PUBLISH
X-WR-CALNAME:USARA - Utah Recovers
X-ORIGINAL-URL:https://dev.utahrecovers.org
X-WR-CALDESC:Events for USARA - Utah Recovers
REFRESH-INTERVAL;VALUE=DURATION:PT1H
X-Robots-Tag:noindex
X-PUBLISHED-TTL:PT1H
BEGIN:VTIMEZONE
TZID:America/Denver
BEGIN:DAYLIGHT
TZOFFSETFROM:-0700
TZOFFSETTO:-0600
TZNAME:MDT
DTSTART:20240310T090000
END:DAYLIGHT
BEGIN:STANDARD
TZOFFSETFROM:-0600
TZOFFSETTO:-0700
TZNAME:MST
DTSTART:20241103T080000
END:STANDARD
BEGIN:DAYLIGHT
TZOFFSETFROM:-0700
TZOFFSETTO:-0600
TZNAME:MDT
DTSTART:20250309T090000
END:DAYLIGHT
BEGIN:STANDARD
TZOFFSETFROM:-0600
TZOFFSETTO:-0700
TZNAME:MST
DTSTART:20251102T080000
END:STANDARD
BEGIN:DAYLIGHT
TZOFFSETFROM:-0700
TZOFFSETTO:-0600
TZNAME:MDT
DTSTART:20260308T090000
END:DAYLIGHT
BEGIN:STANDARD
TZOFFSETFROM:-0600
TZOFFSETTO:-0700
TZNAME:MST
DTSTART:20261101T080000
END:STANDARD
END:VTIMEZONE
BEGIN:VEVENT
DTSTART;TZID=America/Denver:20250521T093000
DTEND;TZID=America/Denver:20250521T103000
DTSTAMP:20260424T065341
CREATED:20250521T152804Z
LAST-MODIFIED:20250521T153522Z
UID:10006422-1747819800-1747823400@dev.utahrecovers.org
SUMMARY:Coffee & Recovery - Ogden (Hybrid - join virtually or in person!)
DESCRIPTION:Join Zoom Meetinghttps://us02web.zoom.us/j/84527707707?pwd=pnsLRCwODPuOrO4Q3UnBjhYj64BvD2.1 (ID: 84527707707\, passcode: 642553) \nJoin by phone(US) +1 564-217-2000 (passcode: 642553) \nJoining instructions: https://www.google.com/url?q=https://applications.zoom.us/addon/invitation/detail?meetingUuid%3D8hALuLkfSs6VDECA569gnw%253D%253D%26signature%3D7b5ca8bc518361ef1ef93b4945bc4e702133503300216e7889ecc5c342f75ba0%26v%3D1&sa=D&source=calendar&usg=AOvVaw1HemuJZ5yvZTZ721h85OAP \nMeeting host: patrick.cox@myusara.com \nJoin Zoom Meeting: https://us02web.zoom.us/j/84527707707?pwd=pnsLRCwODPuOrO4Q3UnBjhYj64BvD2.1
URL:https://dev.utahrecovers.org/meeting/coffee-recovery-ogden-hybrid-join-virtually-or-in-person-71/
LOCATION:Utah Support Advocates for Recovery Awareness – USARA – Ogden\, 893 24th St\, Ogden\, UT\, United States
CATEGORIES:Virtual Meetings
GEO:41.222498;-111.956726
X-APPLE-STRUCTURED-LOCATION;VALUE=URI;X-ADDRESS=Utah Support Advocates for Recovery Awareness – USARA – Ogden 893 24th St Ogden UT United States;X-APPLE-RADIUS=500;X-TITLE=893 24th St:geo:-111.956726,41.222498
END:VEVENT
BEGIN:VEVENT
DTSTART;TZID=America/Denver:20250521T093000
DTEND;TZID=America/Denver:20250521T103000
DTSTAMP:20260424T065341
CREATED:20250521T152804Z
LAST-MODIFIED:20250521T153522Z
UID:10006423-1747819800-1747823400@dev.utahrecovers.org
SUMMARY:Empowerment Exchange Book club (Hybrid - join online or in person)
DESCRIPTION:Join with Google Meet: https://meet.google.com/gku-iniz-fggOr dial: (US) +1 252-656-5357 PIN: 235894205#More phone numbers: https://tel.meet/gku-iniz-fgg?pin=5721326304142&hs=7 \nLearn more about Meet at: https://support.google.com/a/users/answer/9282720
URL:https://dev.utahrecovers.org/meeting/empowerment-exchange-book-club-hybrid-join-online-or-in-person-44/
LOCATION:Utah Support Advocates for Recovery Awareness – USARA – Moab\, 23 S 100 W\, Moab\, UT\, United States
CATEGORIES:Virtual Meetings
GEO:38.57309;-109.552616
X-APPLE-STRUCTURED-LOCATION;VALUE=URI;X-ADDRESS=Utah Support Advocates for Recovery Awareness – USARA – Moab 23 S 100 W Moab UT United States;X-APPLE-RADIUS=500;X-TITLE=23 S 100 W:geo:-109.552616,38.57309
END:VEVENT
BEGIN:VEVENT
DTSTART;TZID=America/Denver:20250521T120000
DTEND;TZID=America/Denver:20250521T130000
DTSTAMP:20260424T065341
CREATED:20250521T152804Z
LAST-MODIFIED:20250521T153522Z
UID:10006424-1747828800-1747832400@dev.utahrecovers.org
SUMMARY:Recovery Dharma (Hybrid - join virtually or in person!)
DESCRIPTION:https://us02web.zoom.us/j/2361179850?pwd=NXhUUDNsUUpWYTNxdkhIOUcwNEhSUT09 \nContacts \n\nSteve\n\nemail: slater.stevej@gmail.com
URL:https://dev.utahrecovers.org/meeting/recovery-dharma-hybrid-join-virtually-or-in-person-354/
LOCATION:Utah Support Advocates for Recovery Awareness – USARA\, 180 E 2100 S\, Salt Lake City\, UT\, United States
CATEGORIES:Virtual Meetings
GEO:40.725365;-111.885934
X-APPLE-STRUCTURED-LOCATION;VALUE=URI;X-ADDRESS=Utah Support Advocates for Recovery Awareness – USARA 180 E 2100 S Salt Lake City UT United States;X-APPLE-RADIUS=500;X-TITLE=180 E 2100 S:geo:-111.885934,40.725365
END:VEVENT
BEGIN:VEVENT
DTSTART;TZID=America/Denver:20250521T180000
DTEND;TZID=America/Denver:20250521T193000
DTSTAMP:20260424T065341
CREATED:20250521T152805Z
LAST-MODIFIED:20250521T153522Z
UID:10006425-1747850400-1747855800@dev.utahrecovers.org
SUMMARY:CRAFT un grupo de apoyo familiar en Espanol by LBHS (Hybrid - en persona o virtual!)
DESCRIPTION:
URL:https://dev.utahrecovers.org/meeting/craft-un-grupo-de-apoyo-familiar-en-espanol-by-lbhs-hybrid-en-persona-o-virtual-48/
LOCATION:https://us02web.zoom.us/j/84574681665
CATEGORIES:Virtual Meetings
END:VEVENT
BEGIN:VEVENT
DTSTART;TZID=America/Denver:20250521T180000
DTEND;TZID=America/Denver:20250521T193000
DTSTAMP:20260424T065341
CREATED:20250521T152805Z
LAST-MODIFIED:20250521T153522Z
UID:10006426-1747850400-1747855800@dev.utahrecovers.org
SUMMARY:SMART Recovery (Hybrid - join virtually or in person!)
DESCRIPTION:https://meet.google.com/eqj-itap-ibd \nContacts \n\nDeano\n\ncell: (801) 648-5442
URL:https://dev.utahrecovers.org/meeting/smart-recovery-hybrid-join-virtually-or-in-person-194/
LOCATION:Utah Support Advocates for Recovery Awareness – USARA\, 180 E 2100 S\, Salt Lake City\, UT\, United States
CATEGORIES:Virtual Meetings
GEO:40.725365;-111.885934
X-APPLE-STRUCTURED-LOCATION;VALUE=URI;X-ADDRESS=Utah Support Advocates for Recovery Awareness – USARA 180 E 2100 S Salt Lake City UT United States;X-APPLE-RADIUS=500;X-TITLE=180 E 2100 S:geo:-111.885934,40.725365
END:VEVENT
BEGIN:VEVENT
DTSTART;TZID=America/Denver:20250521T180000
DTEND;TZID=America/Denver:20250521T193000
DTSTAMP:20260424T065341
CREATED:20250521T152805Z
LAST-MODIFIED:20250521T153522Z
UID:10006427-1747850400-1747855800@dev.utahrecovers.org
SUMMARY:CRAFT Family Support Group (Virtual)
DESCRIPTION:password: 854607
URL:https://dev.utahrecovers.org/meeting/craft-family-support-group-virtual-143/
LOCATION:https://us02web.zoom.us/j/86950545911
CATEGORIES:Virtual Meetings
END:VEVENT
BEGIN:VEVENT
DTSTART;TZID=America/Denver:20250521T203000
DTEND;TZID=America/Denver:20250521T210000
DTSTAMP:20260424T065341
CREATED:20250521T152805Z
LAST-MODIFIED:20250521T153522Z
UID:10006428-1747859400-1747861200@dev.utahrecovers.org
SUMMARY:Self-Compassion Break (Virtual)
DESCRIPTION:A self compassion break is a short practice that can help you feel less isolated\, acknowledge stress\, and practice self-compassion when you are struggling. This practice is open to everyone!
URL:https://dev.utahrecovers.org/meeting/self-compassion-break-virtual-222/
LOCATION:https://us02web.zoom.us/j/86950545911?pwd=OFZGMlFiTWVkcHp2Yi8yQmVmSWhyUT09
CATEGORIES:Virtual Meetings
END:VEVENT
BEGIN:VEVENT
DTSTART;TZID=America/Denver:20250522T090000
DTEND;TZID=America/Denver:20250522T100000
DTSTAMP:20260424T065341
CREATED:20250521T152805Z
LAST-MODIFIED:20250521T153522Z
UID:10006429-1747904400-1747908000@dev.utahrecovers.org
SUMMARY:Coffee & Recovery (Hybrid - join virtually or in person!)
DESCRIPTION:Join with Google Meet: https://meet.google.com/ydy-xvee-rqtOr dial: (US) +1 478-412-7414 PIN: 189703499#More phone numbers: https://tel.meet/ydy-xvee-rqt?pin=4876928882810&hs=7 \nLearn more about Meet at: https://support.google.com/a/users/answer/9282720
URL:https://dev.utahrecovers.org/meeting/coffee-recovery-hybrid-join-virtually-or-in-person-346/
LOCATION:Utah Support Advocates for Recovery Awareness – USARA – Price\, 91 E Main St\, Price\, UT\, United States
CATEGORIES:Virtual Meetings
GEO:39.348812;-110.851077
X-APPLE-STRUCTURED-LOCATION;VALUE=URI;X-ADDRESS=Utah Support Advocates for Recovery Awareness – USARA – Price 91 E Main St Price UT United States;X-APPLE-RADIUS=500;X-TITLE=91 E Main St:geo:-110.851077,39.348812
END:VEVENT
BEGIN:VEVENT
DTSTART;TZID=America/Denver:20250522T173000
DTEND;TZID=America/Denver:20250522T183000
DTSTAMP:20260424T065341
CREATED:20250521T152805Z
LAST-MODIFIED:20250521T153535Z
UID:10006430-1747935000-1747938600@dev.utahrecovers.org
SUMMARY:Psychedelics in Recovery (Hybrid - join virtually or in person!)
DESCRIPTION:https://us06web.zoom.us/j/86332491277?pwd=53DYFwemMM16J1zhZSYaRi8qMlbFHH.1 \nMeeting ID: 863 3249 1277Passcode: 144990
URL:https://dev.utahrecovers.org/meeting/psychedelics-in-recovery-hybrid-join-virtually-or-in-person-41/
LOCATION:Utah Support Advocates for Recovery Awareness – USARA\, 180 E 2100 S\, Salt Lake City\, UT\, United States
CATEGORIES:Virtual Meetings
GEO:40.725365;-111.885934
X-APPLE-STRUCTURED-LOCATION;VALUE=URI;X-ADDRESS=Utah Support Advocates for Recovery Awareness – USARA 180 E 2100 S Salt Lake City UT United States;X-APPLE-RADIUS=500;X-TITLE=180 E 2100 S:geo:-111.885934,40.725365
END:VEVENT
BEGIN:VEVENT
DTSTART;TZID=America/Denver:20250522T180000
DTEND;TZID=America/Denver:20250522T190000
DTSTAMP:20260424T065341
CREATED:20250521T153523Z
LAST-MODIFIED:20250521T153523Z
UID:10006521-1747936800-1747940400@dev.utahrecovers.org
SUMMARY:SMART Recovery (Virtual)
DESCRIPTION:For more information\, visit: https://meetings.smartrecovery.org/meetings/7920/
URL:https://dev.utahrecovers.org/meeting/smart-recovery-virtual-15/
LOCATION:https://smartrecovery.zoom.us/j/96174767538
CATEGORIES:Virtual Meetings
END:VEVENT
BEGIN:VEVENT
DTSTART;TZID=America/Denver:20250522T180000
DTEND;TZID=America/Denver:20250522T193000
DTSTAMP:20260424T065341
CREATED:20250521T153523Z
LAST-MODIFIED:20250521T153523Z
UID:10006520-1747936800-1747942200@dev.utahrecovers.org
SUMMARY:CRAFT Family Support Group (Virtual)
DESCRIPTION:password: 854607
URL:https://dev.utahrecovers.org/meeting/craft-family-support-group-virtual-144/
LOCATION:https://us02web.zoom.us/j/86950545911
CATEGORIES:Virtual Meetings
END:VEVENT
BEGIN:VEVENT
DTSTART;TZID=America/Denver:20250523T110000
DTEND;TZID=America/Denver:20250523T120000
DTSTAMP:20260424T065341
CREATED:20250521T153535Z
LAST-MODIFIED:20250521T153535Z
UID:10006522-1747998000-1748001600@dev.utahrecovers.org
SUMMARY:Coffee & Recovery (Hybrid - join virtually or in person!)
DESCRIPTION:Join with Google Meet: https://meet.google.com/hrb-awdg-zmdOr dial: (US) +1 508-506-1551 PIN: 141472344#More phone numbers: https://tel.meet/hrb-awdg-zmd?pin=1300156360240&hs=7 \nLearn more about Meet at: https://support.google.com/a/users/answer/9282720
URL:https://dev.utahrecovers.org/meeting/coffee-recovery-hybrid-join-virtually-or-in-person-347/
LOCATION:Utah Support Advocates for Recovery Awareness – USARA – Moab\, 23 S 100 W\, Moab\, UT\, United States
CATEGORIES:Virtual Meetings
GEO:38.57309;-109.552616
X-APPLE-STRUCTURED-LOCATION;VALUE=URI;X-ADDRESS=Utah Support Advocates for Recovery Awareness – USARA – Moab 23 S 100 W Moab UT United States;X-APPLE-RADIUS=500;X-TITLE=23 S 100 W:geo:-109.552616,38.57309
END:VEVENT
BEGIN:VEVENT
DTSTART;TZID=America/Denver:20250523T120000
DTEND;TZID=America/Denver:20250523T130000
DTSTAMP:20260424T065341
CREATED:20250521T153535Z
LAST-MODIFIED:20250521T153535Z
UID:10006523-1748001600-1748005200@dev.utahrecovers.org
SUMMARY:Recovery Dharma (Hybrid - join virtually or in person!)
DESCRIPTION:https://us02web.zoom.us/j/2361179850?pwd=NXhUUDNsUUpWYTNxdkhIOUcwNEhSUT09 \nContacts \n\nSteve\n\nemail: slater.stevej@gmail.com
URL:https://dev.utahrecovers.org/meeting/recovery-dharma-hybrid-join-virtually-or-in-person-356/
LOCATION:Utah Support Advocates for Recovery Awareness – USARA\, 180 E 2100 S\, Salt Lake City\, UT\, United States
CATEGORIES:Virtual Meetings
GEO:40.725365;-111.885934
X-APPLE-STRUCTURED-LOCATION;VALUE=URI;X-ADDRESS=Utah Support Advocates for Recovery Awareness – USARA 180 E 2100 S Salt Lake City UT United States;X-APPLE-RADIUS=500;X-TITLE=180 E 2100 S:geo:-111.885934,40.725365
END:VEVENT
BEGIN:VEVENT
DTSTART;TZID=America/Denver:20250524T083000
DTEND;TZID=America/Denver:20250524T093000
DTSTAMP:20260424T065341
CREATED:20250521T153536Z
LAST-MODIFIED:20250521T153536Z
UID:10006524-1748075400-1748079000@dev.utahrecovers.org
SUMMARY:Sexaholics Anonymous (Hybrid - join online or in person!)
DESCRIPTION:https://us02web.zoom.us/j/86238197798?pwd=OTA2ZmY5YUVzcURMRllId3JyRVliZz09
URL:https://dev.utahrecovers.org/meeting/sexaholics-anonymous-hybrid-join-online-or-in-person-98/
LOCATION:Utah Support Advocates for Recovery Awareness – USARA\, 180 E 2100 S\, Salt Lake City\, UT\, United States
CATEGORIES:Virtual Meetings
GEO:40.725365;-111.885934
X-APPLE-STRUCTURED-LOCATION;VALUE=URI;X-ADDRESS=Utah Support Advocates for Recovery Awareness – USARA 180 E 2100 S Salt Lake City UT United States;X-APPLE-RADIUS=500;X-TITLE=180 E 2100 S:geo:-111.885934,40.725365
END:VEVENT
BEGIN:VEVENT
DTSTART;TZID=America/Denver:20250524T093000
DTEND;TZID=America/Denver:20250524T110000
DTSTAMP:20260424T065341
CREATED:20250521T153536Z
LAST-MODIFIED:20250521T153536Z
UID:10006525-1748079000-1748084400@dev.utahrecovers.org
SUMMARY:SMART Recovery (Hybrid - join virtually or in person)
DESCRIPTION:https://smartrecovery.zoom.us/j/932119283 \nContacts \n\nJamiel\n\nemail: jamielk101@gmail.com
URL:https://dev.utahrecovers.org/meeting/smart-recovery-hybrid-join-virtually-or-in-person-196/
LOCATION:Utah Support Advocates for Recovery Awareness – USARA\, 180 E 2100 S\, Salt Lake City\, UT\, United States
CATEGORIES:Virtual Meetings
GEO:40.725365;-111.885934
X-APPLE-STRUCTURED-LOCATION;VALUE=URI;X-ADDRESS=Utah Support Advocates for Recovery Awareness – USARA 180 E 2100 S Salt Lake City UT United States;X-APPLE-RADIUS=500;X-TITLE=180 E 2100 S:geo:-111.885934,40.725365
END:VEVENT
END:VCALENDAR