BEGIN:VCALENDAR
VERSION:2.0
PRODID:-//USARA - Utah Recovers - ECPv6.15.18//NONSGML v1.0//EN
CALSCALE:GREGORIAN
METHOD:PUBLISH
X-ORIGINAL-URL:https://dev.utahrecovers.org
X-WR-CALDESC:Events for USARA - Utah Recovers
REFRESH-INTERVAL;VALUE=DURATION:PT1H
X-Robots-Tag:noindex
X-PUBLISHED-TTL:PT1H
BEGIN:VTIMEZONE
TZID:America/Denver
BEGIN:DAYLIGHT
TZOFFSETFROM:-0700
TZOFFSETTO:-0600
TZNAME:MDT
DTSTART:20240310T090000
END:DAYLIGHT
BEGIN:STANDARD
TZOFFSETFROM:-0600
TZOFFSETTO:-0700
TZNAME:MST
DTSTART:20241103T080000
END:STANDARD
BEGIN:DAYLIGHT
TZOFFSETFROM:-0700
TZOFFSETTO:-0600
TZNAME:MDT
DTSTART:20250309T090000
END:DAYLIGHT
BEGIN:STANDARD
TZOFFSETFROM:-0600
TZOFFSETTO:-0700
TZNAME:MST
DTSTART:20251102T080000
END:STANDARD
BEGIN:DAYLIGHT
TZOFFSETFROM:-0700
TZOFFSETTO:-0600
TZNAME:MDT
DTSTART:20260308T090000
END:DAYLIGHT
BEGIN:STANDARD
TZOFFSETFROM:-0600
TZOFFSETTO:-0700
TZNAME:MST
DTSTART:20261101T080000
END:STANDARD
END:VTIMEZONE
BEGIN:VEVENT
DTSTART;TZID=America/Denver:20250617T180000
DTEND;TZID=America/Denver:20250617T193000
DTSTAMP:20260423T154904
CREATED:20250521T153737Z
LAST-MODIFIED:20250521T153737Z
UID:10006609-1750183200-1750188600@dev.utahrecovers.org
SUMMARY:CRAFT Family Support Group (Virtual)
DESCRIPTION:password: 854607
URL:https://dev.utahrecovers.org/meeting/craft-family-support-group-virtual-154/
LOCATION:https://us02web.zoom.us/j/86950545911
CATEGORIES:Virtual Meetings
END:VEVENT
BEGIN:VEVENT
DTSTART;TZID=America/Denver:20250617T090000
DTEND;TZID=America/Denver:20250617T100000
DTSTAMP:20260423T154904
CREATED:20250521T153737Z
LAST-MODIFIED:20250521T153737Z
UID:10006608-1750150800-1750154400@dev.utahrecovers.org
SUMMARY:Coffee & Recovery (Hybrid - join virtually or in person!)
DESCRIPTION:Join with Google Meet: https://meet.google.com/ydy-xvee-rqtOr dial: (US) +1 478-412-7414 PIN: 189703499#More phone numbers: https://tel.meet/ydy-xvee-rqt?pin=4876928882810&hs=7 \nLearn more about Meet at: https://support.google.com/a/users/answer/9282720
URL:https://dev.utahrecovers.org/meeting/coffee-recovery-hybrid-join-virtually-or-in-person-361/
LOCATION:Utah Support Advocates for Recovery Awareness – USARA – Price\, 91 E Main St\, Price\, UT\, United States
CATEGORIES:Virtual Meetings
GEO:39.348812;-110.851077
X-APPLE-STRUCTURED-LOCATION;VALUE=URI;X-ADDRESS=Utah Support Advocates for Recovery Awareness – USARA – Price 91 E Main St Price UT United States;X-APPLE-RADIUS=500;X-TITLE=91 E Main St:geo:-110.851077,39.348812
END:VEVENT
BEGIN:VEVENT
DTSTART;TZID=America/Denver:20250616T190000
DTEND;TZID=America/Denver:20250616T200000
DTSTAMP:20260423T154904
CREATED:20250521T153736Z
LAST-MODIFIED:20250521T153736Z
UID:10006606-1750100400-1750104000@dev.utahrecovers.org
SUMMARY:SLAA Keys to the Kingdom (Hybrid - join virtually or in person!)
DESCRIPTION:https://us02web.zoom.us/j/85092306619?pwd=eXBTV0kyUGRDclNISkJZQVhwNXBLdz09 \nContacts \n\nRick\n\nemail: faklass@gmail.com
URL:https://dev.utahrecovers.org/meeting/slaa-keys-to-the-kingdom-hybrid-join-virtually-or-in-person-104/
LOCATION:Utah Support Advocates for Recovery Awareness – USARA\, 180 E 2100 S\, Salt Lake City\, UT\, United States
CATEGORIES:Virtual Meetings
GEO:40.725365;-111.885934
X-APPLE-STRUCTURED-LOCATION;VALUE=URI;X-ADDRESS=Utah Support Advocates for Recovery Awareness – USARA 180 E 2100 S Salt Lake City UT United States;X-APPLE-RADIUS=500;X-TITLE=180 E 2100 S:geo:-111.885934,40.725365
END:VEVENT
BEGIN:VEVENT
DTSTART;TZID=America/Denver:20250616T180000
DTEND;TZID=America/Denver:20250616T190000
DTSTAMP:20260423T154904
CREATED:20250521T153737Z
LAST-MODIFIED:20250521T153737Z
UID:10006607-1750096800-1750100400@dev.utahrecovers.org
SUMMARY:Recovery Dharma (Hybrid - join virtually or in person!)
DESCRIPTION:Zoom Meeting ID: 85240868496Password: 11111
URL:https://dev.utahrecovers.org/meeting/recovery-dharma-hybrid-join-virtually-or-in-person-370/
LOCATION:240 N Highway 153\, Beaver\, UT\, United States
CATEGORIES:Virtual Meetings
GEO:38.27691;-112.64105
END:VEVENT
BEGIN:VEVENT
DTSTART;TZID=America/Denver:20250616T170000
DTEND;TZID=America/Denver:20250616T180000
DTSTAMP:20260423T154904
CREATED:20250521T153736Z
LAST-MODIFIED:20250521T153736Z
UID:10006604-1750093200-1750096800@dev.utahrecovers.org
SUMMARY:Coffee & Recovery (Hybrid - join virtually or in person!)
DESCRIPTION:Join with Google Meet: https://meet.google.com/hrb-awdg-zmdOr dial: (US) +1 508-506-1551 PIN: 141472344#More phone numbers: https://tel.meet/hrb-awdg-zmd?pin=1300156360240&hs=7 \nLearn more about Meet at: https://support.google.com/a/users/answer/9282720
URL:https://dev.utahrecovers.org/meeting/coffee-recovery-hybrid-join-virtually-or-in-person-360/
LOCATION:Utah Support Advocates for Recovery Awareness – USARA – Moab\, 23 S 100 W\, Moab\, UT\, United States
CATEGORIES:Virtual Meetings
GEO:38.57309;-109.552616
X-APPLE-STRUCTURED-LOCATION;VALUE=URI;X-ADDRESS=Utah Support Advocates for Recovery Awareness – USARA – Moab 23 S 100 W Moab UT United States;X-APPLE-RADIUS=500;X-TITLE=23 S 100 W:geo:-109.552616,38.57309
END:VEVENT
BEGIN:VEVENT
DTSTART;TZID=America/Denver:20250616T170000
DTEND;TZID=America/Denver:20250616T180000
DTSTAMP:20260423T154904
CREATED:20250521T153736Z
LAST-MODIFIED:20250521T153736Z
UID:10006605-1750093200-1750096800@dev.utahrecovers.org
SUMMARY:Introduction to CRAFT Family Support (Virtual)
DESCRIPTION:Learn more about our Family Support Program before joining a weekly group!
URL:https://dev.utahrecovers.org/meeting/introduction-to-craft-family-support-virtual-54/
LOCATION:https://us02web.zoom.us/j/86950545911?pwd=OFZGMlFiTWVkcHp2Yi8yQmVmSWhyUT09
CATEGORIES:Virtual Meetings
END:VEVENT
BEGIN:VEVENT
DTSTART;TZID=America/Denver:20250615T180000
DTEND;TZID=America/Denver:20250615T190000
DTSTAMP:20260423T154904
CREATED:20250521T153736Z
LAST-MODIFIED:20250521T153736Z
UID:10006603-1750010400-1750014000@dev.utahrecovers.org
SUMMARY:Sexaholics Anonymous (Hybrid - join virtually or in person!)
DESCRIPTION:https://us02web.zoom.us/j/86238197798?pwd=OTA2ZmY5YUVzcURMRllId3JyRVliZz09
URL:https://dev.utahrecovers.org/meeting/sexaholics-anonymous-hybrid-join-virtually-or-in-person-68/
LOCATION:Utah Support Advocates for Recovery Awareness – USARA\, 180 E 2100 S\, Salt Lake City\, UT\, United States
CATEGORIES:Virtual Meetings
GEO:40.725365;-111.885934
X-APPLE-STRUCTURED-LOCATION;VALUE=URI;X-ADDRESS=Utah Support Advocates for Recovery Awareness – USARA 180 E 2100 S Salt Lake City UT United States;X-APPLE-RADIUS=500;X-TITLE=180 E 2100 S:geo:-111.885934,40.725365
END:VEVENT
BEGIN:VEVENT
DTSTART;TZID=America/Denver:20250615T120000
DTEND;TZID=America/Denver:20250615T130000
DTSTAMP:20260423T154904
CREATED:20250521T153736Z
LAST-MODIFIED:20250521T153736Z
UID:10006602-1749988800-1749992400@dev.utahrecovers.org
SUMMARY:Recovery Dharma (Hybrid - join virtually or in person!)
DESCRIPTION:https://us02web.zoom.us/j/2361179850?pwd=NXhUUDNsUUpWYTNxdkhIOUcwNEhSUT09 \nContacts \n\nSteve\n\nemail: slater.stevej@gmail.com
URL:https://dev.utahrecovers.org/meeting/recovery-dharma-hybrid-join-virtually-or-in-person-369/
LOCATION:Utah Support Advocates for Recovery Awareness – USARA\, 180 E 2100 S\, Salt Lake City\, UT\, United States
CATEGORIES:Virtual Meetings
GEO:40.725365;-111.885934
X-APPLE-STRUCTURED-LOCATION;VALUE=URI;X-ADDRESS=Utah Support Advocates for Recovery Awareness – USARA 180 E 2100 S Salt Lake City UT United States;X-APPLE-RADIUS=500;X-TITLE=180 E 2100 S:geo:-111.885934,40.725365
END:VEVENT
BEGIN:VEVENT
DTSTART;TZID=America/Denver:20250615T100000
DTEND;TZID=America/Denver:20250615T110000
DTSTAMP:20260423T154904
CREATED:20250521T153736Z
LAST-MODIFIED:20250521T153736Z
UID:10006601-1749981600-1749985200@dev.utahrecovers.org
SUMMARY:Sunday Morning Big Book Study (Hybrid - join virtually or in person!)
DESCRIPTION:https://us02web.zoom.us/j/89418418350?pwd=Rm9PSExNU3BEbURuZ09EaUpvcUZtdz09 \nContacts \n\nChristy Rogers\n\ncell: (801) 244-7163 
URL:https://dev.utahrecovers.org/meeting/sunday-morning-big-book-study-hybrid-join-virtually-or-in-person-103/
LOCATION:Utah Support Advocates for Recovery Awareness – USARA\, 180 E 2100 S\, Salt Lake City\, UT\, United States
CATEGORIES:Virtual Meetings
GEO:40.725365;-111.885934
X-APPLE-STRUCTURED-LOCATION;VALUE=URI;X-ADDRESS=Utah Support Advocates for Recovery Awareness – USARA 180 E 2100 S Salt Lake City UT United States;X-APPLE-RADIUS=500;X-TITLE=180 E 2100 S:geo:-111.885934,40.725365
END:VEVENT
BEGIN:VEVENT
DTSTART;TZID=America/Denver:20250614T093000
DTEND;TZID=America/Denver:20250614T110000
DTSTAMP:20260423T154904
CREATED:20250521T153709Z
LAST-MODIFIED:20250521T153709Z
UID:10006600-1749893400-1749898800@dev.utahrecovers.org
SUMMARY:SMART Recovery (Hybrid - join virtually or in person)
DESCRIPTION:https://smartrecovery.zoom.us/j/932119283 \nContacts \n\nJamiel\n\nemail: jamielk101@gmail.com
URL:https://dev.utahrecovers.org/meeting/smart-recovery-hybrid-join-virtually-or-in-person-202/
LOCATION:Utah Support Advocates for Recovery Awareness – USARA\, 180 E 2100 S\, Salt Lake City\, UT\, United States
CATEGORIES:Virtual Meetings
GEO:40.725365;-111.885934
X-APPLE-STRUCTURED-LOCATION;VALUE=URI;X-ADDRESS=Utah Support Advocates for Recovery Awareness – USARA 180 E 2100 S Salt Lake City UT United States;X-APPLE-RADIUS=500;X-TITLE=180 E 2100 S:geo:-111.885934,40.725365
END:VEVENT
BEGIN:VEVENT
DTSTART;TZID=America/Denver:20250614T083000
DTEND;TZID=America/Denver:20250614T093000
DTSTAMP:20260423T154904
CREATED:20250521T153709Z
LAST-MODIFIED:20250521T153709Z
UID:10006599-1749889800-1749893400@dev.utahrecovers.org
SUMMARY:Sexaholics Anonymous (Hybrid - join online or in person!)
DESCRIPTION:https://us02web.zoom.us/j/86238197798?pwd=OTA2ZmY5YUVzcURMRllId3JyRVliZz09
URL:https://dev.utahrecovers.org/meeting/sexaholics-anonymous-hybrid-join-online-or-in-person-101/
LOCATION:Utah Support Advocates for Recovery Awareness – USARA\, 180 E 2100 S\, Salt Lake City\, UT\, United States
CATEGORIES:Virtual Meetings
GEO:40.725365;-111.885934
X-APPLE-STRUCTURED-LOCATION;VALUE=URI;X-ADDRESS=Utah Support Advocates for Recovery Awareness – USARA 180 E 2100 S Salt Lake City UT United States;X-APPLE-RADIUS=500;X-TITLE=180 E 2100 S:geo:-111.885934,40.725365
END:VEVENT
BEGIN:VEVENT
DTSTART;TZID=America/Denver:20250613T120000
DTEND;TZID=America/Denver:20250613T130000
DTSTAMP:20260423T154904
CREATED:20250521T153709Z
LAST-MODIFIED:20250521T153709Z
UID:10006598-1749816000-1749819600@dev.utahrecovers.org
SUMMARY:Recovery Dharma (Hybrid - join virtually or in person!)
DESCRIPTION:https://us02web.zoom.us/j/2361179850?pwd=NXhUUDNsUUpWYTNxdkhIOUcwNEhSUT09 \nContacts \n\nSteve\n\nemail: slater.stevej@gmail.com
URL:https://dev.utahrecovers.org/meeting/recovery-dharma-hybrid-join-virtually-or-in-person-368/
LOCATION:Utah Support Advocates for Recovery Awareness – USARA\, 180 E 2100 S\, Salt Lake City\, UT\, United States
CATEGORIES:Virtual Meetings
GEO:40.725365;-111.885934
X-APPLE-STRUCTURED-LOCATION;VALUE=URI;X-ADDRESS=Utah Support Advocates for Recovery Awareness – USARA 180 E 2100 S Salt Lake City UT United States;X-APPLE-RADIUS=500;X-TITLE=180 E 2100 S:geo:-111.885934,40.725365
END:VEVENT
BEGIN:VEVENT
DTSTART;TZID=America/Denver:20250613T110000
DTEND;TZID=America/Denver:20250613T120000
DTSTAMP:20260423T154904
CREATED:20250521T153709Z
LAST-MODIFIED:20250521T153709Z
UID:10006597-1749812400-1749816000@dev.utahrecovers.org
SUMMARY:Coffee & Recovery (Hybrid - join virtually or in person!)
DESCRIPTION:Join with Google Meet: https://meet.google.com/hrb-awdg-zmdOr dial: (US) +1 508-506-1551 PIN: 141472344#More phone numbers: https://tel.meet/hrb-awdg-zmd?pin=1300156360240&hs=7 \nLearn more about Meet at: https://support.google.com/a/users/answer/9282720
URL:https://dev.utahrecovers.org/meeting/coffee-recovery-hybrid-join-virtually-or-in-person-359/
LOCATION:Utah Support Advocates for Recovery Awareness – USARA – Moab\, 23 S 100 W\, Moab\, UT\, United States
CATEGORIES:Virtual Meetings
GEO:38.57309;-109.552616
X-APPLE-STRUCTURED-LOCATION;VALUE=URI;X-ADDRESS=Utah Support Advocates for Recovery Awareness – USARA – Moab 23 S 100 W Moab UT United States;X-APPLE-RADIUS=500;X-TITLE=23 S 100 W:geo:-109.552616,38.57309
END:VEVENT
BEGIN:VEVENT
DTSTART;TZID=America/Denver:20250612T180000
DTEND;TZID=America/Denver:20250612T193000
DTSTAMP:20260423T154904
CREATED:20250521T153708Z
LAST-MODIFIED:20250521T153708Z
UID:10006595-1749751200-1749756600@dev.utahrecovers.org
SUMMARY:CRAFT Family Support Group (Virtual)
DESCRIPTION:password: 854607
URL:https://dev.utahrecovers.org/meeting/craft-family-support-group-virtual-153/
LOCATION:https://us02web.zoom.us/j/86950545911
CATEGORIES:Virtual Meetings
END:VEVENT
BEGIN:VEVENT
DTSTART;TZID=America/Denver:20250612T180000
DTEND;TZID=America/Denver:20250612T190000
DTSTAMP:20260423T154904
CREATED:20250521T153708Z
LAST-MODIFIED:20250521T153708Z
UID:10006594-1749751200-1749754800@dev.utahrecovers.org
SUMMARY:SMART Recovery (Virtual)
DESCRIPTION:For more information\, visit: https://meetings.smartrecovery.org/meetings/7920/
URL:https://dev.utahrecovers.org/meeting/smart-recovery-virtual-18/
LOCATION:https://smartrecovery.zoom.us/j/96174767538
CATEGORIES:Virtual Meetings
END:VEVENT
BEGIN:VEVENT
DTSTART;TZID=America/Denver:20250612T173000
DTEND;TZID=America/Denver:20250612T183000
DTSTAMP:20260423T154904
CREATED:20250521T153708Z
LAST-MODIFIED:20250521T153708Z
UID:10006596-1749749400-1749753000@dev.utahrecovers.org
SUMMARY:Psychedelics in Recovery (Hybrid - join virtually or in person!)
DESCRIPTION:https://us06web.zoom.us/j/86332491277?pwd=53DYFwemMM16J1zhZSYaRi8qMlbFHH.1 \nMeeting ID: 863 3249 1277Passcode: 144990
URL:https://dev.utahrecovers.org/meeting/psychedelics-in-recovery-hybrid-join-virtually-or-in-person-45/
LOCATION:Utah Support Advocates for Recovery Awareness – USARA\, 180 E 2100 S\, Salt Lake City\, UT\, United States
CATEGORIES:Virtual Meetings
GEO:40.725365;-111.885934
X-APPLE-STRUCTURED-LOCATION;VALUE=URI;X-ADDRESS=Utah Support Advocates for Recovery Awareness – USARA 180 E 2100 S Salt Lake City UT United States;X-APPLE-RADIUS=500;X-TITLE=180 E 2100 S:geo:-111.885934,40.725365
END:VEVENT
BEGIN:VEVENT
DTSTART;TZID=America/Denver:20250612T090000
DTEND;TZID=America/Denver:20250612T100000
DTSTAMP:20260423T154904
CREATED:20250521T153708Z
LAST-MODIFIED:20250521T153708Z
UID:10006593-1749718800-1749722400@dev.utahrecovers.org
SUMMARY:Coffee & Recovery (Hybrid - join virtually or in person!)
DESCRIPTION:Join with Google Meet: https://meet.google.com/ydy-xvee-rqtOr dial: (US) +1 478-412-7414 PIN: 189703499#More phone numbers: https://tel.meet/ydy-xvee-rqt?pin=4876928882810&hs=7 \nLearn more about Meet at: https://support.google.com/a/users/answer/9282720
URL:https://dev.utahrecovers.org/meeting/coffee-recovery-hybrid-join-virtually-or-in-person-358/
LOCATION:Utah Support Advocates for Recovery Awareness – USARA – Price\, 91 E Main St\, Price\, UT\, United States
CATEGORIES:Virtual Meetings
GEO:39.348812;-110.851077
X-APPLE-STRUCTURED-LOCATION;VALUE=URI;X-ADDRESS=Utah Support Advocates for Recovery Awareness – USARA – Price 91 E Main St Price UT United States;X-APPLE-RADIUS=500;X-TITLE=91 E Main St:geo:-110.851077,39.348812
END:VEVENT
BEGIN:VEVENT
DTSTART;TZID=America/Denver:20250611T203000
DTEND;TZID=America/Denver:20250611T210000
DTSTAMP:20260423T154904
CREATED:20250521T153708Z
LAST-MODIFIED:20250521T153708Z
UID:10006592-1749673800-1749675600@dev.utahrecovers.org
SUMMARY:Self-Compassion Break (Virtual)
DESCRIPTION:A self compassion break is a short practice that can help you feel less isolated\, acknowledge stress\, and practice self-compassion when you are struggling. This practice is open to everyone!
URL:https://dev.utahrecovers.org/meeting/self-compassion-break-virtual-226/
LOCATION:https://us02web.zoom.us/j/86950545911?pwd=OFZGMlFiTWVkcHp2Yi8yQmVmSWhyUT09
CATEGORIES:Virtual Meetings
END:VEVENT
BEGIN:VEVENT
DTSTART;TZID=America/Denver:20250611T180000
DTEND;TZID=America/Denver:20250611T193000
DTSTAMP:20260423T154904
CREATED:20250521T153708Z
LAST-MODIFIED:20250521T153708Z
UID:10006591-1749664800-1749670200@dev.utahrecovers.org
SUMMARY:CRAFT Family Support Group (Virtual)
DESCRIPTION:password: 854607
URL:https://dev.utahrecovers.org/meeting/craft-family-support-group-virtual-152/
LOCATION:https://us02web.zoom.us/j/86950545911
CATEGORIES:Virtual Meetings
END:VEVENT
BEGIN:VEVENT
DTSTART;TZID=America/Denver:20250611T180000
DTEND;TZID=America/Denver:20250611T193000
DTSTAMP:20260423T154904
CREATED:20250521T153657Z
LAST-MODIFIED:20250521T153657Z
UID:10006589-1749664800-1749670200@dev.utahrecovers.org
SUMMARY:CRAFT un grupo de apoyo familiar en Espanol by LBHS (Hybrid - en persona o virtual!)
DESCRIPTION:
URL:https://dev.utahrecovers.org/meeting/craft-un-grupo-de-apoyo-familiar-en-espanol-by-lbhs-hybrid-en-persona-o-virtual-51/
LOCATION:https://us02web.zoom.us/j/84574681665
CATEGORIES:Virtual Meetings
END:VEVENT
BEGIN:VEVENT
DTSTART;TZID=America/Denver:20250611T180000
DTEND;TZID=America/Denver:20250611T193000
DTSTAMP:20260423T154904
CREATED:20250521T153657Z
LAST-MODIFIED:20250521T153657Z
UID:10006590-1749664800-1749670200@dev.utahrecovers.org
SUMMARY:SMART Recovery (Hybrid - join virtually or in person!)
DESCRIPTION:https://meet.google.com/eqj-itap-ibd \nContacts \n\nDeano\n\ncell: (801) 648-5442
URL:https://dev.utahrecovers.org/meeting/smart-recovery-hybrid-join-virtually-or-in-person-201/
LOCATION:Utah Support Advocates for Recovery Awareness – USARA\, 180 E 2100 S\, Salt Lake City\, UT\, United States
CATEGORIES:Virtual Meetings
GEO:40.725365;-111.885934
X-APPLE-STRUCTURED-LOCATION;VALUE=URI;X-ADDRESS=Utah Support Advocates for Recovery Awareness – USARA 180 E 2100 S Salt Lake City UT United States;X-APPLE-RADIUS=500;X-TITLE=180 E 2100 S:geo:-111.885934,40.725365
END:VEVENT
BEGIN:VEVENT
DTSTART;TZID=America/Denver:20250611T120000
DTEND;TZID=America/Denver:20250611T130000
DTSTAMP:20260423T154904
CREATED:20250521T153656Z
LAST-MODIFIED:20250521T153656Z
UID:10006588-1749643200-1749646800@dev.utahrecovers.org
SUMMARY:Recovery Dharma (Hybrid - join virtually or in person!)
DESCRIPTION:https://us02web.zoom.us/j/2361179850?pwd=NXhUUDNsUUpWYTNxdkhIOUcwNEhSUT09 \nContacts \n\nSteve\n\nemail: slater.stevej@gmail.com
URL:https://dev.utahrecovers.org/meeting/recovery-dharma-hybrid-join-virtually-or-in-person-367/
LOCATION:Utah Support Advocates for Recovery Awareness – USARA\, 180 E 2100 S\, Salt Lake City\, UT\, United States
CATEGORIES:Virtual Meetings
GEO:40.725365;-111.885934
X-APPLE-STRUCTURED-LOCATION;VALUE=URI;X-ADDRESS=Utah Support Advocates for Recovery Awareness – USARA 180 E 2100 S Salt Lake City UT United States;X-APPLE-RADIUS=500;X-TITLE=180 E 2100 S:geo:-111.885934,40.725365
END:VEVENT
BEGIN:VEVENT
DTSTART;TZID=America/Denver:20250611T093000
DTEND;TZID=America/Denver:20250611T103000
DTSTAMP:20260423T154904
CREATED:20250521T153656Z
LAST-MODIFIED:20250521T153656Z
UID:10006586-1749634200-1749637800@dev.utahrecovers.org
SUMMARY:Coffee & Recovery - Ogden (Hybrid - join virtually or in person!)
DESCRIPTION:Join Zoom Meetinghttps://us02web.zoom.us/j/84527707707?pwd=pnsLRCwODPuOrO4Q3UnBjhYj64BvD2.1 (ID: 84527707707\, passcode: 642553) \nJoin by phone(US) +1 564-217-2000 (passcode: 642553) \nJoining instructions: https://www.google.com/url?q=https://applications.zoom.us/addon/invitation/detail?meetingUuid%3D8hALuLkfSs6VDECA569gnw%253D%253D%26signature%3D7b5ca8bc518361ef1ef93b4945bc4e702133503300216e7889ecc5c342f75ba0%26v%3D1&sa=D&source=calendar&usg=AOvVaw1HemuJZ5yvZTZ721h85OAP \nMeeting host: patrick.cox@myusara.com \nJoin Zoom Meeting: https://us02web.zoom.us/j/84527707707?pwd=pnsLRCwODPuOrO4Q3UnBjhYj64BvD2.1
URL:https://dev.utahrecovers.org/meeting/coffee-recovery-ogden-hybrid-join-virtually-or-in-person-74/
LOCATION:Utah Support Advocates for Recovery Awareness – USARA – Ogden\, 893 24th St\, Ogden\, UT\, United States
CATEGORIES:Virtual Meetings
GEO:41.222498;-111.956726
X-APPLE-STRUCTURED-LOCATION;VALUE=URI;X-ADDRESS=Utah Support Advocates for Recovery Awareness – USARA – Ogden 893 24th St Ogden UT United States;X-APPLE-RADIUS=500;X-TITLE=893 24th St:geo:-111.956726,41.222498
END:VEVENT
BEGIN:VEVENT
DTSTART;TZID=America/Denver:20250611T093000
DTEND;TZID=America/Denver:20250611T103000
DTSTAMP:20260423T154904
CREATED:20250521T153656Z
LAST-MODIFIED:20250521T153656Z
UID:10006587-1749634200-1749637800@dev.utahrecovers.org
SUMMARY:Empowerment Exchange Book club (Hybrid - join online or in person)
DESCRIPTION:Join with Google Meet: https://meet.google.com/gku-iniz-fggOr dial: (US) +1 252-656-5357 PIN: 235894205#More phone numbers: https://tel.meet/gku-iniz-fgg?pin=5721326304142&hs=7 \nLearn more about Meet at: https://support.google.com/a/users/answer/9282720
URL:https://dev.utahrecovers.org/meeting/empowerment-exchange-book-club-hybrid-join-online-or-in-person-47/
LOCATION:Utah Support Advocates for Recovery Awareness – USARA – Moab\, 23 S 100 W\, Moab\, UT\, United States
CATEGORIES:Virtual Meetings
GEO:38.57309;-109.552616
X-APPLE-STRUCTURED-LOCATION;VALUE=URI;X-ADDRESS=Utah Support Advocates for Recovery Awareness – USARA – Moab 23 S 100 W Moab UT United States;X-APPLE-RADIUS=500;X-TITLE=23 S 100 W:geo:-109.552616,38.57309
END:VEVENT
BEGIN:VEVENT
DTSTART;TZID=America/Denver:20250611T063000
DTEND;TZID=America/Denver:20250611T073000
DTSTAMP:20260423T154904
CREATED:20250521T153656Z
LAST-MODIFIED:20250521T153656Z
UID:10006585-1749623400-1749627000@dev.utahrecovers.org
SUMMARY:MAT Recovery Support Group (Virtual)
DESCRIPTION:Contacts
URL:https://dev.utahrecovers.org/meeting/mat-recovery-support-group-virtual-53/
LOCATION:https://us02web.zoom.us/j/81392387071?pwd=VkVkQ21GUXB6NEpsbTNmT3c4cytVZz09
CATEGORIES:Virtual Meetings
END:VEVENT
BEGIN:VEVENT
DTSTART;TZID=America/Denver:20250610T180000
DTEND;TZID=America/Denver:20250610T193000
DTSTAMP:20260423T154904
CREATED:20250521T153656Z
LAST-MODIFIED:20250521T153656Z
UID:10006584-1749578400-1749583800@dev.utahrecovers.org
SUMMARY:CRAFT Family Support Group (Virtual)
DESCRIPTION:password: 854607
URL:https://dev.utahrecovers.org/meeting/craft-family-support-group-virtual-151/
LOCATION:https://us02web.zoom.us/j/86950545911
CATEGORIES:Virtual Meetings
END:VEVENT
BEGIN:VEVENT
DTSTART;TZID=America/Denver:20250610T090000
DTEND;TZID=America/Denver:20250610T100000
DTSTAMP:20260423T154904
CREATED:20250521T153656Z
LAST-MODIFIED:20250521T153656Z
UID:10006583-1749546000-1749549600@dev.utahrecovers.org
SUMMARY:Coffee & Recovery (Hybrid - join virtually or in person!)
DESCRIPTION:Join with Google Meet: https://meet.google.com/ydy-xvee-rqtOr dial: (US) +1 478-412-7414 PIN: 189703499#More phone numbers: https://tel.meet/ydy-xvee-rqt?pin=4876928882810&hs=7 \nLearn more about Meet at: https://support.google.com/a/users/answer/9282720
URL:https://dev.utahrecovers.org/meeting/coffee-recovery-hybrid-join-virtually-or-in-person-357/
LOCATION:Utah Support Advocates for Recovery Awareness – USARA – Price\, 91 E Main St\, Price\, UT\, United States
CATEGORIES:Virtual Meetings
GEO:39.348812;-110.851077
X-APPLE-STRUCTURED-LOCATION;VALUE=URI;X-ADDRESS=Utah Support Advocates for Recovery Awareness – USARA – Price 91 E Main St Price UT United States;X-APPLE-RADIUS=500;X-TITLE=91 E Main St:geo:-110.851077,39.348812
END:VEVENT
BEGIN:VEVENT
DTSTART;TZID=America/Denver:20250609T190000
DTEND;TZID=America/Denver:20250609T200000
DTSTAMP:20260423T154904
CREATED:20250521T153656Z
LAST-MODIFIED:20250521T153656Z
UID:10006582-1749495600-1749499200@dev.utahrecovers.org
SUMMARY:SLAA Keys to the Kingdom (Hybrid - join virtually or in person!)
DESCRIPTION:https://us02web.zoom.us/j/85092306619?pwd=eXBTV0kyUGRDclNISkJZQVhwNXBLdz09 \nContacts \n\nRick\n\nemail: faklass@gmail.com
URL:https://dev.utahrecovers.org/meeting/slaa-keys-to-the-kingdom-hybrid-join-virtually-or-in-person-103/
LOCATION:Utah Support Advocates for Recovery Awareness – USARA\, 180 E 2100 S\, Salt Lake City\, UT\, United States
CATEGORIES:Virtual Meetings
GEO:40.725365;-111.885934
X-APPLE-STRUCTURED-LOCATION;VALUE=URI;X-ADDRESS=Utah Support Advocates for Recovery Awareness – USARA 180 E 2100 S Salt Lake City UT United States;X-APPLE-RADIUS=500;X-TITLE=180 E 2100 S:geo:-111.885934,40.725365
END:VEVENT
BEGIN:VEVENT
DTSTART;TZID=America/Denver:20250609T180000
DTEND;TZID=America/Denver:20250609T190000
DTSTAMP:20260423T154904
CREATED:20250521T153643Z
LAST-MODIFIED:20250521T153643Z
UID:10006579-1749492000-1749495600@dev.utahrecovers.org
SUMMARY:Recovery Dharma (Hybrid - join virtually or in person!)
DESCRIPTION:Zoom Meeting ID: 85240868496Password: 11111
URL:https://dev.utahrecovers.org/meeting/recovery-dharma-hybrid-join-virtually-or-in-person-366/
LOCATION:240 N Highway 153\, Beaver\, UT\, United States
CATEGORIES:Virtual Meetings
GEO:38.27691;-112.64105
END:VEVENT
BEGIN:VEVENT
DTSTART;TZID=America/Denver:20250609T170000
DTEND;TZID=America/Denver:20250609T180000
DTSTAMP:20260423T154904
CREATED:20250521T153655Z
LAST-MODIFIED:20250521T153655Z
UID:10006581-1749488400-1749492000@dev.utahrecovers.org
SUMMARY:Coffee & Recovery (Hybrid - join virtually or in person!)
DESCRIPTION:Join with Google Meet: https://meet.google.com/hrb-awdg-zmdOr dial: (US) +1 508-506-1551 PIN: 141472344#More phone numbers: https://tel.meet/hrb-awdg-zmd?pin=1300156360240&hs=7 \nLearn more about Meet at: https://support.google.com/a/users/answer/9282720
URL:https://dev.utahrecovers.org/meeting/coffee-recovery-hybrid-join-virtually-or-in-person-356/
LOCATION:Utah Support Advocates for Recovery Awareness – USARA – Moab\, 23 S 100 W\, Moab\, UT\, United States
CATEGORIES:Virtual Meetings
GEO:38.57309;-109.552616
X-APPLE-STRUCTURED-LOCATION;VALUE=URI;X-ADDRESS=Utah Support Advocates for Recovery Awareness – USARA – Moab 23 S 100 W Moab UT United States;X-APPLE-RADIUS=500;X-TITLE=23 S 100 W:geo:-109.552616,38.57309
END:VEVENT
END:VCALENDAR