BEGIN:VCALENDAR
VERSION:2.0
PRODID:-//USARA - Utah Recovers - ECPv6.15.18//NONSGML v1.0//EN
CALSCALE:GREGORIAN
METHOD:PUBLISH
X-ORIGINAL-URL:https://dev.utahrecovers.org
X-WR-CALDESC:Events for USARA - Utah Recovers
REFRESH-INTERVAL;VALUE=DURATION:PT1H
X-Robots-Tag:noindex
X-PUBLISHED-TTL:PT1H
BEGIN:VTIMEZONE
TZID:America/Denver
BEGIN:DAYLIGHT
TZOFFSETFROM:-0700
TZOFFSETTO:-0600
TZNAME:MDT
DTSTART:20240310T090000
END:DAYLIGHT
BEGIN:STANDARD
TZOFFSETFROM:-0600
TZOFFSETTO:-0700
TZNAME:MST
DTSTART:20241103T080000
END:STANDARD
BEGIN:DAYLIGHT
TZOFFSETFROM:-0700
TZOFFSETTO:-0600
TZNAME:MDT
DTSTART:20250309T090000
END:DAYLIGHT
BEGIN:STANDARD
TZOFFSETFROM:-0600
TZOFFSETTO:-0700
TZNAME:MST
DTSTART:20251102T080000
END:STANDARD
BEGIN:DAYLIGHT
TZOFFSETFROM:-0700
TZOFFSETTO:-0600
TZNAME:MDT
DTSTART:20260308T090000
END:DAYLIGHT
BEGIN:STANDARD
TZOFFSETFROM:-0600
TZOFFSETTO:-0700
TZNAME:MST
DTSTART:20261101T080000
END:STANDARD
END:VTIMEZONE
BEGIN:VEVENT
DTSTART;TZID=America/Denver:20250814T180000
DTEND;TZID=America/Denver:20250814T193000
DTSTAMP:20260423T115222
CREATED:20250717T162537Z
LAST-MODIFIED:20250717T162537Z
UID:10006896-1755194400-1755199800@dev.utahrecovers.org
SUMMARY:CRAFT Family Support Group (Virtual)
DESCRIPTION: Register here: https://forms.gle/XVFb2o7W283AaC5B8
URL:https://dev.utahrecovers.org/meeting/craft-family-support-group-virtual-165/
CATEGORIES:Virtual Meetings
END:VEVENT
BEGIN:VEVENT
DTSTART;TZID=America/Denver:20250814T180000
DTEND;TZID=America/Denver:20250814T193000
DTSTAMP:20260423T115222
CREATED:20250717T162536Z
LAST-MODIFIED:20250717T162536Z
UID:10006895-1755194400-1755199800@dev.utahrecovers.org
SUMMARY:SMART Recovery (Virtual)
DESCRIPTION:For more information\, visit: https://meetings.smartrecovery.org/meetings/7920/
URL:https://dev.utahrecovers.org/meeting/smart-recovery-virtual-24/
LOCATION:https://smartrecovery.zoom.us/j/96174767538
CATEGORIES:Virtual Meetings
END:VEVENT
BEGIN:VEVENT
DTSTART;TZID=America/Denver:20250813T063000
DTEND;TZID=America/Denver:20250813T073000
DTSTAMP:20260423T115222
CREATED:20250717T162523Z
LAST-MODIFIED:20250717T162523Z
UID:10006894-1755066600-1755070200@dev.utahrecovers.org
SUMMARY:MAT Recovery Support Group (Virtual)
DESCRIPTION:Contacts
URL:https://dev.utahrecovers.org/meeting/mat-recovery-support-group-virtual-58/
LOCATION:https://us02web.zoom.us/j/81392387071?pwd=VkVkQ21GUXB6NEpsbTNmT3c4cytVZz09
CATEGORIES:Virtual Meetings
END:VEVENT
BEGIN:VEVENT
DTSTART;TZID=America/Denver:20250812T180000
DTEND;TZID=America/Denver:20250812T193000
DTSTAMP:20260423T115222
CREATED:20250717T162523Z
LAST-MODIFIED:20250717T162523Z
UID:10006893-1755021600-1755027000@dev.utahrecovers.org
SUMMARY:CRAFT Family Support Group (Virtual)
DESCRIPTION: Register here: https://forms.gle/XVFb2o7W283AaC5B8
URL:https://dev.utahrecovers.org/meeting/craft-family-support-group-virtual-164/
CATEGORIES:Virtual Meetings
END:VEVENT
BEGIN:VEVENT
DTSTART;TZID=America/Denver:20250811T170000
DTEND;TZID=America/Denver:20250811T180000
DTSTAMP:20260423T115222
CREATED:20250717T162523Z
LAST-MODIFIED:20250717T162523Z
UID:10006892-1754931600-1754935200@dev.utahrecovers.org
SUMMARY:Introduction to CRAFT Family Support (Virtual)
DESCRIPTION:Learn more about our Family Support Program before joining a weekly group! Register here: https://forms.gle/XVFb2o7W283AaC5B8
URL:https://dev.utahrecovers.org/meeting/introduction-to-craft-family-support-virtual-58/
CATEGORIES:Virtual Meetings
END:VEVENT
BEGIN:VEVENT
DTSTART;TZID=America/Denver:20250807T180000
DTEND;TZID=America/Denver:20250807T193000
DTSTAMP:20260423T115222
CREATED:20250717T162523Z
LAST-MODIFIED:20250717T162523Z
UID:10006891-1754589600-1754595000@dev.utahrecovers.org
SUMMARY:CRAFT Family Support Group (Virtual)
DESCRIPTION: Register here: https://forms.gle/XVFb2o7W283AaC5B8
URL:https://dev.utahrecovers.org/meeting/craft-family-support-group-virtual-163/
CATEGORIES:Virtual Meetings
END:VEVENT
BEGIN:VEVENT
DTSTART;TZID=America/Denver:20250807T180000
DTEND;TZID=America/Denver:20250807T193000
DTSTAMP:20260423T115222
CREATED:20250717T162523Z
LAST-MODIFIED:20250717T162523Z
UID:10006890-1754589600-1754595000@dev.utahrecovers.org
SUMMARY:SMART Recovery (Virtual)
DESCRIPTION:For more information\, visit: https://meetings.smartrecovery.org/meetings/7920/
URL:https://dev.utahrecovers.org/meeting/smart-recovery-virtual-23/
LOCATION:https://smartrecovery.zoom.us/j/96174767538
CATEGORIES:Virtual Meetings
END:VEVENT
BEGIN:VEVENT
DTSTART;TZID=America/Denver:20250806T063000
DTEND;TZID=America/Denver:20250806T073000
DTSTAMP:20260423T115222
CREATED:20250717T162523Z
LAST-MODIFIED:20250717T162523Z
UID:10006889-1754461800-1754465400@dev.utahrecovers.org
SUMMARY:MAT Recovery Support Group (Virtual)
DESCRIPTION:Contacts
URL:https://dev.utahrecovers.org/meeting/mat-recovery-support-group-virtual-57/
LOCATION:https://us02web.zoom.us/j/81392387071?pwd=VkVkQ21GUXB6NEpsbTNmT3c4cytVZz09
CATEGORIES:Virtual Meetings
END:VEVENT
BEGIN:VEVENT
DTSTART;TZID=America/Denver:20250805T180000
DTEND;TZID=America/Denver:20250805T193000
DTSTAMP:20260423T115222
CREATED:20250717T162523Z
LAST-MODIFIED:20250717T162523Z
UID:10006888-1754416800-1754422200@dev.utahrecovers.org
SUMMARY:CRAFT Family Support Group (Virtual)
DESCRIPTION: Register here: https://forms.gle/XVFb2o7W283AaC5B8
URL:https://dev.utahrecovers.org/meeting/craft-family-support-group-virtual-162/
CATEGORIES:Virtual Meetings
END:VEVENT
BEGIN:VEVENT
DTSTART;TZID=America/Denver:20250804T170000
DTEND;TZID=America/Denver:20250804T180000
DTSTAMP:20260423T115222
CREATED:20250717T162523Z
LAST-MODIFIED:20250717T162523Z
UID:10006887-1754326800-1754330400@dev.utahrecovers.org
SUMMARY:Introduction to CRAFT Family Support (Virtual)
DESCRIPTION:Learn more about our Family Support Program before joining a weekly group! Register here: https://forms.gle/XVFb2o7W283AaC5B8
URL:https://dev.utahrecovers.org/meeting/introduction-to-craft-family-support-virtual-57/
CATEGORIES:Virtual Meetings
END:VEVENT
BEGIN:VEVENT
DTSTART;TZID=America/Denver:20250731T180000
DTEND;TZID=America/Denver:20250731T193000
DTSTAMP:20260423T115222
CREATED:20250717T162523Z
LAST-MODIFIED:20250717T162523Z
UID:10006886-1753984800-1753990200@dev.utahrecovers.org
SUMMARY:SMART Recovery (Virtual)
DESCRIPTION:For more information\, visit: https://meetings.smartrecovery.org/meetings/7920/
URL:https://dev.utahrecovers.org/meeting/smart-recovery-virtual-22/
LOCATION:https://smartrecovery.zoom.us/j/96174767538
CATEGORIES:Virtual Meetings
END:VEVENT
BEGIN:VEVENT
DTSTART;TZID=America/Denver:20250731T180000
DTEND;TZID=America/Denver:20250731T193000
DTSTAMP:20260423T115222
CREATED:20250717T162522Z
LAST-MODIFIED:20250717T162522Z
UID:10006885-1753984800-1753990200@dev.utahrecovers.org
SUMMARY:CRAFT Family Support Group (Virtual)
DESCRIPTION: Register here: https://forms.gle/XVFb2o7W283AaC5B8
URL:https://dev.utahrecovers.org/meeting/craft-family-support-group-virtual-161/
CATEGORIES:Virtual Meetings
END:VEVENT
BEGIN:VEVENT
DTSTART;TZID=America/Denver:20250730T063000
DTEND;TZID=America/Denver:20250730T073000
DTSTAMP:20260423T115222
CREATED:20250717T162511Z
LAST-MODIFIED:20250717T162511Z
UID:10006884-1753857000-1753860600@dev.utahrecovers.org
SUMMARY:MAT Recovery Support Group (Virtual)
DESCRIPTION:Contacts
URL:https://dev.utahrecovers.org/meeting/mat-recovery-support-group-virtual-56/
LOCATION:https://us02web.zoom.us/j/81392387071?pwd=VkVkQ21GUXB6NEpsbTNmT3c4cytVZz09
CATEGORIES:Virtual Meetings
END:VEVENT
BEGIN:VEVENT
DTSTART;TZID=America/Denver:20250729T180000
DTEND;TZID=America/Denver:20250729T193000
DTSTAMP:20260423T115222
CREATED:20250717T162511Z
LAST-MODIFIED:20250717T162511Z
UID:10006883-1753812000-1753817400@dev.utahrecovers.org
SUMMARY:CRAFT Family Support Group (Virtual)
DESCRIPTION: Register here: https://forms.gle/XVFb2o7W283AaC5B8
URL:https://dev.utahrecovers.org/meeting/craft-family-support-group-virtual-160/
CATEGORIES:Virtual Meetings
END:VEVENT
BEGIN:VEVENT
DTSTART;TZID=America/Denver:20250728T170000
DTEND;TZID=America/Denver:20250728T180000
DTSTAMP:20260423T115222
CREATED:20250717T162511Z
LAST-MODIFIED:20250717T162511Z
UID:10006882-1753722000-1753725600@dev.utahrecovers.org
SUMMARY:Introduction to CRAFT Family Support (Virtual)
DESCRIPTION:Learn more about our Family Support Program before joining a weekly group! Register here: https://forms.gle/XVFb2o7W283AaC5B8
URL:https://dev.utahrecovers.org/meeting/introduction-to-craft-family-support-virtual-56/
CATEGORIES:Virtual Meetings
END:VEVENT
BEGIN:VEVENT
DTSTART;TZID=America/Denver:20250724T180000
DTEND;TZID=America/Denver:20250724T193000
DTSTAMP:20260423T115222
CREATED:20250717T162511Z
LAST-MODIFIED:20250717T162511Z
UID:10006880-1753380000-1753385400@dev.utahrecovers.org
SUMMARY:SMART Recovery (Virtual)
DESCRIPTION:For more information\, visit: https://meetings.smartrecovery.org/meetings/7920/
URL:https://dev.utahrecovers.org/meeting/smart-recovery-virtual-21/
LOCATION:https://smartrecovery.zoom.us/j/96174767538
CATEGORIES:Virtual Meetings
END:VEVENT
BEGIN:VEVENT
DTSTART;TZID=America/Denver:20250724T180000
DTEND;TZID=America/Denver:20250724T193000
DTSTAMP:20260423T115222
CREATED:20250717T162511Z
LAST-MODIFIED:20250717T162511Z
UID:10006881-1753380000-1753385400@dev.utahrecovers.org
SUMMARY:CRAFT Family Support Group (Virtual)
DESCRIPTION: Register here: https://forms.gle/XVFb2o7W283AaC5B8
URL:https://dev.utahrecovers.org/meeting/craft-family-support-group-virtual-159/
CATEGORIES:Virtual Meetings
END:VEVENT
BEGIN:VEVENT
DTSTART;TZID=America/Denver:20250723T063000
DTEND;TZID=America/Denver:20250723T073000
DTSTAMP:20260423T115222
CREATED:20250717T162511Z
LAST-MODIFIED:20250717T162511Z
UID:10006879-1753252200-1753255800@dev.utahrecovers.org
SUMMARY:MAT Recovery Support Group (Virtual)
DESCRIPTION:Contacts
URL:https://dev.utahrecovers.org/meeting/mat-recovery-support-group-virtual-55/
LOCATION:https://us02web.zoom.us/j/81392387071?pwd=VkVkQ21GUXB6NEpsbTNmT3c4cytVZz09
CATEGORIES:Virtual Meetings
END:VEVENT
BEGIN:VEVENT
DTSTART;TZID=America/Denver:20250722T180000
DTEND;TZID=America/Denver:20250722T193000
DTSTAMP:20260423T115222
CREATED:20250717T162510Z
LAST-MODIFIED:20250717T162510Z
UID:10006878-1753207200-1753212600@dev.utahrecovers.org
SUMMARY:CRAFT Family Support Group (Virtual)
DESCRIPTION: Register here: https://forms.gle/XVFb2o7W283AaC5B8
URL:https://dev.utahrecovers.org/meeting/craft-family-support-group-virtual-158/
CATEGORIES:Virtual Meetings
END:VEVENT
BEGIN:VEVENT
DTSTART;TZID=America/Denver:20250721T170000
DTEND;TZID=America/Denver:20250721T180000
DTSTAMP:20260423T115222
CREATED:20250717T162510Z
LAST-MODIFIED:20250717T162510Z
UID:10006877-1753117200-1753120800@dev.utahrecovers.org
SUMMARY:Introduction to CRAFT Family Support (Virtual)
DESCRIPTION:Learn more about our Family Support Program before joining a weekly group! Register here: https://forms.gle/XVFb2o7W283AaC5B8
URL:https://dev.utahrecovers.org/meeting/introduction-to-craft-family-support-virtual-55/
CATEGORIES:Virtual Meetings
END:VEVENT
BEGIN:VEVENT
DTSTART;TZID=America/Denver:20250717T180000
DTEND;TZID=America/Denver:20250717T193000
DTSTAMP:20260423T115222
CREATED:20250717T162510Z
LAST-MODIFIED:20250717T162510Z
UID:10006875-1752775200-1752780600@dev.utahrecovers.org
SUMMARY:CRAFT Family Support Group (Virtual)
DESCRIPTION: Register here: https://forms.gle/XVFb2o7W283AaC5B8
URL:https://dev.utahrecovers.org/meeting/craft-family-support-group-virtual-157/
CATEGORIES:Virtual Meetings
END:VEVENT
BEGIN:VEVENT
DTSTART;TZID=America/Denver:20250717T180000
DTEND;TZID=America/Denver:20250717T193000
DTSTAMP:20260423T115222
CREATED:20250717T162510Z
LAST-MODIFIED:20250717T162510Z
UID:10006876-1752775200-1752780600@dev.utahrecovers.org
SUMMARY:SMART Recovery (Virtual)
DESCRIPTION:For more information\, visit: https://meetings.smartrecovery.org/meetings/7920/
URL:https://dev.utahrecovers.org/meeting/smart-recovery-virtual-20/
LOCATION:https://smartrecovery.zoom.us/j/96174767538
CATEGORIES:Virtual Meetings
END:VEVENT
BEGIN:VEVENT
DTSTART;TZID=America/Denver:20250620T120000
DTEND;TZID=America/Denver:20250620T130000
DTSTAMP:20260423T115222
CREATED:20250521T153805Z
LAST-MODIFIED:20250521T153805Z
UID:10006623-1750420800-1750424400@dev.utahrecovers.org
SUMMARY:Recovery Dharma (Hybrid - join virtually or in person!)
DESCRIPTION:https://us02web.zoom.us/j/2361179850?pwd=NXhUUDNsUUpWYTNxdkhIOUcwNEhSUT09 \nContacts \n\nSteve\n\nemail: slater.stevej@gmail.com
URL:https://dev.utahrecovers.org/meeting/recovery-dharma-hybrid-join-virtually-or-in-person-372/
LOCATION:Utah Support Advocates for Recovery Awareness – USARA\, 180 E 2100 S\, Salt Lake City\, UT\, United States
CATEGORIES:Virtual Meetings
GEO:40.725365;-111.885934
X-APPLE-STRUCTURED-LOCATION;VALUE=URI;X-ADDRESS=Utah Support Advocates for Recovery Awareness – USARA 180 E 2100 S Salt Lake City UT United States;X-APPLE-RADIUS=500;X-TITLE=180 E 2100 S:geo:-111.885934,40.725365
END:VEVENT
BEGIN:VEVENT
DTSTART;TZID=America/Denver:20250620T110000
DTEND;TZID=America/Denver:20250620T120000
DTSTAMP:20260423T115222
CREATED:20250521T153805Z
LAST-MODIFIED:20250521T153805Z
UID:10006622-1750417200-1750420800@dev.utahrecovers.org
SUMMARY:Coffee & Recovery (Hybrid - join virtually or in person!)
DESCRIPTION:Join with Google Meet: https://meet.google.com/hrb-awdg-zmdOr dial: (US) +1 508-506-1551 PIN: 141472344#More phone numbers: https://tel.meet/hrb-awdg-zmd?pin=1300156360240&hs=7 \nLearn more about Meet at: https://support.google.com/a/users/answer/9282720
URL:https://dev.utahrecovers.org/meeting/coffee-recovery-hybrid-join-virtually-or-in-person-363/
LOCATION:Utah Support Advocates for Recovery Awareness – USARA – Moab\, 23 S 100 W\, Moab\, UT\, United States
CATEGORIES:Virtual Meetings
GEO:38.57309;-109.552616
X-APPLE-STRUCTURED-LOCATION;VALUE=URI;X-ADDRESS=Utah Support Advocates for Recovery Awareness – USARA – Moab 23 S 100 W Moab UT United States;X-APPLE-RADIUS=500;X-TITLE=23 S 100 W:geo:-109.552616,38.57309
END:VEVENT
BEGIN:VEVENT
DTSTART;TZID=America/Denver:20250619T180000
DTEND;TZID=America/Denver:20250619T193000
DTSTAMP:20260423T115222
CREATED:20250521T153804Z
LAST-MODIFIED:20250521T153804Z
UID:10006621-1750356000-1750361400@dev.utahrecovers.org
SUMMARY:CRAFT Family Support Group (Virtual)
DESCRIPTION:password: 854607
URL:https://dev.utahrecovers.org/meeting/craft-family-support-group-virtual-156/
LOCATION:https://us02web.zoom.us/j/86950545911
CATEGORIES:Virtual Meetings
END:VEVENT
BEGIN:VEVENT
DTSTART;TZID=America/Denver:20250619T180000
DTEND;TZID=America/Denver:20250619T190000
DTSTAMP:20260423T115222
CREATED:20250521T153752Z
LAST-MODIFIED:20250521T153752Z
UID:10006620-1750356000-1750359600@dev.utahrecovers.org
SUMMARY:SMART Recovery (Virtual)
DESCRIPTION:For more information\, visit: https://meetings.smartrecovery.org/meetings/7920/
URL:https://dev.utahrecovers.org/meeting/smart-recovery-virtual-19/
LOCATION:https://smartrecovery.zoom.us/j/96174767538
CATEGORIES:Virtual Meetings
END:VEVENT
BEGIN:VEVENT
DTSTART;TZID=America/Denver:20250619T173000
DTEND;TZID=America/Denver:20250619T183000
DTSTAMP:20260423T115222
CREATED:20250521T153752Z
LAST-MODIFIED:20250521T153752Z
UID:10006619-1750354200-1750357800@dev.utahrecovers.org
SUMMARY:Psychedelics in Recovery (Hybrid - join virtually or in person!)
DESCRIPTION:https://us06web.zoom.us/j/86332491277?pwd=53DYFwemMM16J1zhZSYaRi8qMlbFHH.1 \nMeeting ID: 863 3249 1277Passcode: 144990
URL:https://dev.utahrecovers.org/meeting/psychedelics-in-recovery-hybrid-join-virtually-or-in-person-46/
LOCATION:Utah Support Advocates for Recovery Awareness – USARA\, 180 E 2100 S\, Salt Lake City\, UT\, United States
CATEGORIES:Virtual Meetings
GEO:40.725365;-111.885934
X-APPLE-STRUCTURED-LOCATION;VALUE=URI;X-ADDRESS=Utah Support Advocates for Recovery Awareness – USARA 180 E 2100 S Salt Lake City UT United States;X-APPLE-RADIUS=500;X-TITLE=180 E 2100 S:geo:-111.885934,40.725365
END:VEVENT
BEGIN:VEVENT
DTSTART;TZID=America/Denver:20250619T090000
DTEND;TZID=America/Denver:20250619T100000
DTSTAMP:20260423T115222
CREATED:20250521T153752Z
LAST-MODIFIED:20250521T153752Z
UID:10006618-1750323600-1750327200@dev.utahrecovers.org
SUMMARY:Coffee & Recovery (Hybrid - join virtually or in person!)
DESCRIPTION:Join with Google Meet: https://meet.google.com/ydy-xvee-rqtOr dial: (US) +1 478-412-7414 PIN: 189703499#More phone numbers: https://tel.meet/ydy-xvee-rqt?pin=4876928882810&hs=7 \nLearn more about Meet at: https://support.google.com/a/users/answer/9282720
URL:https://dev.utahrecovers.org/meeting/coffee-recovery-hybrid-join-virtually-or-in-person-362/
LOCATION:Utah Support Advocates for Recovery Awareness – USARA – Price\, 91 E Main St\, Price\, UT\, United States
CATEGORIES:Virtual Meetings
GEO:39.348812;-110.851077
X-APPLE-STRUCTURED-LOCATION;VALUE=URI;X-ADDRESS=Utah Support Advocates for Recovery Awareness – USARA – Price 91 E Main St Price UT United States;X-APPLE-RADIUS=500;X-TITLE=91 E Main St:geo:-110.851077,39.348812
END:VEVENT
BEGIN:VEVENT
DTSTART;TZID=America/Denver:20250618T203000
DTEND;TZID=America/Denver:20250618T210000
DTSTAMP:20260423T115222
CREATED:20250521T153752Z
LAST-MODIFIED:20250521T153752Z
UID:10006617-1750278600-1750280400@dev.utahrecovers.org
SUMMARY:Self-Compassion Break (Virtual)
DESCRIPTION:A self compassion break is a short practice that can help you feel less isolated\, acknowledge stress\, and practice self-compassion when you are struggling. This practice is open to everyone!
URL:https://dev.utahrecovers.org/meeting/self-compassion-break-virtual-227/
LOCATION:https://us02web.zoom.us/j/86950545911?pwd=OFZGMlFiTWVkcHp2Yi8yQmVmSWhyUT09
CATEGORIES:Virtual Meetings
END:VEVENT
BEGIN:VEVENT
DTSTART;TZID=America/Denver:20250618T180000
DTEND;TZID=America/Denver:20250618T193000
DTSTAMP:20260423T115222
CREATED:20250521T153751Z
LAST-MODIFIED:20250521T153751Z
UID:10006616-1750269600-1750275000@dev.utahrecovers.org
SUMMARY:CRAFT Family Support Group (Virtual)
DESCRIPTION:password: 854607
URL:https://dev.utahrecovers.org/meeting/craft-family-support-group-virtual-155/
LOCATION:https://us02web.zoom.us/j/86950545911
CATEGORIES:Virtual Meetings
END:VEVENT
END:VCALENDAR