BEGIN:VCALENDAR
VERSION:2.0
PRODID:-//USARA - Utah Recovers - ECPv6.15.18//NONSGML v1.0//EN
CALSCALE:GREGORIAN
METHOD:PUBLISH
X-ORIGINAL-URL:https://dev.utahrecovers.org
X-WR-CALDESC:Events for USARA - Utah Recovers
REFRESH-INTERVAL;VALUE=DURATION:PT1H
X-Robots-Tag:noindex
X-PUBLISHED-TTL:PT1H
BEGIN:VTIMEZONE
TZID:America/Denver
BEGIN:DAYLIGHT
TZOFFSETFROM:-0700
TZOFFSETTO:-0600
TZNAME:MDT
DTSTART:20240310T090000
END:DAYLIGHT
BEGIN:STANDARD
TZOFFSETFROM:-0600
TZOFFSETTO:-0700
TZNAME:MST
DTSTART:20241103T080000
END:STANDARD
BEGIN:DAYLIGHT
TZOFFSETFROM:-0700
TZOFFSETTO:-0600
TZNAME:MDT
DTSTART:20250309T090000
END:DAYLIGHT
BEGIN:STANDARD
TZOFFSETFROM:-0600
TZOFFSETTO:-0700
TZNAME:MST
DTSTART:20251102T080000
END:STANDARD
BEGIN:DAYLIGHT
TZOFFSETFROM:-0700
TZOFFSETTO:-0600
TZNAME:MDT
DTSTART:20260308T090000
END:DAYLIGHT
BEGIN:STANDARD
TZOFFSETFROM:-0600
TZOFFSETTO:-0700
TZNAME:MST
DTSTART:20261101T080000
END:STANDARD
END:VTIMEZONE
BEGIN:VEVENT
DTSTART;TZID=America/Denver:20250515T110000
DTEND;TZID=America/Denver:20250515T120000
DTSTAMP:20260424T060957
CREATED:20250415T202135Z
LAST-MODIFIED:20250416T202117Z
UID:10006386-1747306800-1747310400@dev.utahrecovers.org
SUMMARY:Thursday EDA (In person)
DESCRIPTION:Eating Disordered Anonymous
URL:https://dev.utahrecovers.org/meeting/thursday-eda-in-person-48/
LOCATION:Utah Support Advocates for Recovery Awareness – USARA – St. George\, 113 E 200 N\, Saint George\, UT\, United States
CATEGORIES:St George Recovery Community Center
GEO:37.111634;-113.581023
X-APPLE-STRUCTURED-LOCATION;VALUE=URI;X-ADDRESS=Utah Support Advocates for Recovery Awareness – USARA – St. George 113 E 200 N Saint George UT United States;X-APPLE-RADIUS=500;X-TITLE=113 E 200 N:geo:-113.581023,37.111634
END:VEVENT
BEGIN:VEVENT
DTSTART;TZID=America/Denver:20250515T171500
DTEND;TZID=America/Denver:20250515T181500
DTSTAMP:20260424T060957
CREATED:20250415T202135Z
LAST-MODIFIED:20250416T202128Z
UID:10006387-1747329300-1747332900@dev.utahrecovers.org
SUMMARY:All Recovery (In person)
DESCRIPTION:An all pathways meeting
URL:https://dev.utahrecovers.org/meeting/all-recovery-in-person-17/
CATEGORIES:St George Recovery Community Center
END:VEVENT
BEGIN:VEVENT
DTSTART;TZID=America/Denver:20250515T180000
DTEND;TZID=America/Denver:20250515T190000
DTSTAMP:20260424T060957
CREATED:20250416T202128Z
LAST-MODIFIED:20250416T202128Z
UID:10006404-1747332000-1747335600@dev.utahrecovers.org
SUMMARY:AA Tolerance Group (In person)
DESCRIPTION:Closed 12 step AA meeting (must identify as an Alcoholic to attend)
URL:https://dev.utahrecovers.org/meeting/aa-tolerance-group-in-person-50/
LOCATION:Utah Support Advocates for Recovery Awareness – USARA – St. George\, 113 E 200 N\, Saint George\, UT\, United States
CATEGORIES:St George Recovery Community Center
GEO:37.111634;-113.581023
X-APPLE-STRUCTURED-LOCATION;VALUE=URI;X-ADDRESS=Utah Support Advocates for Recovery Awareness – USARA – St. George 113 E 200 N Saint George UT United States;X-APPLE-RADIUS=500;X-TITLE=113 E 200 N:geo:-113.581023,37.111634
END:VEVENT
BEGIN:VEVENT
DTSTART;TZID=America/Denver:20250515T183000
DTEND;TZID=America/Denver:20250515T193000
DTSTAMP:20260424T060957
CREATED:20250416T202128Z
LAST-MODIFIED:20250416T202128Z
UID:10006403-1747333800-1747337400@dev.utahrecovers.org
SUMMARY:Double Winners Men's Meeting (In person
DESCRIPTION:
URL:https://dev.utahrecovers.org/meeting/double-winners-mens-meeting-in-person-50/
LOCATION:Utah Support Advocates for Recovery Awareness – USARA – St. George\, 113 E 200 N\, Saint George\, UT\, United States
CATEGORIES:St George Recovery Community Center
GEO:37.111634;-113.581023
X-APPLE-STRUCTURED-LOCATION;VALUE=URI;X-ADDRESS=Utah Support Advocates for Recovery Awareness – USARA – St. George 113 E 200 N Saint George UT United States;X-APPLE-RADIUS=500;X-TITLE=113 E 200 N:geo:-113.581023,37.111634
END:VEVENT
BEGIN:VEVENT
DTSTART;TZID=America/Denver:20250701T080000
DTEND;TZID=America/Denver:20250701T170000
DTSTAMP:20260424T060957
CREATED:20250627T111940Z
LAST-MODIFIED:20250627T112442Z
UID:10006739-1751356800-1751389200@dev.utahrecovers.org
SUMMARY:TEST
DESCRIPTION:TEST NO VIRTUAL
URL:https://dev.utahrecovers.org/meeting/test/
LOCATION:184 W 400 N\, Provo\, UT 84601\, USA\, Provo RCC-1-Suite B Group Room (30)
CATEGORIES:Moab Recovery Community Center,Ogden Recovery Community Center,Salt Lake Recovery Community Center,St George Recovery Community Center
END:VEVENT
END:VCALENDAR