BEGIN:VCALENDAR
VERSION:2.0
PRODID:-//USARA - Utah Recovers - ECPv6.15.18//NONSGML v1.0//EN
CALSCALE:GREGORIAN
METHOD:PUBLISH
X-ORIGINAL-URL:https://dev.utahrecovers.org
X-WR-CALDESC:Events for USARA - Utah Recovers
REFRESH-INTERVAL;VALUE=DURATION:PT1H
X-Robots-Tag:noindex
X-PUBLISHED-TTL:PT1H
BEGIN:VTIMEZONE
TZID:America/Denver
BEGIN:DAYLIGHT
TZOFFSETFROM:-0700
TZOFFSETTO:-0600
TZNAME:MDT
DTSTART:20240310T090000
END:DAYLIGHT
BEGIN:STANDARD
TZOFFSETFROM:-0600
TZOFFSETTO:-0700
TZNAME:MST
DTSTART:20241103T080000
END:STANDARD
BEGIN:DAYLIGHT
TZOFFSETFROM:-0700
TZOFFSETTO:-0600
TZNAME:MDT
DTSTART:20250309T090000
END:DAYLIGHT
BEGIN:STANDARD
TZOFFSETFROM:-0600
TZOFFSETTO:-0700
TZNAME:MST
DTSTART:20251102T080000
END:STANDARD
BEGIN:DAYLIGHT
TZOFFSETFROM:-0700
TZOFFSETTO:-0600
TZNAME:MDT
DTSTART:20260308T090000
END:DAYLIGHT
BEGIN:STANDARD
TZOFFSETFROM:-0600
TZOFFSETTO:-0700
TZNAME:MST
DTSTART:20261101T080000
END:STANDARD
END:VTIMEZONE
BEGIN:VEVENT
DTSTART;TZID=America/Denver:20250512T180000
DTEND;TZID=America/Denver:20250512T190000
DTSTAMP:20260423T115404
CREATED:20250413T195320Z
LAST-MODIFIED:20250416T202117Z
UID:10006343-1747072800-1747076400@dev.utahrecovers.org
SUMMARY:Al-Anon Men's Meeting (In person)
DESCRIPTION:Closed 12 step family support meeting for males. \nContacts \n\nRick Hughes\n\nphone: (815) 546-1798\n\n\nManny\n\nphone: (435) 559-3333
URL:https://dev.utahrecovers.org/meeting/al-anon-mens-meeting-in-person-49/
LOCATION:Utah Support Advocates for Recovery Awareness – USARA – St. George\, 113 E 200 N\, Saint George\, UT\, United States
CATEGORIES:St George Recovery Community Center
GEO:37.111634;-113.581023
X-APPLE-STRUCTURED-LOCATION;VALUE=URI;X-ADDRESS=Utah Support Advocates for Recovery Awareness – USARA – St. George 113 E 200 N Saint George UT United States;X-APPLE-RADIUS=500;X-TITLE=113 E 200 N:geo:-113.581023,37.111634
END:VEVENT
BEGIN:VEVENT
DTSTART;TZID=America/Denver:20250511T200000
DTEND;TZID=America/Denver:20250511T210000
DTSTAMP:20260423T115404
CREATED:20250412T194218Z
LAST-MODIFIED:20250416T202117Z
UID:10006330-1746993600-1746997200@dev.utahrecovers.org
SUMMARY:Joe & Charlie Discussion AA Group (In person)
DESCRIPTION:Open 12 step AA meeting focusing on the Joe & Charlie tapes\, Big Book Study \nContact \n\nJustin Ward\n\nphone: (801) 389-2715
URL:https://dev.utahrecovers.org/meeting/joe-charlie-discussion-aa-group-in-person-50/
LOCATION:Utah Support Advocates for Recovery Awareness – USARA – St. George\, 113 E 200 N\, Saint George\, UT\, United States
CATEGORIES:St George Recovery Community Center
GEO:37.111634;-113.581023
X-APPLE-STRUCTURED-LOCATION;VALUE=URI;X-ADDRESS=Utah Support Advocates for Recovery Awareness – USARA – St. George 113 E 200 N Saint George UT United States;X-APPLE-RADIUS=500;X-TITLE=113 E 200 N:geo:-113.581023,37.111634
END:VEVENT
BEGIN:VEVENT
DTSTART;TZID=America/Denver:20250510T080000
DTEND;TZID=America/Denver:20250510T090000
DTSTAMP:20260423T115404
CREATED:20250410T194237Z
LAST-MODIFIED:20250416T202103Z
UID:10006314-1746864000-1746867600@dev.utahrecovers.org
SUMMARY:Al-Anon (In person)
DESCRIPTION:
URL:https://dev.utahrecovers.org/meeting/al-anon-in-person-50/
LOCATION:Utah Support Advocates for Recovery Awareness – USARA – St. George\, 113 E 200 N\, Saint George\, UT\, United States
CATEGORIES:St George Recovery Community Center
GEO:37.111634;-113.581023
X-APPLE-STRUCTURED-LOCATION;VALUE=URI;X-ADDRESS=Utah Support Advocates for Recovery Awareness – USARA – St. George 113 E 200 N Saint George UT United States;X-APPLE-RADIUS=500;X-TITLE=113 E 200 N:geo:-113.581023,37.111634
END:VEVENT
BEGIN:VEVENT
DTSTART;TZID=America/Denver:20250509T180000
DTEND;TZID=America/Denver:20250509T190000
DTSTAMP:20260423T115404
CREATED:20250410T194225Z
LAST-MODIFIED:20250416T202103Z
UID:10006313-1746813600-1746817200@dev.utahrecovers.org
SUMMARY:Recovery Dharma (In person)
DESCRIPTION:A mindfulness-based addiction recovery community that practices and utilizes Buddhist philosophy as the foundation of the recovery process. \nContact \n\nJustin Ward\n\nphone: (801) 389-2715
URL:https://dev.utahrecovers.org/meeting/recovery-dharma-in-person-147/
LOCATION:Utah Support Advocates for Recovery Awareness – USARA – St. George\, 113 E 200 N\, Saint George\, UT\, United States
CATEGORIES:St George Recovery Community Center
GEO:37.111634;-113.581023
X-APPLE-STRUCTURED-LOCATION;VALUE=URI;X-ADDRESS=Utah Support Advocates for Recovery Awareness – USARA – St. George 113 E 200 N Saint George UT United States;X-APPLE-RADIUS=500;X-TITLE=113 E 200 N:geo:-113.581023,37.111634
END:VEVENT
BEGIN:VEVENT
DTSTART;TZID=America/Denver:20250508T183000
DTEND;TZID=America/Denver:20250508T193000
DTSTAMP:20260423T115404
CREATED:20250409T194235Z
LAST-MODIFIED:20250416T202103Z
UID:10006299-1746729000-1746732600@dev.utahrecovers.org
SUMMARY:Double Winners Men's Meeting (In person
DESCRIPTION:
URL:https://dev.utahrecovers.org/meeting/double-winners-mens-meeting-in-person-49/
LOCATION:Utah Support Advocates for Recovery Awareness – USARA – St. George\, 113 E 200 N\, Saint George\, UT\, United States
CATEGORIES:St George Recovery Community Center
GEO:37.111634;-113.581023
X-APPLE-STRUCTURED-LOCATION;VALUE=URI;X-ADDRESS=Utah Support Advocates for Recovery Awareness – USARA – St. George 113 E 200 N Saint George UT United States;X-APPLE-RADIUS=500;X-TITLE=113 E 200 N:geo:-113.581023,37.111634
END:VEVENT
BEGIN:VEVENT
DTSTART;TZID=America/Denver:20250508T180000
DTEND;TZID=America/Denver:20250508T190000
DTSTAMP:20260423T115404
CREATED:20250409T194235Z
LAST-MODIFIED:20250416T202103Z
UID:10006300-1746727200-1746730800@dev.utahrecovers.org
SUMMARY:AA Tolerance Group (In person)
DESCRIPTION:Closed 12 step AA meeting (must identify as an Alcoholic to attend)
URL:https://dev.utahrecovers.org/meeting/aa-tolerance-group-in-person-49/
LOCATION:Utah Support Advocates for Recovery Awareness – USARA – St. George\, 113 E 200 N\, Saint George\, UT\, United States
CATEGORIES:St George Recovery Community Center
GEO:37.111634;-113.581023
X-APPLE-STRUCTURED-LOCATION;VALUE=URI;X-ADDRESS=Utah Support Advocates for Recovery Awareness – USARA – St. George 113 E 200 N Saint George UT United States;X-APPLE-RADIUS=500;X-TITLE=113 E 200 N:geo:-113.581023,37.111634
END:VEVENT
BEGIN:VEVENT
DTSTART;TZID=America/Denver:20250508T171500
DTEND;TZID=America/Denver:20250508T181500
DTSTAMP:20260423T115404
CREATED:20250408T194232Z
LAST-MODIFIED:20250416T202103Z
UID:10006283-1746724500-1746728100@dev.utahrecovers.org
SUMMARY:All Recovery (In person)
DESCRIPTION:An all pathways meeting
URL:https://dev.utahrecovers.org/meeting/all-recovery-in-person-16/
LOCATION:UT
CATEGORIES:St George Recovery Community Center
END:VEVENT
BEGIN:VEVENT
DTSTART;TZID=America/Denver:20250508T110000
DTEND;TZID=America/Denver:20250508T120000
DTSTAMP:20260423T115404
CREATED:20250408T194232Z
LAST-MODIFIED:20250416T202103Z
UID:10006282-1746702000-1746705600@dev.utahrecovers.org
SUMMARY:Thursday EDA (In person)
DESCRIPTION:Eating Disordered Anonymous
URL:https://dev.utahrecovers.org/meeting/thursday-eda-in-person-47/
LOCATION:Utah Support Advocates for Recovery Awareness – USARA – St. George\, 113 E 200 N\, Saint George\, UT\, United States
CATEGORIES:St George Recovery Community Center
GEO:37.111634;-113.581023
X-APPLE-STRUCTURED-LOCATION;VALUE=URI;X-ADDRESS=Utah Support Advocates for Recovery Awareness – USARA – St. George 113 E 200 N Saint George UT United States;X-APPLE-RADIUS=500;X-TITLE=113 E 200 N:geo:-113.581023,37.111634
END:VEVENT
BEGIN:VEVENT
DTSTART;TZID=America/Denver:20250507T203000
DTEND;TZID=America/Denver:20250507T210000
DTSTAMP:20260423T115404
CREATED:20250408T194232Z
LAST-MODIFIED:20250416T202102Z
UID:10006281-1746649800-1746651600@dev.utahrecovers.org
SUMMARY:Self-Compassion Break (Virtual)
DESCRIPTION:A self compassion break is a short practice that can help you feel less isolated\, acknowledge stress\, and practice self-compassion when you are struggling. This practice is open to everyone!
URL:https://dev.utahrecovers.org/meeting/self-compassion-break-virtual-214/
LOCATION:https://us02web.zoom.us/j/86950545911?pwd=OFZGMlFiTWVkcHp2Yi8yQmVmSWhyUT09
CATEGORIES:St George Recovery Community Center
END:VEVENT
BEGIN:VEVENT
DTSTART;TZID=America/Denver:20250507T193000
DTEND;TZID=America/Denver:20250507T210000
DTSTAMP:20260423T115404
CREATED:20250408T194220Z
LAST-MODIFIED:20250416T202102Z
UID:10006280-1746646200-1746651600@dev.utahrecovers.org
SUMMARY:Adult Children of Alcoholics & Dysfunctional Families (In person)
DESCRIPTION:12 step support meeting for individuals who grew up in alcoholic and/or dysfunctional families. \nContact \n\nRobert Hanson\n\nphone: (925) 286-4025
URL:https://dev.utahrecovers.org/meeting/adult-children-of-alcoholics-dysfunctional-families-in-person-48/
LOCATION:Utah Support Advocates for Recovery Awareness – USARA – St. George\, 113 E 200 N\, Saint George\, UT\, United States
CATEGORIES:St George Recovery Community Center
GEO:37.111634;-113.581023
X-APPLE-STRUCTURED-LOCATION;VALUE=URI;X-ADDRESS=Utah Support Advocates for Recovery Awareness – USARA – St. George 113 E 200 N Saint George UT United States;X-APPLE-RADIUS=500;X-TITLE=113 E 200 N:geo:-113.581023,37.111634
END:VEVENT
BEGIN:VEVENT
DTSTART;TZID=America/Denver:20250507T120000
DTEND;TZID=America/Denver:20250507T130000
DTSTAMP:20260423T115404
CREATED:20250407T194231Z
LAST-MODIFIED:20250416T202102Z
UID:10006259-1746619200-1746622800@dev.utahrecovers.org
SUMMARY:AA Women's Meeting (In person)
DESCRIPTION:
URL:https://dev.utahrecovers.org/meeting/aa-womens-meeting-in-person-49/
LOCATION:Utah Support Advocates for Recovery Awareness – USARA – St. George\, 113 E 200 N\, Saint George\, UT\, United States
CATEGORIES:St George Recovery Community Center
GEO:37.111634;-113.581023
X-APPLE-STRUCTURED-LOCATION;VALUE=URI;X-ADDRESS=Utah Support Advocates for Recovery Awareness – USARA – St. George 113 E 200 N Saint George UT United States;X-APPLE-RADIUS=500;X-TITLE=113 E 200 N:geo:-113.581023,37.111634
END:VEVENT
BEGIN:VEVENT
DTSTART;TZID=America/Denver:20250506T180000
DTEND;TZID=America/Denver:20250506T190000
DTSTAMP:20260423T115404
CREATED:20250407T194231Z
LAST-MODIFIED:20250416T202102Z
UID:10006258-1746554400-1746558000@dev.utahrecovers.org
SUMMARY:Living the Steps NA (In person)
DESCRIPTION:
URL:https://dev.utahrecovers.org/meeting/living-the-steps-na-in-person-49/
LOCATION:Utah Support Advocates for Recovery Awareness – USARA – St. George\, 113 E 200 N\, Saint George\, UT\, United States
CATEGORIES:St George Recovery Community Center
GEO:37.111634;-113.581023
X-APPLE-STRUCTURED-LOCATION;VALUE=URI;X-ADDRESS=Utah Support Advocates for Recovery Awareness – USARA – St. George 113 E 200 N Saint George UT United States;X-APPLE-RADIUS=500;X-TITLE=113 E 200 N:geo:-113.581023,37.111634
END:VEVENT
BEGIN:VEVENT
DTSTART;TZID=America/Denver:20250506T120000
DTEND;TZID=America/Denver:20250506T130000
DTSTAMP:20260423T115404
CREATED:20250406T194237Z
LAST-MODIFIED:20250416T202049Z
UID:10006244-1746532800-1746536400@dev.utahrecovers.org
SUMMARY:Recovery Dharma (In person)
DESCRIPTION:A mindfulness-based addiction recovery community that practices and utilizes Buddhist philosophy as the foundation of the recovery process. \nContact \n\nLana Rose Nelson\n\nphone: (435) 429-9454
URL:https://dev.utahrecovers.org/meeting/recovery-dharma-in-person-146/
LOCATION:Utah Support Advocates for Recovery Awareness – USARA – St. George\, 113 E 200 N\, Saint George\, UT\, United States
CATEGORIES:St George Recovery Community Center
GEO:37.111634;-113.581023
X-APPLE-STRUCTURED-LOCATION;VALUE=URI;X-ADDRESS=Utah Support Advocates for Recovery Awareness – USARA – St. George 113 E 200 N Saint George UT United States;X-APPLE-RADIUS=500;X-TITLE=113 E 200 N:geo:-113.581023,37.111634
END:VEVENT
BEGIN:VEVENT
DTSTART;TZID=America/Denver:20250505T200000
DTEND;TZID=America/Denver:20250505T210000
DTSTAMP:20260423T115404
CREATED:20250406T194222Z
LAST-MODIFIED:20250416T202049Z
UID:10006243-1746475200-1746478800@dev.utahrecovers.org
SUMMARY:Eating Disordered Anonymous (In person)
DESCRIPTION:Eating Disordered Anonymous
URL:https://dev.utahrecovers.org/meeting/eating-disordered-anonymous-in-person-8/
LOCATION:Utah Support Advocates for Recovery Awareness – USARA – St. George\, 113 E 200 N\, Saint George\, UT\, United States
CATEGORIES:St George Recovery Community Center
GEO:37.111634;-113.581023
X-APPLE-STRUCTURED-LOCATION;VALUE=URI;X-ADDRESS=Utah Support Advocates for Recovery Awareness – USARA – St. George 113 E 200 N Saint George UT United States;X-APPLE-RADIUS=500;X-TITLE=113 E 200 N:geo:-113.581023,37.111634
END:VEVENT
BEGIN:VEVENT
DTSTART;TZID=America/Denver:20250505T180000
DTEND;TZID=America/Denver:20250505T190000
DTSTAMP:20260423T115404
CREATED:20250406T194222Z
LAST-MODIFIED:20250416T202049Z
UID:10006242-1746468000-1746471600@dev.utahrecovers.org
SUMMARY:Al-Anon Men's Meeting (In person)
DESCRIPTION:Closed 12 step family support meeting for males. \nContacts \n\nRick Hughes\n\nphone: (815) 546-1798\n\n\nManny\n\nphone: (435) 559-3333
URL:https://dev.utahrecovers.org/meeting/al-anon-mens-meeting-in-person-48/
LOCATION:Utah Support Advocates for Recovery Awareness – USARA – St. George\, 113 E 200 N\, Saint George\, UT\, United States
CATEGORIES:St George Recovery Community Center
GEO:37.111634;-113.581023
X-APPLE-STRUCTURED-LOCATION;VALUE=URI;X-ADDRESS=Utah Support Advocates for Recovery Awareness – USARA – St. George 113 E 200 N Saint George UT United States;X-APPLE-RADIUS=500;X-TITLE=113 E 200 N:geo:-113.581023,37.111634
END:VEVENT
BEGIN:VEVENT
DTSTART;TZID=America/Denver:20250504T200000
DTEND;TZID=America/Denver:20250504T210000
DTSTAMP:20260423T115404
CREATED:20250405T194220Z
LAST-MODIFIED:20250416T202049Z
UID:10006230-1746388800-1746392400@dev.utahrecovers.org
SUMMARY:Joe & Charlie Discussion AA Group (In person)
DESCRIPTION:Open 12 step AA meeting focusing on the Joe & Charlie tapes\, Big Book Study \nContact \n\nJustin Ward\n\nphone: (801) 389-2715
URL:https://dev.utahrecovers.org/meeting/joe-charlie-discussion-aa-group-in-person-49/
LOCATION:Utah Support Advocates for Recovery Awareness – USARA – St. George\, 113 E 200 N\, Saint George\, UT\, United States
CATEGORIES:St George Recovery Community Center
GEO:37.111634;-113.581023
X-APPLE-STRUCTURED-LOCATION;VALUE=URI;X-ADDRESS=Utah Support Advocates for Recovery Awareness – USARA – St. George 113 E 200 N Saint George UT United States;X-APPLE-RADIUS=500;X-TITLE=113 E 200 N:geo:-113.581023,37.111634
END:VEVENT
BEGIN:VEVENT
DTSTART;TZID=America/Denver:20250503T080000
DTEND;TZID=America/Denver:20250503T090000
DTSTAMP:20260423T115404
CREATED:20250403T192135Z
LAST-MODIFIED:20250416T202049Z
UID:10006215-1746259200-1746262800@dev.utahrecovers.org
SUMMARY:Al-Anon (In person)
DESCRIPTION:
URL:https://dev.utahrecovers.org/meeting/al-anon-in-person-49/
LOCATION:Utah Support Advocates for Recovery Awareness – USARA – St. George\, 113 E 200 N\, Saint George\, UT\, United States
CATEGORIES:St George Recovery Community Center
GEO:37.111634;-113.581023
X-APPLE-STRUCTURED-LOCATION;VALUE=URI;X-ADDRESS=Utah Support Advocates for Recovery Awareness – USARA – St. George 113 E 200 N Saint George UT United States;X-APPLE-RADIUS=500;X-TITLE=113 E 200 N:geo:-113.581023,37.111634
END:VEVENT
BEGIN:VEVENT
DTSTART;TZID=America/Denver:20250502T180000
DTEND;TZID=America/Denver:20250502T190000
DTSTAMP:20260423T115404
CREATED:20250403T192135Z
LAST-MODIFIED:20250416T202049Z
UID:10006214-1746208800-1746212400@dev.utahrecovers.org
SUMMARY:Recovery Dharma (In person)
DESCRIPTION:A mindfulness-based addiction recovery community that practices and utilizes Buddhist philosophy as the foundation of the recovery process. \nContact \n\nJustin Ward\n\nphone: (801) 389-2715
URL:https://dev.utahrecovers.org/meeting/recovery-dharma-in-person-144/
LOCATION:Utah Support Advocates for Recovery Awareness – USARA – St. George\, 113 E 200 N\, Saint George\, UT\, United States
CATEGORIES:St George Recovery Community Center
GEO:37.111634;-113.581023
X-APPLE-STRUCTURED-LOCATION;VALUE=URI;X-ADDRESS=Utah Support Advocates for Recovery Awareness – USARA – St. George 113 E 200 N Saint George UT United States;X-APPLE-RADIUS=500;X-TITLE=113 E 200 N:geo:-113.581023,37.111634
END:VEVENT
BEGIN:VEVENT
DTSTART;TZID=America/Denver:20250501T183000
DTEND;TZID=America/Denver:20250501T193000
DTSTAMP:20260423T115404
CREATED:20250402T192135Z
LAST-MODIFIED:20250416T202049Z
UID:10006198-1746124200-1746127800@dev.utahrecovers.org
SUMMARY:Double Winners Men's Meeting (In person
DESCRIPTION:
URL:https://dev.utahrecovers.org/meeting/double-winners-mens-meeting-in-person-48/
LOCATION:Utah Support Advocates for Recovery Awareness – USARA – St. George\, 113 E 200 N\, Saint George\, UT\, United States
CATEGORIES:St George Recovery Community Center
GEO:37.111634;-113.581023
X-APPLE-STRUCTURED-LOCATION;VALUE=URI;X-ADDRESS=Utah Support Advocates for Recovery Awareness – USARA – St. George 113 E 200 N Saint George UT United States;X-APPLE-RADIUS=500;X-TITLE=113 E 200 N:geo:-113.581023,37.111634
END:VEVENT
BEGIN:VEVENT
DTSTART;TZID=America/Denver:20250501T180000
DTEND;TZID=America/Denver:20250501T190000
DTSTAMP:20260423T115404
CREATED:20250402T192135Z
LAST-MODIFIED:20250416T202049Z
UID:10006197-1746122400-1746126000@dev.utahrecovers.org
SUMMARY:AA Tolerance Group (In person)
DESCRIPTION:Closed 12 step AA meeting (must identify as an Alcoholic to attend)
URL:https://dev.utahrecovers.org/meeting/aa-tolerance-group-in-person-48/
LOCATION:Utah Support Advocates for Recovery Awareness – USARA – St. George\, 113 E 200 N\, Saint George\, UT\, United States
CATEGORIES:St George Recovery Community Center
GEO:37.111634;-113.581023
X-APPLE-STRUCTURED-LOCATION;VALUE=URI;X-ADDRESS=Utah Support Advocates for Recovery Awareness – USARA – St. George 113 E 200 N Saint George UT United States;X-APPLE-RADIUS=500;X-TITLE=113 E 200 N:geo:-113.581023,37.111634
END:VEVENT
BEGIN:VEVENT
DTSTART;TZID=America/Denver:20250501T171500
DTEND;TZID=America/Denver:20250501T181500
DTSTAMP:20260423T115404
CREATED:20250401T192132Z
LAST-MODIFIED:20250416T202049Z
UID:10006185-1746119700-1746123300@dev.utahrecovers.org
SUMMARY:All Recovery (In person)
DESCRIPTION:An all pathways meeting
URL:https://dev.utahrecovers.org/meeting/all-recovery-in-person-15/
LOCATION:UT
CATEGORIES:St George Recovery Community Center
END:VEVENT
BEGIN:VEVENT
DTSTART;TZID=America/Denver:20250501T110000
DTEND;TZID=America/Denver:20250501T120000
DTSTAMP:20260423T115404
CREATED:20250401T192131Z
LAST-MODIFIED:20250416T202049Z
UID:10006184-1746097200-1746100800@dev.utahrecovers.org
SUMMARY:Thursday EDA (In person)
DESCRIPTION:Eating Disordered Anonymous
URL:https://dev.utahrecovers.org/meeting/thursday-eda-in-person-46/
LOCATION:Utah Support Advocates for Recovery Awareness – USARA – St. George\, 113 E 200 N\, Saint George\, UT\, United States
CATEGORIES:St George Recovery Community Center
GEO:37.111634;-113.581023
X-APPLE-STRUCTURED-LOCATION;VALUE=URI;X-ADDRESS=Utah Support Advocates for Recovery Awareness – USARA – St. George 113 E 200 N Saint George UT United States;X-APPLE-RADIUS=500;X-TITLE=113 E 200 N:geo:-113.581023,37.111634
END:VEVENT
BEGIN:VEVENT
DTSTART;TZID=America/Denver:20250430T203000
DTEND;TZID=America/Denver:20250430T210000
DTSTAMP:20260423T115404
CREATED:20250401T192119Z
LAST-MODIFIED:20250416T202035Z
UID:10006182-1746045000-1746046800@dev.utahrecovers.org
SUMMARY:Self-Compassion Break (Virtual)
DESCRIPTION:A self compassion break is a short practice that can help you feel less isolated\, acknowledge stress\, and practice self-compassion when you are struggling. This practice is open to everyone!
URL:https://dev.utahrecovers.org/meeting/self-compassion-break-virtual-208/
LOCATION:https://us02web.zoom.us/j/86950545911?pwd=OFZGMlFiTWVkcHp2Yi8yQmVmSWhyUT09
CATEGORIES:St George Recovery Community Center
END:VEVENT
BEGIN:VEVENT
DTSTART;TZID=America/Denver:20250430T193000
DTEND;TZID=America/Denver:20250430T210000
DTSTAMP:20260423T115404
CREATED:20250401T192131Z
LAST-MODIFIED:20250416T202035Z
UID:10006183-1746041400-1746046800@dev.utahrecovers.org
SUMMARY:Adult Children of Alcoholics & Dysfunctional Families (In person)
DESCRIPTION:12 step support meeting for individuals who grew up in alcoholic and/or dysfunctional families. \nContact \n\nRobert Hanson\n\nphone: (925) 286-4025
URL:https://dev.utahrecovers.org/meeting/adult-children-of-alcoholics-dysfunctional-families-in-person-47/
LOCATION:Utah Support Advocates for Recovery Awareness – USARA – St. George\, 113 E 200 N\, Saint George\, UT\, United States
CATEGORIES:St George Recovery Community Center
GEO:37.111634;-113.581023
X-APPLE-STRUCTURED-LOCATION;VALUE=URI;X-ADDRESS=Utah Support Advocates for Recovery Awareness – USARA – St. George 113 E 200 N Saint George UT United States;X-APPLE-RADIUS=500;X-TITLE=113 E 200 N:geo:-113.581023,37.111634
END:VEVENT
BEGIN:VEVENT
DTSTART;TZID=America/Denver:20250430T120000
DTEND;TZID=America/Denver:20250430T130000
DTSTAMP:20260423T115404
CREATED:20250331T192132Z
LAST-MODIFIED:20250416T202035Z
UID:10006155-1746014400-1746018000@dev.utahrecovers.org
SUMMARY:AA Women's Meeting (In person)
DESCRIPTION:
URL:https://dev.utahrecovers.org/meeting/aa-womens-meeting-in-person-48/
LOCATION:Utah Support Advocates for Recovery Awareness – USARA – St. George\, 113 E 200 N\, Saint George\, UT\, United States
CATEGORIES:St George Recovery Community Center
GEO:37.111634;-113.581023
X-APPLE-STRUCTURED-LOCATION;VALUE=URI;X-ADDRESS=Utah Support Advocates for Recovery Awareness – USARA – St. George 113 E 200 N Saint George UT United States;X-APPLE-RADIUS=500;X-TITLE=113 E 200 N:geo:-113.581023,37.111634
END:VEVENT
BEGIN:VEVENT
DTSTART;TZID=America/Denver:20250429T180000
DTEND;TZID=America/Denver:20250429T190000
DTSTAMP:20260423T115404
CREATED:20250331T192131Z
LAST-MODIFIED:20250416T202035Z
UID:10006154-1745949600-1745953200@dev.utahrecovers.org
SUMMARY:Living the Steps NA (In person)
DESCRIPTION:
URL:https://dev.utahrecovers.org/meeting/living-the-steps-na-in-person-48/
LOCATION:Utah Support Advocates for Recovery Awareness – USARA – St. George\, 113 E 200 N\, Saint George\, UT\, United States
CATEGORIES:St George Recovery Community Center
GEO:37.111634;-113.581023
X-APPLE-STRUCTURED-LOCATION;VALUE=URI;X-ADDRESS=Utah Support Advocates for Recovery Awareness – USARA – St. George 113 E 200 N Saint George UT United States;X-APPLE-RADIUS=500;X-TITLE=113 E 200 N:geo:-113.581023,37.111634
END:VEVENT
BEGIN:VEVENT
DTSTART;TZID=America/Denver:20250429T120000
DTEND;TZID=America/Denver:20250429T130000
DTSTAMP:20260423T115404
CREATED:20250330T192130Z
LAST-MODIFIED:20250416T202035Z
UID:10006140-1745928000-1745931600@dev.utahrecovers.org
SUMMARY:Recovery Dharma (In person)
DESCRIPTION:A mindfulness-based addiction recovery community that practices and utilizes Buddhist philosophy as the foundation of the recovery process. \nContact \n\nLana Rose Nelson\n\nphone: (435) 429-9454
URL:https://dev.utahrecovers.org/meeting/recovery-dharma-in-person-143/
LOCATION:Utah Support Advocates for Recovery Awareness – USARA – St. George\, 113 E 200 N\, Saint George\, UT\, United States
CATEGORIES:St George Recovery Community Center
GEO:37.111634;-113.581023
X-APPLE-STRUCTURED-LOCATION;VALUE=URI;X-ADDRESS=Utah Support Advocates for Recovery Awareness – USARA – St. George 113 E 200 N Saint George UT United States;X-APPLE-RADIUS=500;X-TITLE=113 E 200 N:geo:-113.581023,37.111634
END:VEVENT
BEGIN:VEVENT
DTSTART;TZID=America/Denver:20250428T200000
DTEND;TZID=America/Denver:20250428T210000
DTSTAMP:20260423T115404
CREATED:20250330T192117Z
LAST-MODIFIED:20250416T202035Z
UID:10006139-1745870400-1745874000@dev.utahrecovers.org
SUMMARY:Eating Disordered Anonymous (In person)
DESCRIPTION:Eating Disordered Anonymous
URL:https://dev.utahrecovers.org/meeting/eating-disordered-anonymous-in-person-7/
LOCATION:Utah Support Advocates for Recovery Awareness – USARA – St. George\, 113 E 200 N\, Saint George\, UT\, United States
CATEGORIES:St George Recovery Community Center
GEO:37.111634;-113.581023
X-APPLE-STRUCTURED-LOCATION;VALUE=URI;X-ADDRESS=Utah Support Advocates for Recovery Awareness – USARA – St. George 113 E 200 N Saint George UT United States;X-APPLE-RADIUS=500;X-TITLE=113 E 200 N:geo:-113.581023,37.111634
END:VEVENT
BEGIN:VEVENT
DTSTART;TZID=America/Denver:20250428T180000
DTEND;TZID=America/Denver:20250428T190000
DTSTAMP:20260423T115404
CREATED:20250330T192117Z
LAST-MODIFIED:20250416T202035Z
UID:10006138-1745863200-1745866800@dev.utahrecovers.org
SUMMARY:Al-Anon Men's Meeting (In person)
DESCRIPTION:Closed 12 step family support meeting for males. \nContacts \n\nRick Hughes\n\nphone: (815) 546-1798\n\n\nManny\n\nphone: (435) 559-3333
URL:https://dev.utahrecovers.org/meeting/al-anon-mens-meeting-in-person-47/
LOCATION:Utah Support Advocates for Recovery Awareness – USARA – St. George\, 113 E 200 N\, Saint George\, UT\, United States
CATEGORIES:St George Recovery Community Center
GEO:37.111634;-113.581023
X-APPLE-STRUCTURED-LOCATION;VALUE=URI;X-ADDRESS=Utah Support Advocates for Recovery Awareness – USARA – St. George 113 E 200 N Saint George UT United States;X-APPLE-RADIUS=500;X-TITLE=113 E 200 N:geo:-113.581023,37.111634
END:VEVENT
BEGIN:VEVENT
DTSTART;TZID=America/Denver:20250427T200000
DTEND;TZID=America/Denver:20250427T210000
DTSTAMP:20260423T115404
CREATED:20250329T185316Z
LAST-MODIFIED:20250416T202035Z
UID:10006126-1745784000-1745787600@dev.utahrecovers.org
SUMMARY:Joe & Charlie Discussion AA Group (In person)
DESCRIPTION:Open 12 step AA meeting focusing on the Joe & Charlie tapes\, Big Book Study \nContact \n\nJustin Ward\n\nphone: (801) 389-2715
URL:https://dev.utahrecovers.org/meeting/joe-charlie-discussion-aa-group-in-person-48/
LOCATION:Utah Support Advocates for Recovery Awareness – USARA – St. George\, 113 E 200 N\, Saint George\, UT\, United States
CATEGORIES:St George Recovery Community Center
GEO:37.111634;-113.581023
X-APPLE-STRUCTURED-LOCATION;VALUE=URI;X-ADDRESS=Utah Support Advocates for Recovery Awareness – USARA – St. George 113 E 200 N Saint George UT United States;X-APPLE-RADIUS=500;X-TITLE=113 E 200 N:geo:-113.581023,37.111634
END:VEVENT
END:VCALENDAR