BEGIN:VCALENDAR
VERSION:2.0
PRODID:-//USARA - Utah Recovers - ECPv6.15.18//NONSGML v1.0//EN
CALSCALE:GREGORIAN
METHOD:PUBLISH
X-WR-CALNAME:USARA - Utah Recovers
X-ORIGINAL-URL:https://dev.utahrecovers.org
X-WR-CALDESC:Events for USARA - Utah Recovers
REFRESH-INTERVAL;VALUE=DURATION:PT1H
X-Robots-Tag:noindex
X-PUBLISHED-TTL:PT1H
BEGIN:VTIMEZONE
TZID:America/Denver
BEGIN:DAYLIGHT
TZOFFSETFROM:-0700
TZOFFSETTO:-0600
TZNAME:MDT
DTSTART:20240310T090000
END:DAYLIGHT
BEGIN:STANDARD
TZOFFSETFROM:-0600
TZOFFSETTO:-0700
TZNAME:MST
DTSTART:20241103T080000
END:STANDARD
BEGIN:DAYLIGHT
TZOFFSETFROM:-0700
TZOFFSETTO:-0600
TZNAME:MDT
DTSTART:20250309T090000
END:DAYLIGHT
BEGIN:STANDARD
TZOFFSETFROM:-0600
TZOFFSETTO:-0700
TZNAME:MST
DTSTART:20251102T080000
END:STANDARD
BEGIN:DAYLIGHT
TZOFFSETFROM:-0700
TZOFFSETTO:-0600
TZNAME:MDT
DTSTART:20260308T090000
END:DAYLIGHT
BEGIN:STANDARD
TZOFFSETFROM:-0600
TZOFFSETTO:-0700
TZNAME:MST
DTSTART:20261101T080000
END:STANDARD
END:VTIMEZONE
BEGIN:VEVENT
DTSTART;TZID=America/Denver:20250420T100000
DTEND;TZID=America/Denver:20250420T110000
DTSTAMP:20260424T030334
CREATED:20250321T054352Z
LAST-MODIFIED:20250416T102029Z
UID:10006013-1745143200-1745146800@dev.utahrecovers.org
SUMMARY:Sunday Morning Big Book Study (Hybrid - join virtually or in person!)
DESCRIPTION:https://us02web.zoom.us/j/89418418350?pwd=Rm9PSExNU3BEbURuZ09EaUpvcUZtdz09
URL:https://dev.utahrecovers.org/meeting/sunday-morning-big-book-study-hybrid-join-virtually-or-in-person-92/
LOCATION:Utah Support Advocates for Recovery Awareness – USARA\, 180 E 2100 S #100\, Salt Lake City\, UT 84115\, USA\, SLC RCC-1-Suite 100-Suite 100 Group Room (50)
CATEGORIES:Salt Lake Recovery Community Center
END:VEVENT
BEGIN:VEVENT
DTSTART;TZID=America/Denver:20250420T120000
DTEND;TZID=America/Denver:20250420T130000
DTSTAMP:20260424T030334
CREATED:20250321T054406Z
LAST-MODIFIED:20250416T102029Z
UID:10006014-1745150400-1745154000@dev.utahrecovers.org
SUMMARY:Recovery Dharma (Hybrid - join virtually or in person!)
DESCRIPTION:https://us02web.zoom.us/j/2361179850?pwd=NXhUUDNsUUpWYTNxdkhIOUcwNEhSUT09 \nContacts \n\nSteve Slater\n\nemail: slater.stevej@gmail.com
URL:https://dev.utahrecovers.org/meeting/recovery-dharma-hybrid-join-virtually-or-in-person-323/
LOCATION:Utah Support Advocates for Recovery Awareness – USARA\, 180 E 2100 S #100\, Salt Lake City\, UT 84115\, USA\, SLC RCC-1-Suite 100-Suite 100 Group Room (50)
CATEGORIES:Salt Lake Recovery Community Center
END:VEVENT
BEGIN:VEVENT
DTSTART;TZID=America/Denver:20250420T133000
DTEND;TZID=America/Denver:20250420T143000
DTSTAMP:20260424T030334
CREATED:20250321T054406Z
LAST-MODIFIED:20250416T102029Z
UID:10006015-1745155800-1745159400@dev.utahrecovers.org
SUMMARY:Clean\, Sober\, and Proud CMA - LGBTQ+ Focus (In person)
DESCRIPTION:Contacts \n\nBuzz T\n\ncell: (801) 664-5225\nemail: actalbotslc@gmail.com
URL:https://dev.utahrecovers.org/meeting/clean-sober-and-proud-cma-lgbtq-focus-in-person-47/
LOCATION:Utah Support Advocates for Recovery Awareness – USARA\, 180 E 2100 S #100\, Salt Lake City\, UT 84115\, USA\, SLC RCC-2-Suite 203-Suite 203 Group Room (40)
CATEGORIES:Salt Lake Recovery Community Center
END:VEVENT
BEGIN:VEVENT
DTSTART;TZID=America/Denver:20250420T180000
DTEND;TZID=America/Denver:20250420T190000
DTSTAMP:20260424T030334
CREATED:20250322T055453Z
LAST-MODIFIED:20250416T102044Z
UID:10006021-1745172000-1745175600@dev.utahrecovers.org
SUMMARY:Sexaholics Anonymous (Hybrid - join virtually or in person!)
DESCRIPTION:https://zoom.us/j/608422086?pwd=Y1VmV2xsSWc4QVpaR3FHZDNOZnJsZz09
URL:https://dev.utahrecovers.org/meeting/sexaholics-anonymous-hybrid-join-virtually-or-in-person-57/
LOCATION:Utah Support Advocates for Recovery Awareness – USARA\, 180 E 2100 S #100\, Salt Lake City\, UT 84115\, USA\, SLC RCC-2-Suite 203-Suite 203 Group Room (40)
CATEGORIES:Salt Lake Recovery Community Center
END:VEVENT
BEGIN:VEVENT
DTSTART;TZID=America/Denver:20250421T170000
DTEND;TZID=America/Denver:20250421T180000
DTSTAMP:20260424T030334
CREATED:20250322T055506Z
LAST-MODIFIED:20250416T102044Z
UID:10006022-1745254800-1745258400@dev.utahrecovers.org
SUMMARY:Hopeful Changes Women's Book Study (In person)
DESCRIPTION:Currently reading: A Woman’s Way Through the Twelve Steps by Stephanie S Covington
URL:https://dev.utahrecovers.org/meeting/hopeful-changes-womens-book-study-in-person-5/
LOCATION:Utah Support Advocates for Recovery Awareness – USARA\, 180 E 2100 S #100\, Salt Lake City\, UT 84115\, USA\, SLC RCC-1-Suite 100-Suite 100 Group Room (50)
CATEGORIES:Salt Lake Recovery Community Center
END:VEVENT
BEGIN:VEVENT
DTSTART;TZID=America/Denver:20250421T174500
DTEND;TZID=America/Denver:20250421T184500
DTSTAMP:20260424T030334
CREATED:20250322T055506Z
LAST-MODIFIED:20250416T102044Z
UID:10006023-1745257500-1745261100@dev.utahrecovers.org
SUMMARY:The Young and Methless CMA (In person)
DESCRIPTION:
URL:https://dev.utahrecovers.org/meeting/the-young-and-methless-cma-in-person-18/
LOCATION:SLC RCC-2-Suite 203-Suite 203 Group Room (40)
CATEGORIES:Salt Lake Recovery Community Center
END:VEVENT
BEGIN:VEVENT
DTSTART;TZID=America/Denver:20250421T180000
DTEND;TZID=America/Denver:20250421T190000
DTSTAMP:20260424T030334
CREATED:20250323T055502Z
LAST-MODIFIED:20250416T102044Z
UID:10006032-1745258400-1745262000@dev.utahrecovers.org
SUMMARY:Recovery Dharma (In person)
DESCRIPTION:
URL:https://dev.utahrecovers.org/meeting/recovery-dharma-in-person-139/
LOCATION:Utah Support Advocates for Recovery Awareness – USARA\, 180 E 2100 S #100\, Salt Lake City\, UT 84115\, USA\, SLC RCC-1-Suite 100-Suite 100 Group Room (50)
CATEGORIES:Salt Lake Recovery Community Center
END:VEVENT
BEGIN:VEVENT
DTSTART;TZID=America/Denver:20250421T190000
DTEND;TZID=America/Denver:20250421T200000
DTSTAMP:20260424T030334
CREATED:20250323T055450Z
LAST-MODIFIED:20250416T102044Z
UID:10006031-1745262000-1745265600@dev.utahrecovers.org
SUMMARY:SLAA Keys to the Kingdom (Hybrid - join virtually or in person!)
DESCRIPTION:https://us02web.zoom.us/j/85092306619?pwd=eXBTV0kyUGRDclNISkJZQVhwNXBLdz09 \nContacts \n\nRick\n\nemail: faklass@gmail.com
URL:https://dev.utahrecovers.org/meeting/slaa-keys-to-the-kingdom-hybrid-join-virtually-or-in-person-93/
LOCATION:Utah Support Advocates for Recovery Awareness – USARA\, 180 E 2100 S #100\, Salt Lake City\, UT 84115\, USA\, SLC RCC-2-Suite 203-Suite 203 Group Room (40)
CATEGORIES:Salt Lake Recovery Community Center
END:VEVENT
BEGIN:VEVENT
DTSTART;TZID=America/Denver:20250422T100000
DTEND;TZID=America/Denver:20250422T160000
DTSTAMP:20260424T030334
CREATED:20250416T102044Z
LAST-MODIFIED:20250416T102044Z
UID:10006389-1745316000-1745337600@dev.utahrecovers.org
SUMMARY:Mental Health America (In person)
DESCRIPTION:
URL:https://dev.utahrecovers.org/meeting/mental-health-america-in-person/
LOCATION:Utah Support Advocates for Recovery Awareness – USARA\, 180 E 2100 S #100\, Salt Lake City\, UT 84115\, USA\, SLC RCC-1-Suite 100-Suite 100 Group Room (50)
CATEGORIES:Salt Lake Recovery Community Center
END:VEVENT
BEGIN:VEVENT
DTSTART;TZID=America/Denver:20250422T170000
DTEND;TZID=America/Denver:20250422T180000
DTSTAMP:20260424T030334
CREATED:20250323T055502Z
LAST-MODIFIED:20250416T102045Z
UID:10006034-1745341200-1745344800@dev.utahrecovers.org
SUMMARY:Veterans Support Group (In person)
DESCRIPTION:
URL:https://dev.utahrecovers.org/meeting/veterans-support-group-in-person-44/
LOCATION:Utah Support Advocates for Recovery Awareness – USARA\, 180 E 2100 S #100\, Salt Lake City\, UT 84115\, USA\, SLC RCC-1-Suite 100-Suite 100 Group Room (50)
CATEGORIES:Salt Lake Recovery Community Center
END:VEVENT
BEGIN:VEVENT
DTSTART;TZID=America/Denver:20250422T170000
DTEND;TZID=America/Denver:20250422T183000
DTSTAMP:20260424T030334
CREATED:20250323T055502Z
LAST-MODIFIED:20250416T102044Z
UID:10006033-1745341200-1745346600@dev.utahrecovers.org
SUMMARY:Community Ear Acudetox Clinic (In person)
DESCRIPTION:
URL:https://dev.utahrecovers.org/meeting/community-ear-acudetox-clinic-in-person-45/
LOCATION:Utah Support Advocates for Recovery Awareness – USARA\, 180 E 2100 S #100\, Salt Lake City\, UT 84115\, USA\, SLC RCC-2-Suite 205-Suite 205 Conference Room (18)
CATEGORIES:Salt Lake Recovery Community Center
END:VEVENT
BEGIN:VEVENT
DTSTART;TZID=America/Denver:20250422T180000
DTEND;TZID=America/Denver:20250422T193000
DTSTAMP:20260424T030334
CREATED:20250324T055455Z
LAST-MODIFIED:20250416T102045Z
UID:10006045-1745344800-1745350200@dev.utahrecovers.org
SUMMARY:Hopeful Changes Women's Group (In person)
DESCRIPTION:Contacts \n\nMeg Kisselburg\n\ncell: (801) 652-4840\nemail: megk19@gmail.com
URL:https://dev.utahrecovers.org/meeting/hopeful-changes-womens-group-in-person-45/
LOCATION:Utah Support Advocates for Recovery Awareness – USARA\, 180 E 2100 S #100\, Salt Lake City\, UT 84115\, USA\, SLC RCC-1-Suite 100-Suite 100 Group Room (50)
CATEGORIES:Salt Lake Recovery Community Center
END:VEVENT
BEGIN:VEVENT
DTSTART;TZID=America/Denver:20250422T183000
DTEND;TZID=America/Denver:20250422T193000
DTSTAMP:20260424T030334
CREATED:20250401T072215Z
LAST-MODIFIED:20250416T102045Z
UID:10006164-1745346600-1745350200@dev.utahrecovers.org
SUMMARY:27 Links Re-Entry Men’s Support Group (In person)
DESCRIPTION:
URL:https://dev.utahrecovers.org/meeting/27-links-re-entry-mens-support-group-in-person-3/
LOCATION:Utah Support Advocates for Recovery Awareness – USARA\, 180 E 2100 S #100\, Salt Lake City\, UT 84115\, USA\, SLC RCC-2-Suite 203-Suite 203 Group Room (40)
CATEGORIES:Salt Lake Recovery Community Center
END:VEVENT
BEGIN:VEVENT
DTSTART;TZID=America/Denver:20250423T120000
DTEND;TZID=America/Denver:20250423T130000
DTSTAMP:20260424T030334
CREATED:20250324T055455Z
LAST-MODIFIED:20250416T102059Z
UID:10006046-1745409600-1745413200@dev.utahrecovers.org
SUMMARY:Recovery Dharma (Hybrid - join virtually or in person!)
DESCRIPTION:https://us02web.zoom.us/j/2361179850?pwd=NXhUUDNsUUpWYTNxdkhIOUcwNEhSUT09 \nContacts \n\nSteve Slater\n\nemail: slater.stevej@gmail.com
URL:https://dev.utahrecovers.org/meeting/recovery-dharma-hybrid-join-virtually-or-in-person-326/
LOCATION:Utah Support Advocates for Recovery Awareness – USARA\, 180 E 2100 S #100\, Salt Lake City\, UT 84115\, USA\, SLC RCC-1-Suite 100-Suite 100 Group Room (50)
CATEGORIES:Salt Lake Recovery Community Center
END:VEVENT
BEGIN:VEVENT
DTSTART;TZID=America/Denver:20250423T180000
DTEND;TZID=America/Denver:20250423T193000
DTSTAMP:20260424T030334
CREATED:20250325T062256Z
LAST-MODIFIED:20250416T102059Z
UID:10006064-1745431200-1745436600@dev.utahrecovers.org
SUMMARY:SMART Recovery (Hybrid - join virtually or in person!)
DESCRIPTION:https://meet.google.com/eqj-itap-ibd \nContacts \n\nDeano\n\ncell: (801) 648-5442
URL:https://dev.utahrecovers.org/meeting/smart-recovery-hybrid-join-virtually-or-in-person-180/
LOCATION:Utah Support Advocates for Recovery Awareness – USARA\, 180 E 2100 S #100\, Salt Lake City\, UT 84115\, USA\, SLC RCC-2-Suite 203-Suite 203 Group Room (40)
CATEGORIES:Salt Lake Recovery Community Center
END:VEVENT
BEGIN:VEVENT
DTSTART;TZID=America/Denver:20250423T180000
DTEND;TZID=America/Denver:20250423T193000
DTSTAMP:20260424T030334
CREATED:20250325T062311Z
LAST-MODIFIED:20250416T102059Z
UID:10006065-1745431200-1745436600@dev.utahrecovers.org
SUMMARY:CRAFT Family Support (In person)
DESCRIPTION:
URL:https://dev.utahrecovers.org/meeting/craft-family-support-in-person-98/
LOCATION:Utah Support Advocates for Recovery Awareness – USARA\, 180 E 2100 S #100\, Salt Lake City\, UT 84115\, USA\, SLC RCC-1-Suite 100-Suite 100 Group Room (50)
CATEGORIES:Salt Lake Recovery Community Center
END:VEVENT
BEGIN:VEVENT
DTSTART;TZID=America/Denver:20250423T200000
DTEND;TZID=America/Denver:20250423T210000
DTSTAMP:20260424T030334
CREATED:20250325T062311Z
LAST-MODIFIED:20250416T102059Z
UID:10006066-1745438400-1745442000@dev.utahrecovers.org
SUMMARY:Addicts Fighting Back (In person)
DESCRIPTION:Contacts
URL:https://dev.utahrecovers.org/meeting/addicts-fighting-back-in-person-46/
LOCATION:Utah Support Advocates for Recovery Awareness – USARA\, 180 E 2100 S #100\, Salt Lake City\, UT 84115\, USA\, SLC RCC-1-Suite 100-Suite 100 Group Room (50)
CATEGORIES:Salt Lake Recovery Community Center
END:VEVENT
BEGIN:VEVENT
DTSTART;TZID=America/Denver:20250423T203000
DTEND;TZID=America/Denver:20250423T210000
DTSTAMP:20260424T030334
CREATED:20250325T062311Z
LAST-MODIFIED:20250416T102059Z
UID:10006067-1745440200-1745442000@dev.utahrecovers.org
SUMMARY:Self-Compassion Break (Virtual)
DESCRIPTION:A self compassion break is a short practice that can help you feel less isolated\, acknowledge stress\, and practice self-compassion when you are struggling. This practice is open to everyone!
URL:https://dev.utahrecovers.org/meeting/self-compassion-break-virtual-199/
LOCATION:https://us02web.zoom.us/j/86950545911?pwd=OFZGMlFiTWVkcHp2Yi8yQmVmSWhyUT09
CATEGORIES:Salt Lake Recovery Community Center
END:VEVENT
BEGIN:VEVENT
DTSTART;TZID=America/Denver:20250424T093000
DTEND;TZID=America/Denver:20250424T163000
DTSTAMP:20260424T030334
CREATED:20250325T062311Z
LAST-MODIFIED:20250416T102059Z
UID:10006068-1745487000-1745512200@dev.utahrecovers.org
SUMMARY:Clean Slate - Fingerprints (In person)
DESCRIPTION:
URL:https://dev.utahrecovers.org/meeting/clean-slate-fingerprints-in-person-47/
LOCATION:SLC RCC-1-Suite 100-Suite 100 Group Room (50)
CATEGORIES:Salt Lake Recovery Community Center
END:VEVENT
BEGIN:VEVENT
DTSTART;TZID=America/Denver:20250424T173000
DTEND;TZID=America/Denver:20250424T183000
DTSTAMP:20260424T030334
CREATED:20250325T062311Z
LAST-MODIFIED:20250416T102100Z
UID:10006069-1745515800-1745519400@dev.utahrecovers.org
SUMMARY:Psychedelics in Recovery (Hybrid - join virtually or in person!)
DESCRIPTION:https://us06web.zoom.us/j/86332491277?pwd=53DYFwemMM16J1zhZSYaRi8qMlbFHH.1 \nMeeting ID: 863 3249 1277Passcode: 144990
URL:https://dev.utahrecovers.org/meeting/psychedelics-in-recovery-hybrid-join-virtually-or-in-person-33/
LOCATION:Utah Support Advocates for Recovery Awareness – USARA\, 180 E 2100 S #100\, Salt Lake City\, UT 84115\, USA\, SLC RCC-1-Suite 100-Suite 100 Group Room (50)
CATEGORIES:Salt Lake Recovery Community Center
END:VEVENT
BEGIN:VEVENT
DTSTART;TZID=America/Denver:20250424T180000
DTEND;TZID=America/Denver:20250424T190000
DTSTAMP:20260424T030334
CREATED:20250326T064406Z
LAST-MODIFIED:20250416T102100Z
UID:10006085-1745517600-1745521200@dev.utahrecovers.org
SUMMARY:Treatment Court Alumni Group (In person)
DESCRIPTION:
URL:https://dev.utahrecovers.org/meeting/treatment-court-alumni-group-in-person-18/
LOCATION:Utah Support Advocates for Recovery Awareness – USARA\, 180 E 2100 S #100\, Salt Lake City\, UT 84115\, USA\, SLC RCC-2-Suite 203-Suite 203 Group Room (40)
CATEGORIES:Salt Lake Recovery Community Center
END:VEVENT
BEGIN:VEVENT
DTSTART;TZID=America/Denver:20250424T183000
DTEND;TZID=America/Denver:20250424T193000
DTSTAMP:20260424T030334
CREATED:20250326T064406Z
LAST-MODIFIED:20250416T102100Z
UID:10006083-1745519400-1745523000@dev.utahrecovers.org
SUMMARY:AA Solution Group (In person)
DESCRIPTION:Contacts \n\nAbbey P\n\ncell: (435) 659-0826\nemail: abbeyroadnelson@gmail.com\n\n\nJason\n\nemail: pritchardjasonr@gmail.com
URL:https://dev.utahrecovers.org/meeting/aa-solution-group-in-person-47/
LOCATION:Utah Support Advocates for Recovery Awareness – USARA\, 180 E 2100 S #100\, Salt Lake City\, UT 84115\, USA\, SLC RCC-1-Suite 100-Suite 100 Group Room (50)
CATEGORIES:Salt Lake Recovery Community Center
END:VEVENT
BEGIN:VEVENT
DTSTART;TZID=America/Denver:20250424T190000
DTEND;TZID=America/Denver:20250424T200000
DTSTAMP:20260424T030334
CREATED:20250326T064406Z
LAST-MODIFIED:20250416T102100Z
UID:10006084-1745521200-1745524800@dev.utahrecovers.org
SUMMARY:Sexaholics Anonymous (In person)
DESCRIPTION:Contacts \n\nJerred\n\njerredburton@gmail.com
URL:https://dev.utahrecovers.org/meeting/sexaholics-anonymous-in-person-47/
LOCATION:Utah Support Advocates for Recovery Awareness – USARA\, 180 E 2100 S #100\, Salt Lake City\, UT 84115\, USA\, SLC RCC-2-Suite 203-Suite 203 Group Room (40)
CATEGORIES:Salt Lake Recovery Community Center
END:VEVENT
BEGIN:VEVENT
DTSTART;TZID=America/Denver:20250425T120000
DTEND;TZID=America/Denver:20250425T130000
DTSTAMP:20260424T030334
CREATED:20250326T064406Z
LAST-MODIFIED:20250416T102114Z
UID:10006086-1745582400-1745586000@dev.utahrecovers.org
SUMMARY:Recovery Dharma (Hybrid - join virtually or in person!)
DESCRIPTION:https://us02web.zoom.us/j/2361179850?pwd=NXhUUDNsUUpWYTNxdkhIOUcwNEhSUT09 \nContacts \n\nSteve Slater\n\nemail: slater.stevej@gmail.com
URL:https://dev.utahrecovers.org/meeting/recovery-dharma-hybrid-join-virtually-or-in-person-328/
LOCATION:Utah Support Advocates for Recovery Awareness – USARA\, 180 E 2100 S #100\, Salt Lake City\, UT 84115\, USA\, SLC RCC-1-Suite 100-Suite 100 Group Room (50)
CATEGORIES:Salt Lake Recovery Community Center
END:VEVENT
BEGIN:VEVENT
DTSTART;TZID=America/Denver:20250425T190000
DTEND;TZID=America/Denver:20250425T210000
DTSTAMP:20260424T030334
CREATED:20250327T064353Z
LAST-MODIFIED:20250416T102114Z
UID:10006102-1745607600-1745614800@dev.utahrecovers.org
SUMMARY:YPR Bingo Night (In person)
DESCRIPTION:
URL:https://dev.utahrecovers.org/meeting/ypr-bingo-night-in-person/
LOCATION:Utah Support Advocates for Recovery Awareness – USARA\, 180 E 2100 S #100\, Salt Lake City\, UT 84115\, USA\, SLC RCC-1-Suite 100-Suite 100 Group Room (50)
CATEGORIES:Salt Lake Recovery Community Center
END:VEVENT
BEGIN:VEVENT
DTSTART;TZID=America/Denver:20250425T200000
DTEND;TZID=America/Denver:20250425T210000
DTSTAMP:20260424T030334
CREATED:20250327T064341Z
LAST-MODIFIED:20250416T102114Z
UID:10006101-1745611200-1745614800@dev.utahrecovers.org
SUMMARY:Leather\, Fetish\, and Kink in Recovery CMA (In person)
DESCRIPTION:Contacts \n\nJames Jordan Greenwell\n\ncell: (435) 901-7678\nemail: greenwelljordan@gmail.com
URL:https://dev.utahrecovers.org/meeting/leather-fetish-and-kink-in-recovery-cma-in-person-47/
LOCATION:Utah Support Advocates for Recovery Awareness – USARA\, 180 E 2100 S #100\, Salt Lake City\, UT 84115\, USA\, SLC RCC-2-Suite 203-Suite 203 Group Room (40)
CATEGORIES:Salt Lake Recovery Community Center
END:VEVENT
BEGIN:VEVENT
DTSTART;TZID=America/Denver:20250426T083000
DTEND;TZID=America/Denver:20250426T093000
DTSTAMP:20260424T030334
CREATED:20250327T064353Z
LAST-MODIFIED:20250416T102114Z
UID:10006104-1745656200-1745659800@dev.utahrecovers.org
SUMMARY:Sexaholics Anonymous (Hybrid - join online or in person!)
DESCRIPTION:https://us02web.zoom.us/j/86238197798?pwd=OTA2ZmY5YUVzcURMRllId3JyRVliZz09
URL:https://dev.utahrecovers.org/meeting/sexaholics-anonymous-hybrid-join-online-or-in-person-92/
LOCATION:Utah Support Advocates for Recovery Awareness – USARA\, 180 E 2100 S #100\, Salt Lake City\, UT 84115\, USA\, SLC RCC-2-Suite 203-Suite 203 Group Room (40)
CATEGORIES:Salt Lake Recovery Community Center
END:VEVENT
BEGIN:VEVENT
DTSTART;TZID=America/Denver:20250426T093000
DTEND;TZID=America/Denver:20250426T110000
DTSTAMP:20260424T030334
CREATED:20250327T064353Z
LAST-MODIFIED:20250416T102114Z
UID:10006103-1745659800-1745665200@dev.utahrecovers.org
SUMMARY:SMART Recovery (Hybrid - join virtually or in person)
DESCRIPTION:https://smartrecovery.zoom.us/j/932119283 \nContacts \n\nJamiel\n\nemail: jamielk101@gmail.com
URL:https://dev.utahrecovers.org/meeting/smart-recovery-hybrid-join-virtually-or-in-person-182/
LOCATION:Utah Support Advocates for Recovery Awareness – USARA\, 180 E 2100 S #100\, Salt Lake City\, UT 84115\, USA\, SLC RCC-1-Suite 100-Suite 100 Group Room (50)
CATEGORIES:Salt Lake Recovery Community Center
END:VEVENT
BEGIN:VEVENT
DTSTART;TZID=America/Denver:20250426T170000
DTEND;TZID=America/Denver:20250426T180000
DTSTAMP:20260424T030334
CREATED:20250327T064354Z
LAST-MODIFIED:20250416T102114Z
UID:10006105-1745686800-1745690400@dev.utahrecovers.org
SUMMARY:Recovery Dharma (Hybrid - join virtually or in person!)
DESCRIPTION:https://us02web.zoom.us/j/2361179850?pwd=NXhUUDNsUUpWYTNxdkhIOUcwNEhSUT09
URL:https://dev.utahrecovers.org/meeting/recovery-dharma-hybrid-join-virtually-or-in-person-330/
LOCATION:Utah Support Advocates for Recovery Awareness – USARA\, 180 E 2100 S #100\, Salt Lake City\, UT 84115\, USA\, SLC RCC-1-Suite 100-Suite 100 Group Room (50)
CATEGORIES:Salt Lake Recovery Community Center
END:VEVENT
END:VCALENDAR