BEGIN:VCALENDAR
VERSION:2.0
PRODID:-//USARA - Utah Recovers - ECPv6.15.18//NONSGML v1.0//EN
CALSCALE:GREGORIAN
METHOD:PUBLISH
X-ORIGINAL-URL:https://dev.utahrecovers.org
X-WR-CALDESC:Events for USARA - Utah Recovers
REFRESH-INTERVAL;VALUE=DURATION:PT1H
X-Robots-Tag:noindex
X-PUBLISHED-TTL:PT1H
BEGIN:VTIMEZONE
TZID:America/Denver
BEGIN:DAYLIGHT
TZOFFSETFROM:-0700
TZOFFSETTO:-0600
TZNAME:MDT
DTSTART:20240310T090000
END:DAYLIGHT
BEGIN:STANDARD
TZOFFSETFROM:-0600
TZOFFSETTO:-0700
TZNAME:MST
DTSTART:20241103T080000
END:STANDARD
BEGIN:DAYLIGHT
TZOFFSETFROM:-0700
TZOFFSETTO:-0600
TZNAME:MDT
DTSTART:20250309T090000
END:DAYLIGHT
BEGIN:STANDARD
TZOFFSETFROM:-0600
TZOFFSETTO:-0700
TZNAME:MST
DTSTART:20251102T080000
END:STANDARD
BEGIN:DAYLIGHT
TZOFFSETFROM:-0700
TZOFFSETTO:-0600
TZNAME:MDT
DTSTART:20260308T090000
END:DAYLIGHT
BEGIN:STANDARD
TZOFFSETFROM:-0600
TZOFFSETTO:-0700
TZNAME:MST
DTSTART:20261101T080000
END:STANDARD
END:VTIMEZONE
BEGIN:VEVENT
DTSTART;TZID=America/Denver:20250811T170000
DTEND;TZID=America/Denver:20250811T180000
DTSTAMP:20260423T180234
CREATED:20250717T162305Z
LAST-MODIFIED:20250717T162305Z
UID:10006849-1754931600-1754935200@dev.utahrecovers.org
SUMMARY:Hopeful Changes Women's Book Study (In person)
DESCRIPTION:Currently reading: A Woman’s Way Through the Twelve Steps by Stephanie S Covington
URL:https://dev.utahrecovers.org/meeting/hopeful-changes-womens-book-study-in-person-12/
LOCATION:Utah Support Advocates for Recovery Awareness – USARA\, 180 E 2100 S #100\, Salt Lake City\, UT 84115\, USA\, SLC RCC-1-Suite 100-Suite 100 Group Room (50)
CATEGORIES:Salt Lake Recovery Community Center
END:VEVENT
BEGIN:VEVENT
DTSTART;TZID=America/Denver:20250811T170000
DTEND;TZID=America/Denver:20250811T180000
DTSTAMP:20260423T180234
CREATED:20250717T162523Z
LAST-MODIFIED:20250717T162523Z
UID:10006892-1754931600-1754935200@dev.utahrecovers.org
SUMMARY:Introduction to CRAFT Family Support (Virtual)
DESCRIPTION:Learn more about our Family Support Program before joining a weekly group! Register here: https://forms.gle/XVFb2o7W283AaC5B8
URL:https://dev.utahrecovers.org/meeting/introduction-to-craft-family-support-virtual-58/
CATEGORIES:Virtual Meetings
END:VEVENT
BEGIN:VEVENT
DTSTART;TZID=America/Denver:20250811T174500
DTEND;TZID=America/Denver:20250811T184500
DTSTAMP:20260423T180234
CREATED:20250717T162317Z
LAST-MODIFIED:20250717T162317Z
UID:10006852-1754934300-1754937900@dev.utahrecovers.org
SUMMARY:The Young and Methless CMA (In person)
DESCRIPTION:
URL:https://dev.utahrecovers.org/meeting/the-young-and-methless-cma-in-person-25/
LOCATION:SLC RCC-2-Suite 203-Suite 203 Group Room (40)
CATEGORIES:Salt Lake Recovery Community Center
END:VEVENT
BEGIN:VEVENT
DTSTART;TZID=America/Denver:20250811T180000
DTEND;TZID=America/Denver:20250811T190000
DTSTAMP:20260423T180234
CREATED:20250717T162306Z
LAST-MODIFIED:20250717T162306Z
UID:10006851-1754935200-1754938800@dev.utahrecovers.org
SUMMARY:Recovery Dharma (In person)
DESCRIPTION:
URL:https://dev.utahrecovers.org/meeting/recovery-dharma-in-person-153/
LOCATION:Utah Support Advocates for Recovery Awareness – USARA\, 180 E 2100 S #100\, Salt Lake City\, UT 84115\, USA\, SLC RCC-1-Suite 100-Suite 100 Group Room (50)
CATEGORIES:Salt Lake Recovery Community Center
END:VEVENT
BEGIN:VEVENT
DTSTART;TZID=America/Denver:20250811T190000
DTEND;TZID=America/Denver:20250811T200000
DTSTAMP:20260423T180234
CREATED:20250717T162305Z
LAST-MODIFIED:20250717T162305Z
UID:10006850-1754938800-1754942400@dev.utahrecovers.org
SUMMARY:SLAA Keys to the Kingdom (Hybrid - join virtually or in person!)
DESCRIPTION:https://us06web.zoom.us/j/85794034807?pwd=URUt6a4WAEshIr7IKpYagkFvD9Aj6b.1 \nContacts \n\nRick\n\nemail: faklass@gmail.com
URL:https://dev.utahrecovers.org/meeting/slaa-keys-to-the-kingdom-hybrid-join-virtually-or-in-person-108/
LOCATION:Utah Support Advocates for Recovery Awareness – USARA\, 180 E 2100 S #100\, Salt Lake City\, UT 84115\, USA\, SLC RCC-2-Suite 203-Suite 203 Group Room (40)
CATEGORIES:Salt Lake Recovery Community Center
END:VEVENT
END:VCALENDAR