BEGIN:VCALENDAR
VERSION:2.0
PRODID:-//USARA - Utah Recovers - ECPv6.15.18//NONSGML v1.0//EN
CALSCALE:GREGORIAN
METHOD:PUBLISH
X-ORIGINAL-URL:https://dev.utahrecovers.org
X-WR-CALDESC:Events for USARA - Utah Recovers
REFRESH-INTERVAL;VALUE=DURATION:PT1H
X-Robots-Tag:noindex
X-PUBLISHED-TTL:PT1H
BEGIN:VTIMEZONE
TZID:America/Denver
BEGIN:DAYLIGHT
TZOFFSETFROM:-0700
TZOFFSETTO:-0600
TZNAME:MDT
DTSTART:20240310T090000
END:DAYLIGHT
BEGIN:STANDARD
TZOFFSETFROM:-0600
TZOFFSETTO:-0700
TZNAME:MST
DTSTART:20241103T080000
END:STANDARD
BEGIN:DAYLIGHT
TZOFFSETFROM:-0700
TZOFFSETTO:-0600
TZNAME:MDT
DTSTART:20250309T090000
END:DAYLIGHT
BEGIN:STANDARD
TZOFFSETFROM:-0600
TZOFFSETTO:-0700
TZNAME:MST
DTSTART:20251102T080000
END:STANDARD
BEGIN:DAYLIGHT
TZOFFSETFROM:-0700
TZOFFSETTO:-0600
TZNAME:MDT
DTSTART:20260308T090000
END:DAYLIGHT
BEGIN:STANDARD
TZOFFSETFROM:-0600
TZOFFSETTO:-0700
TZNAME:MST
DTSTART:20261101T080000
END:STANDARD
END:VTIMEZONE
BEGIN:VEVENT
DTSTART;TZID=America/Denver:20250604T063000
DTEND;TZID=America/Denver:20250604T073000
DTSTAMP:20260424T002915
CREATED:20250521T153617Z
LAST-MODIFIED:20250521T153617Z
UID:10006560-1749018600-1749022200@dev.utahrecovers.org
SUMMARY:MAT Recovery Support Group (Virtual)
DESCRIPTION:Contacts
URL:https://dev.utahrecovers.org/meeting/mat-recovery-support-group-virtual-52/
LOCATION:https://us02web.zoom.us/j/81392387071?pwd=VkVkQ21GUXB6NEpsbTNmT3c4cytVZz09
CATEGORIES:Virtual Meetings
END:VEVENT
BEGIN:VEVENT
DTSTART;TZID=America/Denver:20250604T093000
DTEND;TZID=America/Denver:20250604T103000
DTSTAMP:20260424T002916
CREATED:20250521T153628Z
LAST-MODIFIED:20250521T153628Z
UID:10006561-1749029400-1749033000@dev.utahrecovers.org
SUMMARY:Empowerment Exchange Book club (Hybrid - join online or in person)
DESCRIPTION:Join with Google Meet: https://meet.google.com/gku-iniz-fggOr dial: (US) +1 252-656-5357 PIN: 235894205#More phone numbers: https://tel.meet/gku-iniz-fgg?pin=5721326304142&hs=7 \nLearn more about Meet at: https://support.google.com/a/users/answer/9282720
URL:https://dev.utahrecovers.org/meeting/empowerment-exchange-book-club-hybrid-join-online-or-in-person-46/
LOCATION:Utah Support Advocates for Recovery Awareness – USARA – Moab\, 23 S 100 W\, Moab\, UT\, United States
CATEGORIES:Virtual Meetings
GEO:38.57309;-109.552616
X-APPLE-STRUCTURED-LOCATION;VALUE=URI;X-ADDRESS=Utah Support Advocates for Recovery Awareness – USARA – Moab 23 S 100 W Moab UT United States;X-APPLE-RADIUS=500;X-TITLE=23 S 100 W:geo:-109.552616,38.57309
END:VEVENT
BEGIN:VEVENT
DTSTART;TZID=America/Denver:20250604T093000
DTEND;TZID=America/Denver:20250604T103000
DTSTAMP:20260424T002916
CREATED:20250521T153628Z
LAST-MODIFIED:20250521T153628Z
UID:10006562-1749029400-1749033000@dev.utahrecovers.org
SUMMARY:Coffee & Recovery - Ogden (Hybrid - join virtually or in person!)
DESCRIPTION:Join Zoom Meetinghttps://us02web.zoom.us/j/84527707707?pwd=pnsLRCwODPuOrO4Q3UnBjhYj64BvD2.1 (ID: 84527707707\, passcode: 642553) \nJoin by phone(US) +1 564-217-2000 (passcode: 642553) \nJoining instructions: https://www.google.com/url?q=https://applications.zoom.us/addon/invitation/detail?meetingUuid%3D8hALuLkfSs6VDECA569gnw%253D%253D%26signature%3D7b5ca8bc518361ef1ef93b4945bc4e702133503300216e7889ecc5c342f75ba0%26v%3D1&sa=D&source=calendar&usg=AOvVaw1HemuJZ5yvZTZ721h85OAP \nMeeting host: patrick.cox@myusara.com \nJoin Zoom Meeting: https://us02web.zoom.us/j/84527707707?pwd=pnsLRCwODPuOrO4Q3UnBjhYj64BvD2.1
URL:https://dev.utahrecovers.org/meeting/coffee-recovery-ogden-hybrid-join-virtually-or-in-person-73/
LOCATION:Utah Support Advocates for Recovery Awareness – USARA – Ogden\, 893 24th St\, Ogden\, UT\, United States
CATEGORIES:Virtual Meetings
GEO:41.222498;-111.956726
X-APPLE-STRUCTURED-LOCATION;VALUE=URI;X-ADDRESS=Utah Support Advocates for Recovery Awareness – USARA – Ogden 893 24th St Ogden UT United States;X-APPLE-RADIUS=500;X-TITLE=893 24th St:geo:-111.956726,41.222498
END:VEVENT
BEGIN:VEVENT
DTSTART;TZID=America/Denver:20250604T120000
DTEND;TZID=America/Denver:20250604T130000
DTSTAMP:20260424T002916
CREATED:20250521T153628Z
LAST-MODIFIED:20250521T153628Z
UID:10006563-1749038400-1749042000@dev.utahrecovers.org
SUMMARY:Recovery Dharma (Hybrid - join virtually or in person!)
DESCRIPTION:https://us02web.zoom.us/j/2361179850?pwd=NXhUUDNsUUpWYTNxdkhIOUcwNEhSUT09 \nContacts \n\nSteve\n\nemail: slater.stevej@gmail.com
URL:https://dev.utahrecovers.org/meeting/recovery-dharma-hybrid-join-virtually-or-in-person-363/
LOCATION:Utah Support Advocates for Recovery Awareness – USARA\, 180 E 2100 S\, Salt Lake City\, UT\, United States
CATEGORIES:Virtual Meetings
GEO:40.725365;-111.885934
X-APPLE-STRUCTURED-LOCATION;VALUE=URI;X-ADDRESS=Utah Support Advocates for Recovery Awareness – USARA 180 E 2100 S Salt Lake City UT United States;X-APPLE-RADIUS=500;X-TITLE=180 E 2100 S:geo:-111.885934,40.725365
END:VEVENT
BEGIN:VEVENT
DTSTART;TZID=America/Denver:20250604T180000
DTEND;TZID=America/Denver:20250604T193000
DTSTAMP:20260424T002916
CREATED:20250521T153629Z
LAST-MODIFIED:20250521T153629Z
UID:10006565-1749060000-1749065400@dev.utahrecovers.org
SUMMARY:CRAFT Family Support Group (Virtual)
DESCRIPTION:password: 854607
URL:https://dev.utahrecovers.org/meeting/craft-family-support-group-virtual-149/
LOCATION:https://us02web.zoom.us/j/86950545911
CATEGORIES:Virtual Meetings
END:VEVENT
BEGIN:VEVENT
DTSTART;TZID=America/Denver:20250604T180000
DTEND;TZID=America/Denver:20250604T193000
DTSTAMP:20260424T002916
CREATED:20250521T153629Z
LAST-MODIFIED:20250521T153629Z
UID:10006566-1749060000-1749065400@dev.utahrecovers.org
SUMMARY:CRAFT un grupo de apoyo familiar en Espanol by LBHS (Hybrid - en persona o virtual!)
DESCRIPTION:
URL:https://dev.utahrecovers.org/meeting/craft-un-grupo-de-apoyo-familiar-en-espanol-by-lbhs-hybrid-en-persona-o-virtual-50/
LOCATION:https://us02web.zoom.us/j/84574681665
CATEGORIES:Virtual Meetings
END:VEVENT
BEGIN:VEVENT
DTSTART;TZID=America/Denver:20250604T180000
DTEND;TZID=America/Denver:20250604T193000
DTSTAMP:20260424T002916
CREATED:20250521T153629Z
LAST-MODIFIED:20250521T153629Z
UID:10006564-1749060000-1749065400@dev.utahrecovers.org
SUMMARY:SMART Recovery (Hybrid - join virtually or in person!)
DESCRIPTION:https://meet.google.com/eqj-itap-ibd \nContacts \n\nDeano\n\ncell: (801) 648-5442
URL:https://dev.utahrecovers.org/meeting/smart-recovery-hybrid-join-virtually-or-in-person-199/
LOCATION:Utah Support Advocates for Recovery Awareness – USARA\, 180 E 2100 S\, Salt Lake City\, UT\, United States
CATEGORIES:Virtual Meetings
GEO:40.725365;-111.885934
X-APPLE-STRUCTURED-LOCATION;VALUE=URI;X-ADDRESS=Utah Support Advocates for Recovery Awareness – USARA 180 E 2100 S Salt Lake City UT United States;X-APPLE-RADIUS=500;X-TITLE=180 E 2100 S:geo:-111.885934,40.725365
END:VEVENT
BEGIN:VEVENT
DTSTART;TZID=America/Denver:20250604T203000
DTEND;TZID=America/Denver:20250604T210000
DTSTAMP:20260424T002916
CREATED:20250521T153629Z
LAST-MODIFIED:20250521T153629Z
UID:10006567-1749069000-1749070800@dev.utahrecovers.org
SUMMARY:Self-Compassion Break (Virtual)
DESCRIPTION:A self compassion break is a short practice that can help you feel less isolated\, acknowledge stress\, and practice self-compassion when you are struggling. This practice is open to everyone!
URL:https://dev.utahrecovers.org/meeting/self-compassion-break-virtual-225/
LOCATION:https://us02web.zoom.us/j/86950545911?pwd=OFZGMlFiTWVkcHp2Yi8yQmVmSWhyUT09
CATEGORIES:Virtual Meetings
END:VEVENT
END:VCALENDAR