BEGIN:VCALENDAR
VERSION:2.0
PRODID:-//USARA - Utah Recovers - ECPv6.15.18//NONSGML v1.0//EN
CALSCALE:GREGORIAN
METHOD:PUBLISH
X-ORIGINAL-URL:https://dev.utahrecovers.org
X-WR-CALDESC:Events for USARA - Utah Recovers
REFRESH-INTERVAL;VALUE=DURATION:PT1H
X-Robots-Tag:noindex
X-PUBLISHED-TTL:PT1H
BEGIN:VTIMEZONE
TZID:America/Denver
BEGIN:DAYLIGHT
TZOFFSETFROM:-0700
TZOFFSETTO:-0600
TZNAME:MDT
DTSTART:20240310T090000
END:DAYLIGHT
BEGIN:STANDARD
TZOFFSETFROM:-0600
TZOFFSETTO:-0700
TZNAME:MST
DTSTART:20241103T080000
END:STANDARD
BEGIN:DAYLIGHT
TZOFFSETFROM:-0700
TZOFFSETTO:-0600
TZNAME:MDT
DTSTART:20250309T090000
END:DAYLIGHT
BEGIN:STANDARD
TZOFFSETFROM:-0600
TZOFFSETTO:-0700
TZNAME:MST
DTSTART:20251102T080000
END:STANDARD
BEGIN:DAYLIGHT
TZOFFSETFROM:-0700
TZOFFSETTO:-0600
TZNAME:MDT
DTSTART:20260308T090000
END:DAYLIGHT
BEGIN:STANDARD
TZOFFSETFROM:-0600
TZOFFSETTO:-0700
TZNAME:MST
DTSTART:20261101T080000
END:STANDARD
END:VTIMEZONE
BEGIN:VEVENT
DTSTART;TZID=America/Denver:20250418T073000
DTEND;TZID=America/Denver:20250418T090000
DTSTAMP:20260424T005057
CREATED:20250319T225252Z
LAST-MODIFIED:20250416T234109Z
UID:10006000-1744961400-1744966800@dev.utahrecovers.org
SUMMARY:Active Recovery (In person)
DESCRIPTION:
URL:https://dev.utahrecovers.org/meeting/active-recovery-in-person-86/
LOCATION:Utah Support Advocates for Recovery Awareness – USARA – Moab\, 23 S 100 W\, Moab\, UT\, United States
CATEGORIES:Moab Recovery Community Center
GEO:38.57309;-109.552616
X-APPLE-STRUCTURED-LOCATION;VALUE=URI;X-ADDRESS=Utah Support Advocates for Recovery Awareness – USARA – Moab 23 S 100 W Moab UT United States;X-APPLE-RADIUS=500;X-TITLE=23 S 100 W:geo:-109.552616,38.57309
END:VEVENT
BEGIN:VEVENT
DTSTART;TZID=America/Denver:20250418T100000
DTEND;TZID=America/Denver:20250418T110000
DTSTAMP:20260424T005057
CREATED:20250319T094209Z
LAST-MODIFIED:20250416T105211Z
UID:10005992-1744970400-1744974000@dev.utahrecovers.org
SUMMARY:SMART Recovery (In person)
DESCRIPTION:Self Management and Recovery Training \nContact USARA at (385) 263-1600
URL:https://dev.utahrecovers.org/meeting/smart-recovery-in-person-46/
LOCATION:Utah Support Advocates for Recovery Awareness – USARA – Ogden\, 893 24th St\, Ogden\, UT\, United States
CATEGORIES:Ogden Recovery Community Center
GEO:41.222498;-111.956726
X-APPLE-STRUCTURED-LOCATION;VALUE=URI;X-ADDRESS=Utah Support Advocates for Recovery Awareness – USARA – Ogden 893 24th St Ogden UT United States;X-APPLE-RADIUS=500;X-TITLE=893 24th St:geo:-111.956726,41.222498
END:VEVENT
BEGIN:VEVENT
DTSTART;TZID=America/Denver:20250418T100000
DTEND;TZID=America/Denver:20250418T110000
DTSTAMP:20260424T005057
CREATED:20250319T225252Z
LAST-MODIFIED:20250416T234110Z
UID:10006002-1744970400-1744974000@dev.utahrecovers.org
SUMMARY:Yoga (In person)
DESCRIPTION:
URL:https://dev.utahrecovers.org/meeting/yoga-in-person-46/
LOCATION:Utah Support Advocates for Recovery Awareness – USARA – Moab\, 23 S 100 W\, Moab\, UT\, United States
CATEGORIES:Moab Recovery Community Center
GEO:38.57309;-109.552616
X-APPLE-STRUCTURED-LOCATION;VALUE=URI;X-ADDRESS=Utah Support Advocates for Recovery Awareness – USARA – Moab 23 S 100 W Moab UT United States;X-APPLE-RADIUS=500;X-TITLE=23 S 100 W:geo:-109.552616,38.57309
END:VEVENT
BEGIN:VEVENT
DTSTART;TZID=America/Denver:20250418T110000
DTEND;TZID=America/Denver:20250418T120000
DTSTAMP:20260424T005057
CREATED:20250319T064346Z
LAST-MODIFIED:20250416T114126Z
UID:10005989-1744974000-1744977600@dev.utahrecovers.org
SUMMARY:Coffee & Recovery (Hybrid - join virtually or in person!)
DESCRIPTION:Join with Google Meet: https://meet.google.com/hrb-awdg-zmdOr dial: (US) +1 508-506-1551 PIN: 141472344#More phone numbers: https://tel.meet/hrb-awdg-zmd?pin=1300156360240&hs=7 \nLearn more about Meet at: https://support.google.com/a/users/answer/9282720
URL:https://dev.utahrecovers.org/meeting/coffee-recovery-hybrid-join-virtually-or-in-person-321/
LOCATION:Utah Support Advocates for Recovery Awareness – USARA – Moab\, 23 S 100 W\, Moab\, UT\, United States
CATEGORIES:Virtual Meetings
GEO:38.57309;-109.552616
X-APPLE-STRUCTURED-LOCATION;VALUE=URI;X-ADDRESS=Utah Support Advocates for Recovery Awareness – USARA – Moab 23 S 100 W Moab UT United States;X-APPLE-RADIUS=500;X-TITLE=23 S 100 W:geo:-109.552616,38.57309
END:VEVENT
BEGIN:VEVENT
DTSTART;TZID=America/Denver:20250418T110000
DTEND;TZID=America/Denver:20250418T120000
DTSTAMP:20260424T005057
CREATED:20250319T225252Z
LAST-MODIFIED:20250416T234110Z
UID:10006001-1744974000-1744977600@dev.utahrecovers.org
SUMMARY:Coffee & Recovery (Hybrid - join online or in person!)
DESCRIPTION:Join with Google Meet: https://meet.google.com/hrb-awdg-zmdOr dial: (US) +1 508-506-1551 PIN: 141472344#More phone numbers: https://tel.meet/hrb-awdg-zmd?pin=1300156360240&hs=7 \nLearn more about Meet at: https://support.google.com/a/users/answer/9282720
URL:https://dev.utahrecovers.org/meeting/coffee-recovery-hybrid-join-online-or-in-person-93/
LOCATION:Utah Support Advocates for Recovery Awareness – USARA – Moab\, 23 S 100 W\, Moab\, UT 84532\, USA\, Moab RCC-1-Group Room (20)
CATEGORIES:Moab Recovery Community Center
END:VEVENT
BEGIN:VEVENT
DTSTART;TZID=America/Denver:20250418T120000
DTEND;TZID=America/Denver:20250418T130000
DTSTAMP:20260424T005057
CREATED:20250319T054401Z
LAST-MODIFIED:20250416T102028Z
UID:10005985-1744977600-1744981200@dev.utahrecovers.org
SUMMARY:Recovery Dharma (Hybrid - join virtually or in person!)
DESCRIPTION:https://us02web.zoom.us/j/2361179850?pwd=NXhUUDNsUUpWYTNxdkhIOUcwNEhSUT09 \nContacts \n\nSteve Slater\n\nemail: slater.stevej@gmail.com
URL:https://dev.utahrecovers.org/meeting/recovery-dharma-hybrid-join-virtually-or-in-person-320/
LOCATION:Utah Support Advocates for Recovery Awareness – USARA\, 180 E 2100 S #100\, Salt Lake City\, UT 84115\, USA\, SLC RCC-1-Suite 100-Suite 100 Group Room (50)
CATEGORIES:Salt Lake Recovery Community Center
END:VEVENT
BEGIN:VEVENT
DTSTART;TZID=America/Denver:20250418T120000
DTEND;TZID=America/Denver:20250418T130000
DTSTAMP:20260424T005057
CREATED:20250319T064346Z
LAST-MODIFIED:20250416T114126Z
UID:10005988-1744977600-1744981200@dev.utahrecovers.org
SUMMARY:Recovery Dharma (Hybrid - join virtually or in person!)
DESCRIPTION:https://us02web.zoom.us/j/2361179850?pwd=NXhUUDNsUUpWYTNxdkhIOUcwNEhSUT09 \nContacts \n\nSteve\n\nemail: slater.stevej@gmail.com
URL:https://dev.utahrecovers.org/meeting/recovery-dharma-hybrid-join-virtually-or-in-person-321/
LOCATION:Utah Support Advocates for Recovery Awareness – USARA\, 180 E 2100 S\, Salt Lake City\, UT\, United States
CATEGORIES:Virtual Meetings
GEO:40.725365;-111.885934
X-APPLE-STRUCTURED-LOCATION;VALUE=URI;X-ADDRESS=Utah Support Advocates for Recovery Awareness – USARA 180 E 2100 S Salt Lake City UT United States;X-APPLE-RADIUS=500;X-TITLE=180 E 2100 S:geo:-111.885934,40.725365
END:VEVENT
BEGIN:VEVENT
DTSTART;TZID=America/Denver:20250418T180000
DTEND;TZID=America/Denver:20250418T190000
DTSTAMP:20260424T005057
CREATED:20250320T182137Z
LAST-MODIFIED:20250416T202009Z
UID:10006011-1744999200-1745002800@dev.utahrecovers.org
SUMMARY:Recovery Dharma (In person)
DESCRIPTION:A mindfulness-based addiction recovery community that practices and utilizes Buddhist philosophy as the foundation of the recovery process. \nContact \n\nJustin Ward\n\nphone: (801) 389-2715
URL:https://dev.utahrecovers.org/meeting/recovery-dharma-in-person-138/
LOCATION:Utah Support Advocates for Recovery Awareness – USARA – St. George\, 113 E 200 N\, Saint George\, UT\, United States
CATEGORIES:St George Recovery Community Center
GEO:37.111634;-113.581023
X-APPLE-STRUCTURED-LOCATION;VALUE=URI;X-ADDRESS=Utah Support Advocates for Recovery Awareness – USARA – St. George 113 E 200 N Saint George UT United States;X-APPLE-RADIUS=500;X-TITLE=113 E 200 N:geo:-113.581023,37.111634
END:VEVENT
BEGIN:VEVENT
DTSTART;TZID=America/Denver:20250418T190000
DTEND;TZID=America/Denver:20250418T200000
DTSTAMP:20260424T005057
CREATED:20250320T094210Z
LAST-MODIFIED:20250416T105211Z
UID:10006010-1745002800-1745006400@dev.utahrecovers.org
SUMMARY:Cocaine Anonymous Friday Night Few (In person)
DESCRIPTION:
URL:https://dev.utahrecovers.org/meeting/cocaine-anonymous-friday-night-few-in-person-46/
LOCATION:Utah Support Advocates for Recovery Awareness – USARA – Ogden\, 893 24th St\, Ogden\, UT\, United States
CATEGORIES:Ogden Recovery Community Center
GEO:41.222498;-111.956726
X-APPLE-STRUCTURED-LOCATION;VALUE=URI;X-ADDRESS=Utah Support Advocates for Recovery Awareness – USARA – Ogden 893 24th St Ogden UT United States;X-APPLE-RADIUS=500;X-TITLE=893 24th St:geo:-111.956726,41.222498
END:VEVENT
BEGIN:VEVENT
DTSTART;TZID=America/Denver:20250418T190000
DTEND;TZID=America/Denver:20250418T200000
DTSTAMP:20260424T005057
CREATED:20250325T062240Z
LAST-MODIFIED:20250416T102028Z
UID:10006062-1745002800-1745006400@dev.utahrecovers.org
SUMMARY:Young People in Recovery (In person)
DESCRIPTION:
URL:https://dev.utahrecovers.org/meeting/young-people-in-recovery-in-person-32/
LOCATION:SLC RCC-2-Suite 203-Suite 203 Group Room (40)
CATEGORIES:Salt Lake Recovery Community Center
END:VEVENT
BEGIN:VEVENT
DTSTART;TZID=America/Denver:20250418T200000
DTEND;TZID=America/Denver:20250418T210000
DTSTAMP:20260424T005057
CREATED:20250320T054351Z
LAST-MODIFIED:20250416T102028Z
UID:10006003-1745006400-1745010000@dev.utahrecovers.org
SUMMARY:Leather\, Fetish\, and Kink in Recovery CMA (In person)
DESCRIPTION:Contacts \n\nJames Jordan Greenwell\n\ncell: (435) 901-7678\nemail: greenwelljordan@gmail.com
URL:https://dev.utahrecovers.org/meeting/leather-fetish-and-kink-in-recovery-cma-in-person-46/
LOCATION:Utah Support Advocates for Recovery Awareness – USARA\, 180 E 2100 S #100\, Salt Lake City\, UT 84115\, USA\, SLC RCC-2-Suite 203-Suite 203 Group Room (40)
CATEGORIES:Salt Lake Recovery Community Center
END:VEVENT
END:VCALENDAR